BEGIN:VCALENDAR
VERSION:2.0
PRODID:-//Grace Episcopal Church, Amherst MA - ECPv6.15.20//NONSGML v1.0//EN
CALSCALE:GREGORIAN
METHOD:PUBLISH
X-WR-CALNAME:Grace Episcopal Church, Amherst MA
X-ORIGINAL-URL:https://www.gracechurchamherst.org
X-WR-CALDESC:Events for Grace Episcopal Church, Amherst MA
REFRESH-INTERVAL;VALUE=DURATION:PT1H
X-Robots-Tag:noindex
X-PUBLISHED-TTL:PT1H
BEGIN:VTIMEZONE
TZID:America/New_York
BEGIN:DAYLIGHT
TZOFFSETFROM:-0500
TZOFFSETTO:-0400
TZNAME:EDT
DTSTART:20220313T070000
END:DAYLIGHT
BEGIN:STANDARD
TZOFFSETFROM:-0400
TZOFFSETTO:-0500
TZNAME:EST
DTSTART:20221106T060000
END:STANDARD
BEGIN:DAYLIGHT
TZOFFSETFROM:-0500
TZOFFSETTO:-0400
TZNAME:EDT
DTSTART:20230312T070000
END:DAYLIGHT
BEGIN:STANDARD
TZOFFSETFROM:-0400
TZOFFSETTO:-0500
TZNAME:EST
DTSTART:20231105T060000
END:STANDARD
BEGIN:DAYLIGHT
TZOFFSETFROM:-0500
TZOFFSETTO:-0400
TZNAME:EDT
DTSTART:20240310T070000
END:DAYLIGHT
BEGIN:STANDARD
TZOFFSETFROM:-0400
TZOFFSETTO:-0500
TZNAME:EST
DTSTART:20241103T060000
END:STANDARD
END:VTIMEZONE
BEGIN:VEVENT
DTSTART;TZID=America/New_York:20230501T100000
DTEND;TZID=America/New_York:20230501T103000
DTSTAMP:20260421T162823
CREATED:20230419T184513Z
LAST-MODIFIED:20230419T184513Z
UID:21392-1682935200-1682937000@www.gracechurchamherst.org
SUMMARY:Staff Meeting
DESCRIPTION:
URL:https://www.gracechurchamherst.org/event/staff-meeting-30/
END:VEVENT
BEGIN:VEVENT
DTSTART;TZID=America/New_York:20230501T190000
DTEND;TZID=America/New_York:20230501T200000
DTSTAMP:20260421T162823
CREATED:20230414T162631Z
LAST-MODIFIED:20230414T162631Z
UID:21336-1682967600-1682971200@www.gracechurchamherst.org
SUMMARY:AA Meeting
DESCRIPTION:
URL:https://www.gracechurchamherst.org/event/aa-meeting-408/
LOCATION:Parish Hall\, Spring Street
END:VEVENT
BEGIN:VEVENT
DTSTART;TZID=America/New_York:20230502T171500
DTEND;TZID=America/New_York:20230502T181500
DTSTAMP:20260421T162823
CREATED:20230419T184700Z
LAST-MODIFIED:20230419T184700Z
UID:21396-1683047700-1683051300@www.gracechurchamherst.org
SUMMARY:AA Meeting
DESCRIPTION:
URL:https://www.gracechurchamherst.org/event/aa-meeting-412/
LOCATION:Parish Hall\, Spring Street
END:VEVENT
BEGIN:VEVENT
DTSTART;TZID=America/New_York:20230502T190000
DTEND;TZID=America/New_York:20230502T200000
DTSTAMP:20260421T162823
CREATED:20230414T164601Z
LAST-MODIFIED:20230414T164601Z
UID:21346-1683054000-1683057600@www.gracechurchamherst.org
SUMMARY:Alanon
DESCRIPTION:
URL:https://www.gracechurchamherst.org/event/alanon-65/
LOCATION:Parish Hall\, Spring Street
END:VEVENT
BEGIN:VEVENT
DTSTART;TZID=America/New_York:20230503T121000
DTEND;TZID=America/New_York:20230503T130000
DTSTAMP:20260421T162823
CREATED:20230414T165215Z
LAST-MODIFIED:20230414T165215Z
UID:21361-1683115800-1683118800@www.gracechurchamherst.org
SUMMARY:Holy Eucharist according to Rite I with Healing Prayer
DESCRIPTION:
URL:https://www.gracechurchamherst.org/event/holy-eucharist-according-to-rite-i-with-healing-prayer-35/
LOCATION:Sanctuary
END:VEVENT
BEGIN:VEVENT
DTSTART;TZID=America/New_York:20230504T143000
DTEND;TZID=America/New_York:20230504T163000
DTSTAMP:20260421T162823
CREATED:20230421T150003Z
LAST-MODIFIED:20230421T150003Z
UID:21412-1683210600-1683217800@www.gracechurchamherst.org
SUMMARY:Tea & Titles
DESCRIPTION:
URL:https://www.gracechurchamherst.org/event/tea-titles-23/
LOCATION:Connector
END:VEVENT
BEGIN:VEVENT
DTSTART;TZID=America/New_York:20230504T193000
DTEND;TZID=America/New_York:20230504T213000
DTSTAMP:20260421T162823
CREATED:20230421T150344Z
LAST-MODIFIED:20230421T150344Z
UID:21420-1683228600-1683235800@www.gracechurchamherst.org
SUMMARY:Choir Rehearsal
DESCRIPTION:
URL:https://www.gracechurchamherst.org/event/choir-rehearsal-32/
LOCATION:Sanctuary
END:VEVENT
BEGIN:VEVENT
DTSTART;TZID=America/New_York:20230505T173000
DTEND;TZID=America/New_York:20230505T183000
DTSTAMP:20260421T162823
CREATED:20230421T150821Z
LAST-MODIFIED:20230421T150821Z
UID:21422-1683307800-1683311400@www.gracechurchamherst.org
SUMMARY:Evensong
DESCRIPTION:
URL:https://www.gracechurchamherst.org/event/evensong-78/
LOCATION:Sanctuary
END:VEVENT
BEGIN:VEVENT
DTSTART;TZID=America/New_York:20230506T100000
DTEND;TZID=America/New_York:20230506T110000
DTSTAMP:20260421T162823
CREATED:20230419T183448Z
LAST-MODIFIED:20230419T183448Z
UID:21374-1683367200-1683370800@www.gracechurchamherst.org
SUMMARY:Zoom Bible Study
DESCRIPTION:
URL:https://www.gracechurchamherst.org/event/zoom-bible-study-100/
END:VEVENT
BEGIN:VEVENT
DTSTART;TZID=America/New_York:20230506T140000
DTEND;TZID=America/New_York:20230506T160000
DTSTAMP:20260421T162823
CREATED:20230505T145620Z
LAST-MODIFIED:20230505T145620Z
UID:21435-1683381600-1683388800@www.gracechurchamherst.org
SUMMARY:Poets’ Theology: A Book Launch Event
DESCRIPTION:Megan’s first full-length poetry collection\, Jesus Merch: A Catalog in Poems\, was published this spring by Fernwood Press\, the poetry imprint of a Quaker publisher based in Oregon. . To celebrate and share with the congregation\, Megan will offer a reading from her book alongside a poet whose work is also deeply theological\, Boston-area post Matthew E. Henry.\nIn Jesus Merch\, Christian games and toys\, Sunday School supplies\, and religious home decor serve as springboards for meditations on a variety of topics\, including both large-scale theological concepts and more personal experiences. Matthew E. Henry is the author of the Colored page (Sundress Publication\, 2022)\, Teaching While Black (Main Street Rag\, 2020)\, Dust & Ashes (Californios Press\, 2020) and the forthcoming The Third Renunciation (New York Quarterly Books)\, a book of theological sonnets. Henry holds an MFA\, an MA in Theology\, and a Ph.D. in Education and has taught at the high school\, college\, and graduate levels. His writing explores\, among other topics\, race\, religion\, relationships\, and education. \nThe event will be in the church at 2 p.m. Refreshments to follow in the Connector\, where books will be optionally available for purchase and signing
URL:https://www.gracechurchamherst.org/event/poets-theology-a-book-launch-event/
LOCATION:Sanctuary
END:VEVENT
BEGIN:VEVENT
DTSTART;TZID=America/New_York:20230506T170000
DTEND;TZID=America/New_York:20230506T180000
DTSTAMP:20260421T162823
CREATED:20230412T180702Z
LAST-MODIFIED:20230412T180702Z
UID:21324-1683392400-1683396000@www.gracechurchamherst.org
SUMMARY:AA Meeting
DESCRIPTION:
URL:https://www.gracechurchamherst.org/event/aa-meeting-404/
LOCATION:Parish Hall\, Spring Street
END:VEVENT
BEGIN:VEVENT
DTSTART;TZID=America/New_York:20230506T193000
DTEND;TZID=America/New_York:20230506T213000
DTSTAMP:20260421T162823
CREATED:20230505T145900Z
LAST-MODIFIED:20230505T145900Z
UID:21437-1683401400-1683408600@www.gracechurchamherst.org
SUMMARY:Concert - Pioneer Valley Cappella
DESCRIPTION:
URL:https://www.gracechurchamherst.org/event/concert-pioneer-valley-cappella/
LOCATION:Sanctuary
END:VEVENT
BEGIN:VEVENT
DTSTART;TZID=America/New_York:20230506T200000
DTEND;TZID=America/New_York:20230506T210000
DTSTAMP:20260421T162823
CREATED:20230505T150002Z
LAST-MODIFIED:20230505T150002Z
UID:21440-1683403200-1683406800@www.gracechurchamherst.org
SUMMARY:AA Meeting
DESCRIPTION:
URL:https://www.gracechurchamherst.org/event/aa-meeting-413/
LOCATION:Parish Hall\, Spring Street
END:VEVENT
BEGIN:VEVENT
DTSTART;TZID=America/New_York:20230507T093000
DTEND;TZID=America/New_York:20230507T103000
DTSTAMP:20260421T162823
CREATED:20230505T150220Z
LAST-MODIFIED:20230505T150614Z
UID:21446-1683451800-1683455400@www.gracechurchamherst.org
SUMMARY:Holy Eucharist
DESCRIPTION:A special service with Bishop Doug Fisher at 9:30 a.m.\nBishop Doug is visiting Grace\, and it’s always a delight to have him with us.  There will be confirmation and reaffirmation.  We hope you can join us for this special occasion.  Please note that this will be the only service that Sunday.
URL:https://www.gracechurchamherst.org/event/holy-eucharist-179/
LOCATION:Sanctuary
END:VEVENT
BEGIN:VEVENT
DTSTART;TZID=America/New_York:20230507T120000
DTEND;TZID=America/New_York:20230507T170000
DTSTAMP:20260421T162823
CREATED:20230505T150420Z
LAST-MODIFIED:20230505T150420Z
UID:21450-1683460800-1683478800@www.gracechurchamherst.org
SUMMARY:Iconography
DESCRIPTION:
URL:https://www.gracechurchamherst.org/event/iconography-25/
LOCATION:Parish Hall\, Spring Street
END:VEVENT
BEGIN:VEVENT
DTSTART;TZID=America/New_York:20230507T150000
DTEND;TZID=America/New_York:20230507T170000
DTSTAMP:20260421T162823
CREATED:20230505T150509Z
LAST-MODIFIED:20230505T150509Z
UID:21452-1683471600-1683478800@www.gracechurchamherst.org
SUMMARY:Memorial Concert in honor of Dr. Lewis Spratlan
DESCRIPTION:
URL:https://www.gracechurchamherst.org/event/memorial-concert-in-honor-of-dr-lewis-spratlan/
LOCATION:Sanctuary
END:VEVENT
BEGIN:VEVENT
DTSTART;TZID=America/New_York:20230507T193000
DTEND;TZID=America/New_York:20230507T203000
DTSTAMP:20260421T162823
CREATED:20230407T141614Z
LAST-MODIFIED:20230407T141614Z
UID:21231-1683487800-1683491400@www.gracechurchamherst.org
SUMMARY:AA Meeting
DESCRIPTION:
URL:https://www.gracechurchamherst.org/event/aa-meeting-398/
LOCATION:Parish Hall\, Spring Street
END:VEVENT
BEGIN:VEVENT
DTSTART;TZID=America/New_York:20230508T100000
DTEND;TZID=America/New_York:20230508T103000
DTSTAMP:20260421T162823
CREATED:20230419T184545Z
LAST-MODIFIED:20230419T184545Z
UID:21394-1683540000-1683541800@www.gracechurchamherst.org
SUMMARY:Staff Meeting
DESCRIPTION:
URL:https://www.gracechurchamherst.org/event/staff-meeting-31/
END:VEVENT
BEGIN:VEVENT
DTSTART;TZID=America/New_York:20230508T190000
DTEND;TZID=America/New_York:20230508T200000
DTSTAMP:20260421T162823
CREATED:20230414T164240Z
LAST-MODIFIED:20230414T164240Z
UID:21338-1683572400-1683576000@www.gracechurchamherst.org
SUMMARY:AA Meeting
DESCRIPTION:
URL:https://www.gracechurchamherst.org/event/aa-meeting-409/
LOCATION:Parish Hall\, Spring Street
END:VEVENT
BEGIN:VEVENT
DTSTART;TZID=America/New_York:20230509T100000
DTEND;TZID=America/New_York:20230509T110000
DTSTAMP:20260421T162823
CREATED:20221212T185615Z
LAST-MODIFIED:20221212T185615Z
UID:20289-1683626400-1683630000@www.gracechurchamherst.org
SUMMARY:Raising the Questions
DESCRIPTION:
URL:https://www.gracechurchamherst.org/event/raising-the-questions-9/
LOCATION:Connector
END:VEVENT
BEGIN:VEVENT
DTSTART;TZID=America/New_York:20230509T171500
DTEND;TZID=America/New_York:20230509T181500
DTSTAMP:20260421T162823
CREATED:20230508T174343Z
LAST-MODIFIED:20230508T174343Z
UID:21472-1683652500-1683656100@www.gracechurchamherst.org
SUMMARY:AA Meeting
DESCRIPTION:
URL:https://www.gracechurchamherst.org/event/aa-meeting-416/
LOCATION:Parish Hall\, Spring Street
END:VEVENT
BEGIN:VEVENT
DTSTART;TZID=America/New_York:20230509T190000
DTEND;TZID=America/New_York:20230509T200000
DTSTAMP:20260421T162823
CREATED:20230414T164633Z
LAST-MODIFIED:20230414T164633Z
UID:21348-1683658800-1683662400@www.gracechurchamherst.org
SUMMARY:Alanon
DESCRIPTION:
URL:https://www.gracechurchamherst.org/event/alanon-66/
LOCATION:Parish Hall\, Spring Street
END:VEVENT
BEGIN:VEVENT
DTSTART;TZID=America/New_York:20230510T121000
DTEND;TZID=America/New_York:20230510T130000
DTSTAMP:20260421T162823
CREATED:20230508T173804Z
LAST-MODIFIED:20230508T173804Z
UID:21460-1683720600-1683723600@www.gracechurchamherst.org
SUMMARY:Holy Eucharist according to Rite I with Healing Prayer
DESCRIPTION:
URL:https://www.gracechurchamherst.org/event/holy-eucharist-according-to-rite-i-with-healing-prayer-36/
LOCATION:Sanctuary
END:VEVENT
BEGIN:VEVENT
DTSTART;TZID=America/New_York:20230511T110000
DTEND;TZID=America/New_York:20230511T113000
DTSTAMP:20260421T162823
CREATED:20230303T174153Z
LAST-MODIFIED:20230303T174153Z
UID:20945-1683802800-1683804600@www.gracechurchamherst.org
SUMMARY:Bell Ringing for Climate Change
DESCRIPTION:
URL:https://www.gracechurchamherst.org/event/bell-ringing-for-climate-change-3/
LOCATION:Front Lawn\, 14 Boltwood Ave.\, Amherst\, MA\, 01002\, United States
END:VEVENT
BEGIN:VEVENT
DTSTART;TZID=America/New_York:20230511T173000
DTEND;TZID=America/New_York:20230511T193000
DTSTAMP:20260421T162823
CREATED:20230307T184812Z
LAST-MODIFIED:20230307T184812Z
UID:20991-1683826200-1683833400@www.gracechurchamherst.org
SUMMARY:Executive Committee
DESCRIPTION:
URL:https://www.gracechurchamherst.org/event/executive-committee-3/
END:VEVENT
BEGIN:VEVENT
DTSTART;TZID=America/New_York:20230511T193000
DTEND;TZID=America/New_York:20230511T213000
DTSTAMP:20260421T162823
CREATED:20230509T145649Z
LAST-MODIFIED:20230509T145649Z
UID:21550-1683833400-1683840600@www.gracechurchamherst.org
SUMMARY:Choir Rehearsal
DESCRIPTION:
URL:https://www.gracechurchamherst.org/event/choir-rehearsal-33/
LOCATION:Sanctuary
END:VEVENT
BEGIN:VEVENT
DTSTART;TZID=America/New_York:20230512T070000
DTEND;TZID=America/New_York:20230512T083000
DTSTAMP:20260421T162823
CREATED:20230412T180450Z
LAST-MODIFIED:20230412T180450Z
UID:21318-1683874800-1683880200@www.gracechurchamherst.org
SUMMARY:Men's Group
DESCRIPTION:
URL:https://www.gracechurchamherst.org/event/mens-group-49/
LOCATION:Parker Room
END:VEVENT
BEGIN:VEVENT
DTSTART;TZID=America/New_York:20230512T173000
DTEND;TZID=America/New_York:20230512T183000
DTSTAMP:20260421T162823
CREATED:20230508T175101Z
LAST-MODIFIED:20230508T175101Z
UID:21484-1683912600-1683916200@www.gracechurchamherst.org
SUMMARY:Evensong
DESCRIPTION:
URL:https://www.gracechurchamherst.org/event/evensong-79/
LOCATION:Sanctuary
END:VEVENT
BEGIN:VEVENT
DTSTART;TZID=America/New_York:20230513T090000
DTEND;TZID=America/New_York:20230513T120000
DTSTAMP:20260421T162823
CREATED:20230508T175636Z
LAST-MODIFIED:20230508T175731Z
UID:21492-1683968400-1683979200@www.gracechurchamherst.org
SUMMARY:Garden Ministry - Mulching
DESCRIPTION:
URL:https://www.gracechurchamherst.org/event/garden-ministry-mulching/
END:VEVENT
BEGIN:VEVENT
DTSTART;TZID=America/New_York:20230513T100000
DTEND;TZID=America/New_York:20230513T110000
DTSTAMP:20260421T162823
CREATED:20230419T183514Z
LAST-MODIFIED:20230419T183514Z
UID:21376-1683972000-1683975600@www.gracechurchamherst.org
SUMMARY:Zoom Bible Study
DESCRIPTION:
URL:https://www.gracechurchamherst.org/event/zoom-bible-study-101/
END:VEVENT
END:VCALENDAR