BEGIN:VCALENDAR
VERSION:2.0
PRODID:-//Grace Episcopal Church, Amherst MA - ECPv6.15.20//NONSGML v1.0//EN
CALSCALE:GREGORIAN
METHOD:PUBLISH
X-ORIGINAL-URL:https://www.gracechurchamherst.org
X-WR-CALDESC:Events for Grace Episcopal Church, Amherst MA
REFRESH-INTERVAL;VALUE=DURATION:PT1H
X-Robots-Tag:noindex
X-PUBLISHED-TTL:PT1H
BEGIN:VTIMEZONE
TZID:America/New_York
BEGIN:DAYLIGHT
TZOFFSETFROM:-0500
TZOFFSETTO:-0400
TZNAME:EDT
DTSTART:20220313T070000
END:DAYLIGHT
BEGIN:STANDARD
TZOFFSETFROM:-0400
TZOFFSETTO:-0500
TZNAME:EST
DTSTART:20221106T060000
END:STANDARD
BEGIN:DAYLIGHT
TZOFFSETFROM:-0500
TZOFFSETTO:-0400
TZNAME:EDT
DTSTART:20230312T070000
END:DAYLIGHT
BEGIN:STANDARD
TZOFFSETFROM:-0400
TZOFFSETTO:-0500
TZNAME:EST
DTSTART:20231105T060000
END:STANDARD
BEGIN:DAYLIGHT
TZOFFSETFROM:-0500
TZOFFSETTO:-0400
TZNAME:EDT
DTSTART:20240310T070000
END:DAYLIGHT
BEGIN:STANDARD
TZOFFSETFROM:-0400
TZOFFSETTO:-0500
TZNAME:EST
DTSTART:20241103T060000
END:STANDARD
END:VTIMEZONE
BEGIN:VEVENT
DTSTART;TZID=America/New_York:20230901T070000
DTEND;TZID=America/New_York:20230901T083000
DTSTAMP:20260421T103109
CREATED:20230707T184139Z
LAST-MODIFIED:20230707T184139Z
UID:22158-1693551600-1693557000@www.gracechurchamherst.org
SUMMARY:Men's Group (Live and Zoom)
DESCRIPTION:
URL:https://www.gracechurchamherst.org/event/mens-group-live-and-zoom-7/
LOCATION:Parker Room
END:VEVENT
BEGIN:VEVENT
DTSTART;TZID=America/New_York:20230901T173000
DTEND;TZID=America/New_York:20230901T183000
DTSTAMP:20260421T103109
CREATED:20230721T153710Z
LAST-MODIFIED:20230721T153710Z
UID:22252-1693589400-1693593000@www.gracechurchamherst.org
SUMMARY:Evensong
DESCRIPTION:
URL:https://www.gracechurchamherst.org/event/evensong-95/
LOCATION:Chapel
END:VEVENT
BEGIN:VEVENT
DTSTART;TZID=America/New_York:20230902T170000
DTEND;TZID=America/New_York:20230902T180000
DTSTAMP:20260421T103109
CREATED:20230728T162005Z
LAST-MODIFIED:20230728T162005Z
UID:22324-1693674000-1693677600@www.gracechurchamherst.org
SUMMARY:AA Meeting
DESCRIPTION:
URL:https://www.gracechurchamherst.org/event/aa-meeting-490/
LOCATION:Parish Hall\, Spring Street
END:VEVENT
BEGIN:VEVENT
DTSTART;TZID=America/New_York:20230902T200000
DTEND;TZID=America/New_York:20230902T210000
DTSTAMP:20260421T103109
CREATED:20230721T155223Z
LAST-MODIFIED:20230721T155223Z
UID:22264-1693684800-1693688400@www.gracechurchamherst.org
SUMMARY:AA Meeting
DESCRIPTION:
URL:https://www.gracechurchamherst.org/event/aa-meeting-484/
LOCATION:Parish Hall\, Spring Street
END:VEVENT
BEGIN:VEVENT
DTSTART;TZID=America/New_York:20230903T093000
DTEND;TZID=America/New_York:20230903T103000
DTSTAMP:20260421T103109
CREATED:20230811T150508Z
LAST-MODIFIED:20230811T150508Z
UID:22395-1693733400-1693737000@www.gracechurchamherst.org
SUMMARY:Holy Eucharist
DESCRIPTION:
URL:https://www.gracechurchamherst.org/event/holy-eucharist-193/
LOCATION:Sanctuary
END:VEVENT
BEGIN:VEVENT
DTSTART;TZID=America/New_York:20230903T103000
DTEND;TZID=America/New_York:20230903T113000
DTSTAMP:20260421T103109
CREATED:20230721T155554Z
LAST-MODIFIED:20230721T155554Z
UID:22274-1693737000-1693740600@www.gracechurchamherst.org
SUMMARY:Coffee Hour
DESCRIPTION:
URL:https://www.gracechurchamherst.org/event/coffee-hour-164/
LOCATION:Connector
END:VEVENT
BEGIN:VEVENT
DTSTART;TZID=America/New_York:20230903T120000
DTEND;TZID=America/New_York:20230903T170000
DTSTAMP:20260421T103109
CREATED:20230804T143051Z
LAST-MODIFIED:20230804T143051Z
UID:22364-1693742400-1693760400@www.gracechurchamherst.org
SUMMARY:Iconography
DESCRIPTION:
URL:https://www.gracechurchamherst.org/event/iconography-77/
LOCATION:Parish Hall\, Spring Street
END:VEVENT
BEGIN:VEVENT
DTSTART;TZID=America/New_York:20230903T193000
DTEND;TZID=America/New_York:20230903T203000
DTSTAMP:20260421T103109
CREATED:20230811T150706Z
LAST-MODIFIED:20230811T150706Z
UID:22399-1693769400-1693773000@www.gracechurchamherst.org
SUMMARY:AA Meeting
DESCRIPTION:
URL:https://www.gracechurchamherst.org/event/aa-meeting-503/
LOCATION:Parish Hall\, Spring Street
END:VEVENT
BEGIN:VEVENT
DTSTART;VALUE=DATE:20230904
DTEND;VALUE=DATE:20230905
DTSTAMP:20260421T103109
CREATED:20230818T141817Z
LAST-MODIFIED:20230818T141843Z
UID:22405-1693785600-1693871999@www.gracechurchamherst.org
SUMMARY:OFFICE CLOSED - Labor Day
DESCRIPTION:
URL:https://www.gracechurchamherst.org/event/office-closed-labor-day/
END:VEVENT
BEGIN:VEVENT
DTSTART;TZID=America/New_York:20230904T190000
DTEND;TZID=America/New_York:20230904T200000
DTSTAMP:20260421T103109
CREATED:20230811T145351Z
LAST-MODIFIED:20230811T145351Z
UID:22373-1693854000-1693857600@www.gracechurchamherst.org
SUMMARY:AA Meeting
DESCRIPTION:
URL:https://www.gracechurchamherst.org/event/aa-meeting-495/
LOCATION:Parish Hall\, Spring Street
END:VEVENT
BEGIN:VEVENT
DTSTART;TZID=America/New_York:20230905T083000
DTEND;TZID=America/New_York:20230905T093000
DTSTAMP:20260421T103109
CREATED:20230811T150202Z
LAST-MODIFIED:20230811T150202Z
UID:22391-1693902600-1693906200@www.gracechurchamherst.org
SUMMARY:Morning Prayer
DESCRIPTION:
URL:https://www.gracechurchamherst.org/event/morning-prayer-8/
LOCATION:Garth\, 14 Boltwood Ave.\, Amherst\, MA\, 01002\, United States
END:VEVENT
BEGIN:VEVENT
DTSTART;TZID=America/New_York:20230905T171500
DTEND;TZID=America/New_York:20230905T181500
DTSTAMP:20260421T103109
CREATED:20230811T145902Z
LAST-MODIFIED:20230811T145902Z
UID:22383-1693934100-1693937700@www.gracechurchamherst.org
SUMMARY:AA Meeting
DESCRIPTION:
URL:https://www.gracechurchamherst.org/event/aa-meeting-500/
LOCATION:Parish Hall\, Spring Street
END:VEVENT
BEGIN:VEVENT
DTSTART;TZID=America/New_York:20230905T190000
DTEND;TZID=America/New_York:20230905T200000
DTSTAMP:20260421T103109
CREATED:20230804T142853Z
LAST-MODIFIED:20230804T142853Z
UID:22360-1693940400-1693944000@www.gracechurchamherst.org
SUMMARY:Alanon
DESCRIPTION:
URL:https://www.gracechurchamherst.org/event/alanon-84/
LOCATION:Parish Hall\, Spring Street
END:VEVENT
BEGIN:VEVENT
DTSTART;TZID=America/New_York:20230906T121000
DTEND;TZID=America/New_York:20230906T130000
DTSTAMP:20260421T103109
CREATED:20230728T161030Z
LAST-MODIFIED:20230728T161030Z
UID:22308-1694002200-1694005200@www.gracechurchamherst.org
SUMMARY:Holy Eucharist according to Rite I with Healing Prayer
DESCRIPTION:
URL:https://www.gracechurchamherst.org/event/holy-eucharist-according-to-rite-i-with-healing-prayer-94/
LOCATION:Sanctuary
END:VEVENT
BEGIN:VEVENT
DTSTART;TZID=America/New_York:20230907T193000
DTEND;TZID=America/New_York:20230907T210000
DTSTAMP:20260421T103109
CREATED:20230818T142043Z
LAST-MODIFIED:20230818T142043Z
UID:22407-1694115000-1694120400@www.gracechurchamherst.org
SUMMARY:Choir Rehearsal
DESCRIPTION:
URL:https://www.gracechurchamherst.org/event/choir-rehearsal-69/
LOCATION:Sanctuary
END:VEVENT
BEGIN:VEVENT
DTSTART;TZID=America/New_York:20230908T173000
DTEND;TZID=America/New_York:20230908T183000
DTSTAMP:20260421T103109
CREATED:20230721T153748Z
LAST-MODIFIED:20230721T153748Z
UID:22254-1694194200-1694197800@www.gracechurchamherst.org
SUMMARY:Evensong
DESCRIPTION:
URL:https://www.gracechurchamherst.org/event/evensong-96/
LOCATION:Sanctuary
END:VEVENT
BEGIN:VEVENT
DTSTART;TZID=America/New_York:20230909T090000
DTEND;TZID=America/New_York:20230909T100000
DTSTAMP:20260421T103109
CREATED:20230906T191347Z
LAST-MODIFIED:20230906T191347Z
UID:22545-1694250000-1694253600@www.gracechurchamherst.org
SUMMARY:Garden Ministry Meeting
DESCRIPTION:
URL:https://www.gracechurchamherst.org/event/garden-ministry-meeting/
LOCATION:Connector
END:VEVENT
BEGIN:VEVENT
DTSTART;TZID=America/New_York:20230909T170000
DTEND;TZID=America/New_York:20230909T180000
DTSTAMP:20260421T103109
CREATED:20230818T142323Z
LAST-MODIFIED:20230818T142323Z
UID:22415-1694278800-1694282400@www.gracechurchamherst.org
SUMMARY:AA Meeting
DESCRIPTION:
URL:https://www.gracechurchamherst.org/event/aa-meeting-504/
LOCATION:Parish Hall\, Spring Street
END:VEVENT
BEGIN:VEVENT
DTSTART;TZID=America/New_York:20230909T200000
DTEND;TZID=America/New_York:20230909T210000
DTSTAMP:20260421T103109
CREATED:20230721T155250Z
LAST-MODIFIED:20230721T155250Z
UID:22266-1694289600-1694293200@www.gracechurchamherst.org
SUMMARY:AA Meeting
DESCRIPTION:
URL:https://www.gracechurchamherst.org/event/aa-meeting-485/
LOCATION:Parish Hall\, Spring Street
END:VEVENT
BEGIN:VEVENT
DTSTART;TZID=America/New_York:20230910T080000
DTEND;TZID=America/New_York:20230910T090000
DTSTAMP:20260421T103109
CREATED:20230811T150539Z
LAST-MODIFIED:20230818T142534Z
UID:22397-1694332800-1694336400@www.gracechurchamherst.org
SUMMARY:Holy Eucharist
DESCRIPTION:
URL:https://www.gracechurchamherst.org/event/holy-eucharist-194/
LOCATION:Sanctuary
END:VEVENT
BEGIN:VEVENT
DTSTART;TZID=America/New_York:20230910T090000
DTEND;TZID=America/New_York:20230910T100000
DTSTAMP:20260421T103109
CREATED:20230818T142910Z
LAST-MODIFIED:20230818T142910Z
UID:22425-1694336400-1694340000@www.gracechurchamherst.org
SUMMARY:Coffee Hour
DESCRIPTION:
URL:https://www.gracechurchamherst.org/event/coffee-hour-165/
LOCATION:Connector
END:VEVENT
BEGIN:VEVENT
DTSTART;TZID=America/New_York:20230910T091500
DTEND;TZID=America/New_York:20230910T101500
DTSTAMP:20260421T103109
CREATED:20230901T144456Z
LAST-MODIFIED:20230901T144456Z
UID:22519-1694337300-1694340900@www.gracechurchamherst.org
SUMMARY:Sunday School
DESCRIPTION:
URL:https://www.gracechurchamherst.org/event/sunday-school-21/
LOCATION:Parke House on Spring Street
END:VEVENT
BEGIN:VEVENT
DTSTART;TZID=America/New_York:20230910T093000
DTEND;TZID=America/New_York:20230910T100000
DTSTAMP:20260421T103109
CREATED:20230630T142553Z
LAST-MODIFIED:20230630T142553Z
UID:22119-1694338200-1694340000@www.gracechurchamherst.org
SUMMARY:Climate Action@Grace
DESCRIPTION:
URL:https://www.gracechurchamherst.org/event/climate-actiongrace-8/
LOCATION:Fireplace Room in Parke House
END:VEVENT
BEGIN:VEVENT
DTSTART;TZID=America/New_York:20230910T103000
DTEND;TZID=America/New_York:20230910T113000
DTSTAMP:20260421T103109
CREATED:20230818T143033Z
LAST-MODIFIED:20230818T143033Z
UID:22429-1694341800-1694345400@www.gracechurchamherst.org
SUMMARY:Holy Eucharist
DESCRIPTION:
URL:https://www.gracechurchamherst.org/event/holy-eucharist-197/
LOCATION:Sanctuary
END:VEVENT
BEGIN:VEVENT
DTSTART;TZID=America/New_York:20230910T113000
DTEND;TZID=America/New_York:20230910T123000
DTSTAMP:20260421T103109
CREATED:20230821T191719Z
LAST-MODIFIED:20230821T191719Z
UID:22435-1694345400-1694349000@www.gracechurchamherst.org
SUMMARY:Coffee Hour
DESCRIPTION:
URL:https://www.gracechurchamherst.org/event/coffee-hour-167/
LOCATION:Connector
END:VEVENT
BEGIN:VEVENT
DTSTART;TZID=America/New_York:20230910T120000
DTEND;TZID=America/New_York:20230910T130000
DTSTAMP:20260421T103109
CREATED:20230821T192540Z
LAST-MODIFIED:20230821T192540Z
UID:22456-1694347200-1694350800@www.gracechurchamherst.org
SUMMARY:Youth Group
DESCRIPTION:
URL:https://www.gracechurchamherst.org/event/youth-group-10/
LOCATION:Garth\, 14 Boltwood Ave.\, Amherst\, MA\, 01002\, United States
END:VEVENT
BEGIN:VEVENT
DTSTART;TZID=America/New_York:20230910T120000
DTEND;TZID=America/New_York:20230910T133000
DTSTAMP:20260421T103109
CREATED:20230821T192456Z
LAST-MODIFIED:20230821T192456Z
UID:22454-1694347200-1694352600@www.gracechurchamherst.org
SUMMARY:Haiti Ministry Program
DESCRIPTION:
URL:https://www.gracechurchamherst.org/event/haiti-ministry-program/
LOCATION:Parish Hall\, Spring Street
END:VEVENT
BEGIN:VEVENT
DTSTART;TZID=America/New_York:20230910T120000
DTEND;TZID=America/New_York:20230910T170000
DTSTAMP:20260421T103109
CREATED:20230821T192224Z
LAST-MODIFIED:20230821T192224Z
UID:22446-1694347200-1694365200@www.gracechurchamherst.org
SUMMARY:Iconography
DESCRIPTION:
URL:https://www.gracechurchamherst.org/event/iconography-78/
LOCATION:Parish Hall\, Spring Street
END:VEVENT
BEGIN:VEVENT
DTSTART;TZID=America/New_York:20230910T193000
DTEND;TZID=America/New_York:20230910T203000
DTSTAMP:20260421T103109
CREATED:20230901T143752Z
LAST-MODIFIED:20230901T143752Z
UID:22505-1694374200-1694377800@www.gracechurchamherst.org
SUMMARY:AA Meeting
DESCRIPTION:
URL:https://www.gracechurchamherst.org/event/aa-meeting-509/
LOCATION:Parish Hall\, Spring Street
END:VEVENT
BEGIN:VEVENT
DTSTART;TZID=America/New_York:20230911T100000
DTEND;TZID=America/New_York:20230911T103000
DTSTAMP:20260421T103109
CREATED:20230821T192646Z
LAST-MODIFIED:20230821T192646Z
UID:22458-1694426400-1694428200@www.gracechurchamherst.org
SUMMARY:Staff Meeting
DESCRIPTION:
URL:https://www.gracechurchamherst.org/event/staff-meeting-73/
END:VEVENT
END:VCALENDAR