BEGIN:VCALENDAR
VERSION:2.0
PRODID:-//Grace Episcopal Church, Amherst MA - ECPv6.15.20//NONSGML v1.0//EN
CALSCALE:GREGORIAN
METHOD:PUBLISH
X-WR-CALNAME:Grace Episcopal Church, Amherst MA
X-ORIGINAL-URL:https://www.gracechurchamherst.org
X-WR-CALDESC:Events for Grace Episcopal Church, Amherst MA
REFRESH-INTERVAL;VALUE=DURATION:PT1H
X-Robots-Tag:noindex
X-PUBLISHED-TTL:PT1H
BEGIN:VTIMEZONE
TZID:America/New_York
BEGIN:DAYLIGHT
TZOFFSETFROM:-0500
TZOFFSETTO:-0400
TZNAME:EDT
DTSTART:20220313T070000
END:DAYLIGHT
BEGIN:STANDARD
TZOFFSETFROM:-0400
TZOFFSETTO:-0500
TZNAME:EST
DTSTART:20221106T060000
END:STANDARD
BEGIN:DAYLIGHT
TZOFFSETFROM:-0500
TZOFFSETTO:-0400
TZNAME:EDT
DTSTART:20230312T070000
END:DAYLIGHT
BEGIN:STANDARD
TZOFFSETFROM:-0400
TZOFFSETTO:-0500
TZNAME:EST
DTSTART:20231105T060000
END:STANDARD
BEGIN:DAYLIGHT
TZOFFSETFROM:-0500
TZOFFSETTO:-0400
TZNAME:EDT
DTSTART:20240310T070000
END:DAYLIGHT
BEGIN:STANDARD
TZOFFSETFROM:-0400
TZOFFSETTO:-0500
TZNAME:EST
DTSTART:20241103T060000
END:STANDARD
END:VTIMEZONE
BEGIN:VEVENT
DTSTART;TZID=America/New_York:20231101T121000
DTEND;TZID=America/New_York:20231101T130000
DTSTAMP:20260421T071119
CREATED:20230908T144238Z
LAST-MODIFIED:20230908T144238Z
UID:22611-1698840600-1698843600@www.gracechurchamherst.org
SUMMARY:Holy Eucharist according to Rite I with Healing Prayer
DESCRIPTION:
URL:https://www.gracechurchamherst.org/event/holy-eucharist-according-to-rite-i-with-healing-prayer-102/
LOCATION:Sanctuary
END:VEVENT
BEGIN:VEVENT
DTSTART;TZID=America/New_York:20231102T193000
DTEND;TZID=America/New_York:20231102T210000
DTSTAMP:20260421T071119
CREATED:20230908T153403Z
LAST-MODIFIED:20230908T153403Z
UID:22653-1698953400-1698958800@www.gracechurchamherst.org
SUMMARY:Choir Rehearsal
DESCRIPTION:
URL:https://www.gracechurchamherst.org/event/choir-rehearsal-76/
LOCATION:Sanctuary
END:VEVENT
BEGIN:VEVENT
DTSTART;TZID=America/New_York:20231103T173000
DTEND;TZID=America/New_York:20231103T183000
DTSTAMP:20260421T071119
CREATED:20230914T144846Z
LAST-MODIFIED:20230914T144846Z
UID:22813-1699032600-1699036200@www.gracechurchamherst.org
SUMMARY:Evensong
DESCRIPTION:
URL:https://www.gracechurchamherst.org/event/evensong-104/
LOCATION:Sanctuary
END:VEVENT
BEGIN:VEVENT
DTSTART;TZID=America/New_York:20231104T100000
DTEND;TZID=America/New_York:20231104T110000
DTSTAMP:20260421T071119
CREATED:20231027T160924Z
LAST-MODIFIED:20231027T160924Z
UID:23070-1699092000-1699095600@www.gracechurchamherst.org
SUMMARY:Zoom Bible Study
DESCRIPTION:
URL:https://www.gracechurchamherst.org/event/zoom-bible-study-113/
END:VEVENT
BEGIN:VEVENT
DTSTART;TZID=America/New_York:20231104T170000
DTEND;TZID=America/New_York:20231104T180000
DTSTAMP:20260421T071119
CREATED:20230915T170843Z
LAST-MODIFIED:20230915T170843Z
UID:22828-1699117200-1699120800@www.gracechurchamherst.org
SUMMARY:AA Meeting
DESCRIPTION:
URL:https://www.gracechurchamherst.org/event/aa-meeting-544/
LOCATION:Parish Hall\, Spring Street
END:VEVENT
BEGIN:VEVENT
DTSTART;TZID=America/New_York:20231104T200000
DTEND;TZID=America/New_York:20231104T210000
DTSTAMP:20260421T071119
CREATED:20230914T143858Z
LAST-MODIFIED:20230914T143858Z
UID:22789-1699128000-1699131600@www.gracechurchamherst.org
SUMMARY:AA Meeting
DESCRIPTION:
URL:https://www.gracechurchamherst.org/event/aa-meeting-538/
LOCATION:Parish Hall\, Spring Street
END:VEVENT
BEGIN:VEVENT
DTSTART;TZID=America/New_York:20231105T093000
DTEND;TZID=America/New_York:20231105T103000
DTSTAMP:20260421T071119
CREATED:20230915T171040Z
LAST-MODIFIED:20230915T171040Z
UID:22834-1699176600-1699180200@www.gracechurchamherst.org
SUMMARY:Holy Eucharist
DESCRIPTION:
URL:https://www.gracechurchamherst.org/event/holy-eucharist-211/
LOCATION:Sanctuary
END:VEVENT
BEGIN:VEVENT
DTSTART;TZID=America/New_York:20231105T103000
DTEND;TZID=America/New_York:20231105T113000
DTSTAMP:20260421T071119
CREATED:20231103T145357Z
LAST-MODIFIED:20231103T145357Z
UID:23100-1699180200-1699183800@www.gracechurchamherst.org
SUMMARY:Coffee Hour
DESCRIPTION:
URL:https://www.gracechurchamherst.org/event/coffee-hour-179/
LOCATION:Connector
END:VEVENT
BEGIN:VEVENT
DTSTART;TZID=America/New_York:20231105T110000
DTEND;TZID=America/New_York:20231105T130000
DTSTAMP:20260421T071119
CREATED:20230915T171219Z
LAST-MODIFIED:20231020T155537Z
UID:22836-1699182000-1699189200@www.gracechurchamherst.org
SUMMARY:Catered Brunch honoring Beth Damon
DESCRIPTION:A celebration of Beth Hart Damon’s 23 years of service as music director.
URL:https://www.gracechurchamherst.org/event/reception-honoring-beth-damon/
LOCATION:Parish Hall\, Spring Street
END:VEVENT
BEGIN:VEVENT
DTSTART;TZID=America/New_York:20231105T120000
DTEND;TZID=America/New_York:20231105T170000
DTSTAMP:20260421T071119
CREATED:20230913T142048Z
LAST-MODIFIED:20230913T142048Z
UID:22778-1699185600-1699203600@www.gracechurchamherst.org
SUMMARY:Iconography
DESCRIPTION:
URL:https://www.gracechurchamherst.org/event/iconography-85/
LOCATION:Parish Hall\, Spring Street
END:VEVENT
BEGIN:VEVENT
DTSTART;TZID=America/New_York:20231105T193000
DTEND;TZID=America/New_York:20231105T203000
DTSTAMP:20260421T071119
CREATED:20230929T145632Z
LAST-MODIFIED:20230929T145632Z
UID:22918-1699212600-1699216200@www.gracechurchamherst.org
SUMMARY:AA Meeting
DESCRIPTION:
URL:https://www.gracechurchamherst.org/event/aa-meeting-547/
LOCATION:Parish Hall\, Spring Street
END:VEVENT
BEGIN:VEVENT
DTSTART;TZID=America/New_York:20231106T100000
DTEND;TZID=America/New_York:20231106T103000
DTSTAMP:20260421T071119
CREATED:20230912T152432Z
LAST-MODIFIED:20230912T152432Z
UID:22707-1699264800-1699266600@www.gracechurchamherst.org
SUMMARY:Staff Meeting
DESCRIPTION:
URL:https://www.gracechurchamherst.org/event/staff-meeting-80/
END:VEVENT
BEGIN:VEVENT
DTSTART;TZID=America/New_York:20231106T121500
DTEND;TZID=America/New_York:20231106T124500
DTSTAMP:20260421T071119
CREATED:20230929T145157Z
LAST-MODIFIED:20230929T145157Z
UID:22910-1699272900-1699274700@www.gracechurchamherst.org
SUMMARY:Poetry Meditation - Gifts and Graces (Zoom)
DESCRIPTION:
URL:https://www.gracechurchamherst.org/event/poetry-meditation-gifts-and-graces-zoom-4/
END:VEVENT
BEGIN:VEVENT
DTSTART;TZID=America/New_York:20231106T190000
DTEND;TZID=America/New_York:20231106T200000
DTSTAMP:20260421T071119
CREATED:20230911T181257Z
LAST-MODIFIED:20230911T181257Z
UID:22685-1699297200-1699300800@www.gracechurchamherst.org
SUMMARY:AA Meeting
DESCRIPTION:
URL:https://www.gracechurchamherst.org/event/aa-meeting-534/
LOCATION:Parish Hall\, Spring Street
END:VEVENT
BEGIN:VEVENT
DTSTART;TZID=America/New_York:20231106T190000
DTEND;TZID=America/New_York:20231106T200000
DTSTAMP:20260421T071119
CREATED:20230922T171310Z
LAST-MODIFIED:20230922T171310Z
UID:22851-1699297200-1699300800@www.gracechurchamherst.org
SUMMARY:All Souls' Day Service
DESCRIPTION:
URL:https://www.gracechurchamherst.org/event/all-souls-day-service-3/
LOCATION:Sanctuary
END:VEVENT
BEGIN:VEVENT
DTSTART;TZID=America/New_York:20231107T171500
DTEND;TZID=America/New_York:20231107T181500
DTSTAMP:20260421T071119
CREATED:20230908T153044Z
LAST-MODIFIED:20230908T153044Z
UID:22643-1699377300-1699380900@www.gracechurchamherst.org
SUMMARY:AA Meeting
DESCRIPTION:
URL:https://www.gracechurchamherst.org/event/aa-meeting-522/
LOCATION:Parish Hall\, Spring Street
END:VEVENT
BEGIN:VEVENT
DTSTART;TZID=America/New_York:20231107T190000
DTEND;TZID=America/New_York:20231107T200000
DTSTAMP:20260421T071119
CREATED:20230912T153252Z
LAST-MODIFIED:20230912T153252Z
UID:22730-1699383600-1699387200@www.gracechurchamherst.org
SUMMARY:Alanon
DESCRIPTION:
URL:https://www.gracechurchamherst.org/event/alanon-93/
LOCATION:Parish Hall\, Spring Street
END:VEVENT
BEGIN:VEVENT
DTSTART;TZID=America/New_York:20231108T121000
DTEND;TZID=America/New_York:20231108T130000
DTSTAMP:20260421T071119
CREATED:20230922T171511Z
LAST-MODIFIED:20230922T171511Z
UID:22853-1699445400-1699448400@www.gracechurchamherst.org
SUMMARY:Holy Eucharist according to Rite I with Healing Prayer
DESCRIPTION:
URL:https://www.gracechurchamherst.org/event/holy-eucharist-according-to-rite-i-with-healing-prayer-103/
LOCATION:Sanctuary
END:VEVENT
BEGIN:VEVENT
DTSTART;TZID=America/New_York:20231109T143000
DTEND;TZID=America/New_York:20231109T170000
DTSTAMP:20260421T071119
CREATED:20231020T155657Z
LAST-MODIFIED:20231020T155657Z
UID:23009-1699540200-1699549200@www.gracechurchamherst.org
SUMMARY:Tea & Titles
DESCRIPTION:
URL:https://www.gracechurchamherst.org/event/tea-titles-30/
LOCATION:Connector
END:VEVENT
BEGIN:VEVENT
DTSTART;TZID=America/New_York:20231109T193000
DTEND;TZID=America/New_York:20231109T210000
DTSTAMP:20260421T071119
CREATED:20230922T171726Z
LAST-MODIFIED:20230922T171726Z
UID:22859-1699558200-1699563600@www.gracechurchamherst.org
SUMMARY:Choir Rehearsal
DESCRIPTION:
URL:https://www.gracechurchamherst.org/event/choir-rehearsal-77/
LOCATION:Sanctuary
END:VEVENT
BEGIN:VEVENT
DTSTART;TZID=America/New_York:20231110T070000
DTEND;TZID=America/New_York:20231110T083000
DTSTAMP:20260421T071119
CREATED:20230911T181815Z
LAST-MODIFIED:20230911T181815Z
UID:22693-1699599600-1699605000@www.gracechurchamherst.org
SUMMARY:Men's Group
DESCRIPTION:
URL:https://www.gracechurchamherst.org/event/mens-group-50/
LOCATION:Parker Room
END:VEVENT
BEGIN:VEVENT
DTSTART;TZID=America/New_York:20231110T173000
DTEND;TZID=America/New_York:20231110T183000
DTSTAMP:20260421T071119
CREATED:20230922T173351Z
LAST-MODIFIED:20230922T173351Z
UID:22863-1699637400-1699641000@www.gracechurchamherst.org
SUMMARY:Evensong
DESCRIPTION:
URL:https://www.gracechurchamherst.org/event/evensong-105/
LOCATION:Sanctuary
END:VEVENT
BEGIN:VEVENT
DTSTART;TZID=America/New_York:20231110T190000
DTEND;TZID=America/New_York:20231110T210000
DTSTAMP:20260421T071119
CREATED:20230929T150354Z
LAST-MODIFIED:20230929T150354Z
UID:22928-1699642800-1699650000@www.gracechurchamherst.org
SUMMARY:Joy of Living Workshop
DESCRIPTION:
URL:https://www.gracechurchamherst.org/event/joy-of-living-workshop/
LOCATION:Fireplace Room in Parke House
END:VEVENT
BEGIN:VEVENT
DTSTART;TZID=America/New_York:20231111T090000
DTEND;TZID=America/New_York:20231111T163000
DTSTAMP:20260421T071119
CREATED:20230929T150447Z
LAST-MODIFIED:20230929T150447Z
UID:22930-1699693200-1699720200@www.gracechurchamherst.org
SUMMARY:Joy of Living Workshop
DESCRIPTION:
URL:https://www.gracechurchamherst.org/event/joy-of-living-workshop-2/
LOCATION:Fireplace Room in Parke House
END:VEVENT
BEGIN:VEVENT
DTSTART;TZID=America/New_York:20231111T100000
DTEND;TZID=America/New_York:20231111T110000
DTSTAMP:20260421T071119
CREATED:20231027T160958Z
LAST-MODIFIED:20231027T160958Z
UID:23072-1699696800-1699700400@www.gracechurchamherst.org
SUMMARY:Zoom Bible Study
DESCRIPTION:
URL:https://www.gracechurchamherst.org/event/zoom-bible-study-114/
END:VEVENT
BEGIN:VEVENT
DTSTART;TZID=America/New_York:20231111T104500
DTEND;TZID=America/New_York:20231111T113000
DTSTAMP:20260421T071119
CREATED:20231103T145753Z
LAST-MODIFIED:20231103T145753Z
UID:23102-1699699500-1699702200@www.gracechurchamherst.org
SUMMARY:11th Hour for Climate Change
DESCRIPTION:There will be no bell-ringing on Sat Nov 11. We encourage people to gather on the front lawn of the Church\, quietly\, silently\, holding signs honoring our veterans and our planet.
URL:https://www.gracechurchamherst.org/event/11th-hour-for-climate-change/
LOCATION:Front Lawn\, 14 Boltwood Ave.\, Amherst\, MA\, 01002\, United States
END:VEVENT
BEGIN:VEVENT
DTSTART;TZID=America/New_York:20231111T170000
DTEND;TZID=America/New_York:20231111T180000
DTSTAMP:20260421T071119
CREATED:20230915T170913Z
LAST-MODIFIED:20230915T170913Z
UID:22830-1699722000-1699725600@www.gracechurchamherst.org
SUMMARY:AA Meeting
DESCRIPTION:
URL:https://www.gracechurchamherst.org/event/aa-meeting-545/
LOCATION:Parish Hall\, Spring Street
END:VEVENT
BEGIN:VEVENT
DTSTART;TZID=America/New_York:20231111T200000
DTEND;TZID=America/New_York:20231111T210000
DTSTAMP:20260421T071119
CREATED:20230914T143932Z
LAST-MODIFIED:20230914T143932Z
UID:22791-1699732800-1699736400@www.gracechurchamherst.org
SUMMARY:AA Meeting
DESCRIPTION:
URL:https://www.gracechurchamherst.org/event/aa-meeting-539/
LOCATION:Parish Hall\, Spring Street
END:VEVENT
BEGIN:VEVENT
DTSTART;TZID=America/New_York:20231112T080000
DTEND;TZID=America/New_York:20231112T090000
DTSTAMP:20260421T071119
CREATED:20230914T144159Z
LAST-MODIFIED:20230914T144159Z
UID:22799-1699776000-1699779600@www.gracechurchamherst.org
SUMMARY:Holy Eucharist
DESCRIPTION:
URL:https://www.gracechurchamherst.org/event/holy-eucharist-208/
LOCATION:Sanctuary
END:VEVENT
BEGIN:VEVENT
DTSTART;TZID=America/New_York:20231112T090000
DTEND;TZID=America/New_York:20231112T100000
DTSTAMP:20260421T071119
CREATED:20230914T144402Z
LAST-MODIFIED:20230914T144402Z
UID:22807-1699779600-1699783200@www.gracechurchamherst.org
SUMMARY:Coffee Hour
DESCRIPTION:
URL:https://www.gracechurchamherst.org/event/coffee-hour-176/
LOCATION:Connector
END:VEVENT
END:VCALENDAR