BEGIN:VCALENDAR
VERSION:2.0
PRODID:-//Grace Episcopal Church, Amherst MA - ECPv6.15.20//NONSGML v1.0//EN
CALSCALE:GREGORIAN
METHOD:PUBLISH
X-WR-CALNAME:Grace Episcopal Church, Amherst MA
X-ORIGINAL-URL:https://www.gracechurchamherst.org
X-WR-CALDESC:Events for Grace Episcopal Church, Amherst MA
REFRESH-INTERVAL;VALUE=DURATION:PT1H
X-Robots-Tag:noindex
X-PUBLISHED-TTL:PT1H
BEGIN:VTIMEZONE
TZID:America/New_York
BEGIN:DAYLIGHT
TZOFFSETFROM:-0500
TZOFFSETTO:-0400
TZNAME:EDT
DTSTART:20230312T070000
END:DAYLIGHT
BEGIN:STANDARD
TZOFFSETFROM:-0400
TZOFFSETTO:-0500
TZNAME:EST
DTSTART:20231105T060000
END:STANDARD
BEGIN:DAYLIGHT
TZOFFSETFROM:-0500
TZOFFSETTO:-0400
TZNAME:EDT
DTSTART:20240310T070000
END:DAYLIGHT
BEGIN:STANDARD
TZOFFSETFROM:-0400
TZOFFSETTO:-0500
TZNAME:EST
DTSTART:20241103T060000
END:STANDARD
BEGIN:DAYLIGHT
TZOFFSETFROM:-0500
TZOFFSETTO:-0400
TZNAME:EDT
DTSTART:20250309T070000
END:DAYLIGHT
BEGIN:STANDARD
TZOFFSETFROM:-0400
TZOFFSETTO:-0500
TZNAME:EST
DTSTART:20251102T060000
END:STANDARD
END:VTIMEZONE
BEGIN:VEVENT
DTSTART;TZID=America/New_York:20240201T193000
DTEND;TZID=America/New_York:20240201T210000
DTSTAMP:20260421T025612
CREATED:20240123T182812Z
LAST-MODIFIED:20240123T182812Z
UID:23763-1706815800-1706821200@www.gracechurchamherst.org
SUMMARY:Choir Rehearsal
DESCRIPTION:
URL:https://www.gracechurchamherst.org/event/choir-rehearsal-88/
LOCATION:Sanctuary
END:VEVENT
BEGIN:VEVENT
DTSTART;TZID=America/New_York:20240202T070000
DTEND;TZID=America/New_York:20240202T083000
DTSTAMP:20260421T025612
CREATED:20231215T163639Z
LAST-MODIFIED:20231215T163639Z
UID:23503-1706857200-1706862600@www.gracechurchamherst.org
SUMMARY:Men's Group
DESCRIPTION:
URL:https://www.gracechurchamherst.org/event/mens-group-57/
LOCATION:Parker Room
END:VEVENT
BEGIN:VEVENT
DTSTART;TZID=America/New_York:20240202T173000
DTEND;TZID=America/New_York:20240202T183000
DTSTAMP:20260421T025612
CREATED:20240119T165925Z
LAST-MODIFIED:20240119T165925Z
UID:23687-1706895000-1706898600@www.gracechurchamherst.org
SUMMARY:Evensong
DESCRIPTION:
URL:https://www.gracechurchamherst.org/event/evensong-117/
LOCATION:Sanctuary
END:VEVENT
BEGIN:VEVENT
DTSTART;TZID=America/New_York:20240203T090000
DTEND;TZID=America/New_York:20240203T163000
DTSTAMP:20260421T025612
CREATED:20231228T162728Z
LAST-MODIFIED:20231228T162728Z
UID:23558-1706950800-1706977800@www.gracechurchamherst.org
SUMMARY:Calming the Mind Meditation Workshop
DESCRIPTION:
URL:https://www.gracechurchamherst.org/event/calming-the-mind-meditation-workshop-2/
LOCATION:Parish Hall\, Spring Street
END:VEVENT
BEGIN:VEVENT
DTSTART;TZID=America/New_York:20240203T100000
DTEND;TZID=America/New_York:20240203T110000
DTSTAMP:20260421T025612
CREATED:20240119T170306Z
LAST-MODIFIED:20240119T170306Z
UID:23697-1706954400-1706958000@www.gracechurchamherst.org
SUMMARY:Zoom Bible Study
DESCRIPTION:
URL:https://www.gracechurchamherst.org/event/zoom-bible-study-3/
END:VEVENT
BEGIN:VEVENT
DTSTART;TZID=America/New_York:20240203T170000
DTEND;TZID=America/New_York:20240203T180000
DTSTAMP:20260421T025612
CREATED:20240119T170722Z
LAST-MODIFIED:20240119T170722Z
UID:23709-1706979600-1706983200@www.gracechurchamherst.org
SUMMARY:AA Meeting
DESCRIPTION:
URL:https://www.gracechurchamherst.org/event/aa-meeting-600/
LOCATION:Parish Hall\, Spring Street
END:VEVENT
BEGIN:VEVENT
DTSTART;TZID=America/New_York:20240203T200000
DTEND;TZID=America/New_York:20240203T210000
DTSTAMP:20260421T025612
CREATED:20240125T185557Z
LAST-MODIFIED:20240125T185557Z
UID:23814-1706990400-1706994000@www.gracechurchamherst.org
SUMMARY:AA Meeting
DESCRIPTION:
URL:https://www.gracechurchamherst.org/event/aa-meeting-604/
LOCATION:Parish Hall\, Spring Street
END:VEVENT
BEGIN:VEVENT
DTSTART;TZID=America/New_York:20240204T093000
DTEND;TZID=America/New_York:20240204T103000
DTSTAMP:20260421T025612
CREATED:20240125T190600Z
LAST-MODIFIED:20240125T190600Z
UID:23824-1707039000-1707042600@www.gracechurchamherst.org
SUMMARY:Holy Eucharist
DESCRIPTION:
URL:https://www.gracechurchamherst.org/event/holy-eucharist-232/
LOCATION:Sanctuary
END:VEVENT
BEGIN:VEVENT
DTSTART;TZID=America/New_York:20240204T110000
DTEND;TZID=America/New_York:20240204T130000
DTSTAMP:20260421T025612
CREATED:20240125T190939Z
LAST-MODIFIED:20240125T190939Z
UID:23826-1707044400-1707051600@www.gracechurchamherst.org
SUMMARY:Annual Meeting
DESCRIPTION:
URL:https://www.gracechurchamherst.org/event/annual-meeting-3/
LOCATION:Parish Hall\, Spring Street
END:VEVENT
BEGIN:VEVENT
DTSTART;TZID=America/New_York:20240204T193000
DTEND;TZID=America/New_York:20240204T203000
DTSTAMP:20260421T025612
CREATED:20240125T191054Z
LAST-MODIFIED:20240125T191054Z
UID:23828-1707075000-1707078600@www.gracechurchamherst.org
SUMMARY:AA Meeting
DESCRIPTION:
URL:https://www.gracechurchamherst.org/event/aa-meeting-609/
LOCATION:Parish Hall\, Spring Street
END:VEVENT
BEGIN:VEVENT
DTSTART;TZID=America/New_York:20240205T100000
DTEND;TZID=America/New_York:20240205T103000
DTSTAMP:20260421T025612
CREATED:20240122T185052Z
LAST-MODIFIED:20240122T185052Z
UID:23729-1707127200-1707129000@www.gracechurchamherst.org
SUMMARY:Staff Meeting
DESCRIPTION:
URL:https://www.gracechurchamherst.org/event/staff-meeting-91/
END:VEVENT
BEGIN:VEVENT
DTSTART;TZID=America/New_York:20240205T190000
DTEND;TZID=America/New_York:20240205T200000
DTSTAMP:20260421T025612
CREATED:20240125T191256Z
LAST-MODIFIED:20240125T191256Z
UID:23834-1707159600-1707163200@www.gracechurchamherst.org
SUMMARY:AA Meeting
DESCRIPTION:
URL:https://www.gracechurchamherst.org/event/aa-meeting-612/
LOCATION:Parish Hall\, Spring Street
END:VEVENT
BEGIN:VEVENT
DTSTART;TZID=America/New_York:20240206T171500
DTEND;TZID=America/New_York:20240206T181500
DTSTAMP:20260421T025612
CREATED:20240122T190409Z
LAST-MODIFIED:20240122T190409Z
UID:23750-1707239700-1707243300@www.gracechurchamherst.org
SUMMARY:AA Meeting
DESCRIPTION:
URL:https://www.gracechurchamherst.org/event/aa-meeting-603/
LOCATION:Parish Hall\, Spring Street
END:VEVENT
BEGIN:VEVENT
DTSTART;TZID=America/New_York:20240206T190000
DTEND;TZID=America/New_York:20240206T200000
DTSTAMP:20260421T025612
CREATED:20240124T180120Z
LAST-MODIFIED:20240124T180120Z
UID:23806-1707246000-1707249600@www.gracechurchamherst.org
SUMMARY:Al-Anon Meeting
DESCRIPTION:
URL:https://www.gracechurchamherst.org/event/al-anon-meeting-2/
LOCATION:Parish Hall\, Spring Street
END:VEVENT
BEGIN:VEVENT
DTSTART;TZID=America/New_York:20240207T121000
DTEND;TZID=America/New_York:20240207T130000
DTSTAMP:20260421T025612
CREATED:20240125T191511Z
LAST-MODIFIED:20240125T191511Z
UID:23838-1707307800-1707310800@www.gracechurchamherst.org
SUMMARY:Holy Eucharist according to Rite I with Healing Prayer
DESCRIPTION:
URL:https://www.gracechurchamherst.org/event/holy-eucharist-according-to-rite-i-with-healing-prayer-115/
LOCATION:Sanctuary
END:VEVENT
BEGIN:VEVENT
DTSTART;TZID=America/New_York:20240208T143000
DTEND;TZID=America/New_York:20240208T163000
DTSTAMP:20260421T025612
CREATED:20231212T150951Z
LAST-MODIFIED:20240202T174858Z
UID:23440-1707402600-1707409800@www.gracechurchamherst.org
SUMMARY:Tea & Titles
DESCRIPTION:
URL:https://www.gracechurchamherst.org/event/tea-titles-34/
LOCATION:Connector
END:VEVENT
BEGIN:VEVENT
DTSTART;TZID=America/New_York:20240208T193000
DTEND;TZID=America/New_York:20240208T210000
DTSTAMP:20260421T025612
CREATED:20240123T182848Z
LAST-MODIFIED:20240123T182848Z
UID:23765-1707420600-1707426000@www.gracechurchamherst.org
SUMMARY:Choir Rehearsal
DESCRIPTION:
URL:https://www.gracechurchamherst.org/event/choir-rehearsal-89/
LOCATION:Sanctuary
END:VEVENT
BEGIN:VEVENT
DTSTART;TZID=America/New_York:20240209T173000
DTEND;TZID=America/New_York:20240209T183000
DTSTAMP:20260421T025612
CREATED:20240119T165956Z
LAST-MODIFIED:20240119T165956Z
UID:23689-1707499800-1707503400@www.gracechurchamherst.org
SUMMARY:Evensong
DESCRIPTION:
URL:https://www.gracechurchamherst.org/event/evensong-118/
LOCATION:Sanctuary
END:VEVENT
BEGIN:VEVENT
DTSTART;TZID=America/New_York:20240210T093000
DTEND;TZID=America/New_York:20240210T110000
DTSTAMP:20260421T025612
CREATED:20240126T192301Z
LAST-MODIFIED:20240126T192301Z
UID:23840-1707557400-1707562800@www.gracechurchamherst.org
SUMMARY:Botany for Gardeners and Cooks
DESCRIPTION:
URL:https://www.gracechurchamherst.org/event/botany-for-gardeners-and-cooks-3/
LOCATION:Connector
END:VEVENT
BEGIN:VEVENT
DTSTART;TZID=America/New_York:20240210T130000
DTEND;TZID=America/New_York:20240210T150000
DTSTAMP:20260421T025612
CREATED:20240126T192643Z
LAST-MODIFIED:20240126T192643Z
UID:23844-1707570000-1707577200@www.gracechurchamherst.org
SUMMARY:Dine In\, Help Haiti Out
DESCRIPTION:The website to order soups for the annual soup extravaganza is now open!  Use the QR code below to access the website or go to https://airtable.com/appYFGXZZtOVp04Iz/pagdXh9rHbZi2ZTzs/form.  Soup may also be ordered from Haiti ministry members in the Connector after church.  Don’t delay!   Last year many soups sold out. Orders will be taken until Wednesday\, February 7.
URL:https://www.gracechurchamherst.org/event/dine-in-help-haiti-out-2/
END:VEVENT
BEGIN:VEVENT
DTSTART;TZID=America/New_York:20240210T170000
DTEND;TZID=America/New_York:20240210T180000
DTSTAMP:20260421T025612
CREATED:20240119T170756Z
LAST-MODIFIED:20240119T170756Z
UID:23711-1707584400-1707588000@www.gracechurchamherst.org
SUMMARY:AA Meeting
DESCRIPTION:
URL:https://www.gracechurchamherst.org/event/aa-meeting-601/
LOCATION:Parish Hall\, Spring Street
END:VEVENT
BEGIN:VEVENT
DTSTART;TZID=America/New_York:20240210T200000
DTEND;TZID=America/New_York:20240210T210000
DTSTAMP:20260421T025612
CREATED:20240125T185634Z
LAST-MODIFIED:20240125T185634Z
UID:23816-1707595200-1707598800@www.gracechurchamherst.org
SUMMARY:AA Meeting
DESCRIPTION:
URL:https://www.gracechurchamherst.org/event/aa-meeting-605/
LOCATION:Parish Hall\, Spring Street
END:VEVENT
BEGIN:VEVENT
DTSTART;TZID=America/New_York:20240211T080000
DTEND;TZID=America/New_York:20240211T090000
DTSTAMP:20260421T025612
CREATED:20240123T183443Z
LAST-MODIFIED:20240123T183443Z
UID:23775-1707638400-1707642000@www.gracechurchamherst.org
SUMMARY:Holy Eucharist
DESCRIPTION:
URL:https://www.gracechurchamherst.org/event/holy-eucharist-229/
LOCATION:Sanctuary
END:VEVENT
BEGIN:VEVENT
DTSTART;TZID=America/New_York:20240211T090000
DTEND;TZID=America/New_York:20240211T100000
DTSTAMP:20260421T025612
CREATED:20240126T192802Z
LAST-MODIFIED:20240126T192802Z
UID:23846-1707642000-1707645600@www.gracechurchamherst.org
SUMMARY:Coffee Hour
DESCRIPTION:
URL:https://www.gracechurchamherst.org/event/coffee-hour-202/
LOCATION:Connector
END:VEVENT
BEGIN:VEVENT
DTSTART;TZID=America/New_York:20240211T091500
DTEND;TZID=America/New_York:20240211T101500
DTSTAMP:20260421T025612
CREATED:20240123T183700Z
LAST-MODIFIED:20240123T183700Z
UID:23781-1707642900-1707646500@www.gracechurchamherst.org
SUMMARY:Sunday School
DESCRIPTION:
URL:https://www.gracechurchamherst.org/event/sunday-school-50/
END:VEVENT
BEGIN:VEVENT
DTSTART;TZID=America/New_York:20240211T091500
DTEND;TZID=America/New_York:20240211T101500
DTSTAMP:20260421T025612
CREATED:20240126T193424Z
LAST-MODIFIED:20240126T193424Z
UID:23860-1707642900-1707646500@www.gracechurchamherst.org
SUMMARY:Climate Action@Grace
DESCRIPTION:
URL:https://www.gracechurchamherst.org/event/climate-actiongrace-12/
LOCATION:Fireplace Room in Parke House
END:VEVENT
BEGIN:VEVENT
DTSTART;TZID=America/New_York:20240211T103000
DTEND;TZID=America/New_York:20240211T113000
DTSTAMP:20260421T025612
CREATED:20240126T193036Z
LAST-MODIFIED:20240126T193036Z
UID:23854-1707647400-1707651000@www.gracechurchamherst.org
SUMMARY:Holy Eucharist
DESCRIPTION:
URL:https://www.gracechurchamherst.org/event/holy-eucharist-233/
LOCATION:Sanctuary
END:VEVENT
BEGIN:VEVENT
DTSTART;TZID=America/New_York:20240211T110000
DTEND;TZID=America/New_York:20240211T111100
DTSTAMP:20260421T025612
CREATED:20231208T191047Z
LAST-MODIFIED:20231208T191047Z
UID:23398-1707649200-1707649860@www.gracechurchamherst.org
SUMMARY:Bell Ringing for Climate Change
DESCRIPTION:
URL:https://www.gracechurchamherst.org/event/bell-ringing-for-climate-change-11/
END:VEVENT
BEGIN:VEVENT
DTSTART;TZID=America/New_York:20240211T113000
DTEND;TZID=America/New_York:20240211T123000
DTSTAMP:20260421T025612
CREATED:20240124T174959Z
LAST-MODIFIED:20240124T174959Z
UID:23788-1707651000-1707654600@www.gracechurchamherst.org
SUMMARY:Coffee Hour
DESCRIPTION:
URL:https://www.gracechurchamherst.org/event/coffee-hour-197/
LOCATION:Connector
END:VEVENT
BEGIN:VEVENT
DTSTART;TZID=America/New_York:20240211T120000
DTEND;TZID=America/New_York:20240211T170000
DTSTAMP:20260421T025612
CREATED:20240112T163607Z
LAST-MODIFIED:20240112T163607Z
UID:23662-1707652800-1707670800@www.gracechurchamherst.org
SUMMARY:Iconography
DESCRIPTION:
URL:https://www.gracechurchamherst.org/event/iconography-94/
LOCATION:Parish Hall\, Spring Street
END:VEVENT
END:VCALENDAR