BEGIN:VCALENDAR
VERSION:2.0
PRODID:-//Grace Episcopal Church, Amherst MA - ECPv6.15.20//NONSGML v1.0//EN
CALSCALE:GREGORIAN
METHOD:PUBLISH
X-ORIGINAL-URL:https://www.gracechurchamherst.org
X-WR-CALDESC:Events for Grace Episcopal Church, Amherst MA
REFRESH-INTERVAL;VALUE=DURATION:PT1H
X-Robots-Tag:noindex
X-PUBLISHED-TTL:PT1H
BEGIN:VTIMEZONE
TZID:America/New_York
BEGIN:DAYLIGHT
TZOFFSETFROM:-0500
TZOFFSETTO:-0400
TZNAME:EDT
DTSTART:20230312T070000
END:DAYLIGHT
BEGIN:STANDARD
TZOFFSETFROM:-0400
TZOFFSETTO:-0500
TZNAME:EST
DTSTART:20231105T060000
END:STANDARD
BEGIN:DAYLIGHT
TZOFFSETFROM:-0500
TZOFFSETTO:-0400
TZNAME:EDT
DTSTART:20240310T070000
END:DAYLIGHT
BEGIN:STANDARD
TZOFFSETFROM:-0400
TZOFFSETTO:-0500
TZNAME:EST
DTSTART:20241103T060000
END:STANDARD
BEGIN:DAYLIGHT
TZOFFSETFROM:-0500
TZOFFSETTO:-0400
TZNAME:EDT
DTSTART:20250309T070000
END:DAYLIGHT
BEGIN:STANDARD
TZOFFSETFROM:-0400
TZOFFSETTO:-0500
TZNAME:EST
DTSTART:20251102T060000
END:STANDARD
END:VTIMEZONE
BEGIN:VEVENT
DTSTART;TZID=America/New_York:20240701T100000
DTEND;TZID=America/New_York:20240701T103000
DTSTAMP:20260420T191347
CREATED:20240531T154935Z
LAST-MODIFIED:20240531T154935Z
UID:24895-1719828000-1719829800@www.gracechurchamherst.org
SUMMARY:Staff Meeting
DESCRIPTION:
URL:https://www.gracechurchamherst.org/event/staff-meeting-109/
END:VEVENT
BEGIN:VEVENT
DTSTART;TZID=America/New_York:20240701T190000
DTEND;TZID=America/New_York:20240701T200000
DTSTAMP:20260420T191347
CREATED:20240607T155714Z
LAST-MODIFIED:20240607T155714Z
UID:24910-1719860400-1719864000@www.gracechurchamherst.org
SUMMARY:AA Meeting
DESCRIPTION:
URL:https://www.gracechurchamherst.org/event/aa-meeting-713/
LOCATION:Parish Hall\, Spring Street
END:VEVENT
BEGIN:VEVENT
DTSTART;TZID=America/New_York:20240702T171500
DTEND;TZID=America/New_York:20240702T181500
DTSTAMP:20260420T191347
CREATED:20240531T154105Z
LAST-MODIFIED:20240531T154105Z
UID:24873-1719940500-1719944100@www.gracechurchamherst.org
SUMMARY:AA Meeting
DESCRIPTION:
URL:https://www.gracechurchamherst.org/event/aa-meeting-705/
LOCATION:Parish Hall\, Spring Street
END:VEVENT
BEGIN:VEVENT
DTSTART;TZID=America/New_York:20240702T190000
DTEND;TZID=America/New_York:20240702T200000
DTSTAMP:20260420T191347
CREATED:20240524T143323Z
LAST-MODIFIED:20240524T143323Z
UID:24837-1719946800-1719950400@www.gracechurchamherst.org
SUMMARY:Al-Anon Meeting
DESCRIPTION:
URL:https://www.gracechurchamherst.org/event/al-anon-meeting-16/
LOCATION:Parish Hall\, Spring Street
END:VEVENT
BEGIN:VEVENT
DTSTART;TZID=America/New_York:20240703T121000
DTEND;TZID=America/New_York:20240703T130000
DTSTAMP:20260420T191347
CREATED:20240524T143750Z
LAST-MODIFIED:20240524T143750Z
UID:24847-1720008600-1720011600@www.gracechurchamherst.org
SUMMARY:Holy Eucharist according to Rite I with Healing Prayer
DESCRIPTION:
URL:https://www.gracechurchamherst.org/event/holy-eucharist-according-to-rite-i-with-healing-prayer-135/
LOCATION:Sanctuary
END:VEVENT
BEGIN:VEVENT
DTSTART;VALUE=DATE:20240704
DTEND;VALUE=DATE:20240705
DTSTAMP:20260420T191347
CREATED:20240607T155939Z
LAST-MODIFIED:20240607T155939Z
UID:24918-1720051200-1720137599@www.gracechurchamherst.org
SUMMARY:Office Closed
DESCRIPTION:
URL:https://www.gracechurchamherst.org/event/office-closed-19/
END:VEVENT
BEGIN:VEVENT
DTSTART;VALUE=DATE:20240705
DTEND;VALUE=DATE:20240706
DTSTAMP:20260420T191347
CREATED:20240614T142632Z
LAST-MODIFIED:20240614T142632Z
UID:24940-1720137600-1720223999@www.gracechurchamherst.org
SUMMARY:Office Closed
DESCRIPTION:
URL:https://www.gracechurchamherst.org/event/office-closed-20/
END:VEVENT
BEGIN:VEVENT
DTSTART;TZID=America/New_York:20240705T070000
DTEND;TZID=America/New_York:20240705T083000
DTSTAMP:20260420T191347
CREATED:20240509T152026Z
LAST-MODIFIED:20240509T152026Z
UID:24680-1720162800-1720168200@www.gracechurchamherst.org
SUMMARY:Men's Group
DESCRIPTION:
URL:https://www.gracechurchamherst.org/event/mens-group-68/
LOCATION:Parker Room
END:VEVENT
BEGIN:VEVENT
DTSTART;TZID=America/New_York:20240705T173000
DTEND;TZID=America/New_York:20240705T183000
DTSTAMP:20260420T191347
CREATED:20240524T144014Z
LAST-MODIFIED:20240524T144014Z
UID:24855-1720200600-1720204200@www.gracechurchamherst.org
SUMMARY:Evensong
DESCRIPTION:
URL:https://www.gracechurchamherst.org/event/evensong-139/
LOCATION:Chapel
END:VEVENT
BEGIN:VEVENT
DTSTART;TZID=America/New_York:20240706T100000
DTEND;TZID=America/New_York:20240706T110000
DTSTAMP:20260420T191347
CREATED:20240510T155817Z
LAST-MODIFIED:20240510T155817Z
UID:24746-1720260000-1720263600@www.gracechurchamherst.org
SUMMARY:Zoom Bible Study
DESCRIPTION:
URL:https://www.gracechurchamherst.org/event/zoom-bible-study-14/
END:VEVENT
BEGIN:VEVENT
DTSTART;TZID=America/New_York:20240706T170000
DTEND;TZID=America/New_York:20240706T180000
DTSTAMP:20260420T191347
CREATED:20240607T160050Z
LAST-MODIFIED:20240607T160050Z
UID:24920-1720285200-1720288800@www.gracechurchamherst.org
SUMMARY:AA Meeting
DESCRIPTION:
URL:https://www.gracechurchamherst.org/event/aa-meeting-717/
LOCATION:Parish Hall\, Spring Street
END:VEVENT
BEGIN:VEVENT
DTSTART;TZID=America/New_York:20240706T200000
DTEND;TZID=America/New_York:20240706T210000
DTSTAMP:20260420T191347
CREATED:20240531T154515Z
LAST-MODIFIED:20240531T154515Z
UID:24883-1720296000-1720299600@www.gracechurchamherst.org
SUMMARY:AA Meeting
DESCRIPTION:
URL:https://www.gracechurchamherst.org/event/aa-meeting-710/
LOCATION:Parish Hall\, Spring Street
END:VEVENT
BEGIN:VEVENT
DTSTART;TZID=America/New_York:20240707T093000
DTEND;TZID=America/New_York:20240707T103000
DTSTAMP:20260420T191347
CREATED:20240607T160213Z
LAST-MODIFIED:20240607T160213Z
UID:24924-1720344600-1720348200@www.gracechurchamherst.org
SUMMARY:Holy Eucharist
DESCRIPTION:
URL:https://www.gracechurchamherst.org/event/holy-eucharist-270/
LOCATION:Sanctuary
END:VEVENT
BEGIN:VEVENT
DTSTART;TZID=America/New_York:20240707T103000
DTEND;TZID=America/New_York:20240707T113000
DTSTAMP:20260420T191347
CREATED:20240531T154849Z
LAST-MODIFIED:20240531T154849Z
UID:24893-1720348200-1720351800@www.gracechurchamherst.org
SUMMARY:Coffee Hour
DESCRIPTION:
URL:https://www.gracechurchamherst.org/event/coffee-hour-232/
LOCATION:Connector
END:VEVENT
BEGIN:VEVENT
DTSTART;TZID=America/New_York:20240707T120000
DTEND;TZID=America/New_York:20240707T170000
DTSTAMP:20260420T191347
CREATED:20240607T155354Z
LAST-MODIFIED:20240607T155354Z
UID:24902-1720353600-1720371600@www.gracechurchamherst.org
SUMMARY:Iconography
DESCRIPTION:
URL:https://www.gracechurchamherst.org/event/iconography-113/
LOCATION:Parish Hall\, Spring Street
END:VEVENT
BEGIN:VEVENT
DTSTART;TZID=America/New_York:20240707T193000
DTEND;TZID=America/New_York:20240707T203000
DTSTAMP:20260420T191347
CREATED:20240621T145228Z
LAST-MODIFIED:20240621T145228Z
UID:24947-1720380600-1720384200@www.gracechurchamherst.org
SUMMARY:AA Meeting
DESCRIPTION:
URL:https://www.gracechurchamherst.org/event/aa-meeting-719/
LOCATION:Parish Hall\, Spring Street
END:VEVENT
BEGIN:VEVENT
DTSTART;TZID=America/New_York:20240708T100000
DTEND;TZID=America/New_York:20240708T103000
DTSTAMP:20260420T191347
CREATED:20240621T145546Z
LAST-MODIFIED:20240621T145546Z
UID:24957-1720432800-1720434600@www.gracechurchamherst.org
SUMMARY:Staff Meeting
DESCRIPTION:
URL:https://www.gracechurchamherst.org/event/staff-meeting-110/
END:VEVENT
BEGIN:VEVENT
DTSTART;TZID=America/New_York:20240708T190000
DTEND;TZID=America/New_York:20240708T200000
DTSTAMP:20260420T191347
CREATED:20240607T155744Z
LAST-MODIFIED:20240607T155744Z
UID:24912-1720465200-1720468800@www.gracechurchamherst.org
SUMMARY:AA Meeting
DESCRIPTION:
URL:https://www.gracechurchamherst.org/event/aa-meeting-714/
LOCATION:Parish Hall\, Spring Street
END:VEVENT
BEGIN:VEVENT
DTSTART;TZID=America/New_York:20240708T193000
DTEND;TZID=America/New_York:20240708T200000
DTSTAMP:20260420T191347
CREATED:20240614T142324Z
LAST-MODIFIED:20240614T142324Z
UID:24936-1720467000-1720468800@www.gracechurchamherst.org
SUMMARY:Joy of Living Group
DESCRIPTION:
URL:https://www.gracechurchamherst.org/event/joy-of-living-group-20/
LOCATION:Connector
END:VEVENT
BEGIN:VEVENT
DTSTART;TZID=America/New_York:20240709T093000
DTEND;TZID=America/New_York:20240709T113000
DTSTAMP:20260420T191347
CREATED:20240621T145755Z
LAST-MODIFIED:20240621T145755Z
UID:24965-1720517400-1720524600@www.gracechurchamherst.org
SUMMARY:Raising the Questions
DESCRIPTION:
URL:https://www.gracechurchamherst.org/event/raising-the-questions-21/
LOCATION:Connector
END:VEVENT
BEGIN:VEVENT
DTSTART;TZID=America/New_York:20240709T171500
DTEND;TZID=America/New_York:20240709T181500
DTSTAMP:20260420T191347
CREATED:20240531T154246Z
LAST-MODIFIED:20240531T154246Z
UID:24875-1720545300-1720548900@www.gracechurchamherst.org
SUMMARY:AA Meeting
DESCRIPTION:
URL:https://www.gracechurchamherst.org/event/aa-meeting-706/
LOCATION:Parish Hall\, Spring Street
END:VEVENT
BEGIN:VEVENT
DTSTART;TZID=America/New_York:20240709T190000
DTEND;TZID=America/New_York:20240709T200000
DTSTAMP:20260420T191347
CREATED:20240524T143351Z
LAST-MODIFIED:20240524T143351Z
UID:24839-1720551600-1720555200@www.gracechurchamherst.org
SUMMARY:Al-Anon Meeting
DESCRIPTION:
URL:https://www.gracechurchamherst.org/event/al-anon-meeting-17/
LOCATION:Parish Hall\, Spring Street
END:VEVENT
BEGIN:VEVENT
DTSTART;TZID=America/New_York:20240710T121000
DTEND;TZID=America/New_York:20240710T130000
DTSTAMP:20260420T191347
CREATED:20240524T143822Z
LAST-MODIFIED:20240524T143822Z
UID:24849-1720613400-1720616400@www.gracechurchamherst.org
SUMMARY:Holy Eucharist according to Rite I with Healing Prayer
DESCRIPTION:
URL:https://www.gracechurchamherst.org/event/holy-eucharist-according-to-rite-i-with-healing-prayer-136/
LOCATION:Sanctuary
END:VEVENT
BEGIN:VEVENT
DTSTART;TZID=America/New_York:20240711T110000
DTEND;TZID=America/New_York:20240711T111100
DTSTAMP:20260420T191347
CREATED:20240621T145947Z
LAST-MODIFIED:20240621T145947Z
UID:24971-1720695600-1720696260@www.gracechurchamherst.org
SUMMARY:Bell Ringing for Climate Change
DESCRIPTION:
URL:https://www.gracechurchamherst.org/event/bell-ringing-for-climate-change-16/
LOCATION:Front Lawn\, 14 Boltwood Ave.\, Amherst\, MA\, 01002\, United States
END:VEVENT
BEGIN:VEVENT
DTSTART;TZID=America/New_York:20240711T143000
DTEND;TZID=America/New_York:20240711T163000
DTSTAMP:20260420T191347
CREATED:20240322T143809Z
LAST-MODIFIED:20240322T143809Z
UID:24369-1720708200-1720715400@www.gracechurchamherst.org
SUMMARY:Tea & Titles
DESCRIPTION:
URL:https://www.gracechurchamherst.org/event/tea-titles-45/
LOCATION:Connector
END:VEVENT
BEGIN:VEVENT
DTSTART;TZID=America/New_York:20240711T170000
DTEND;TZID=America/New_York:20240711T180000
DTSTAMP:20260420T191347
CREATED:20240621T150100Z
LAST-MODIFIED:20240621T150100Z
UID:24975-1720717200-1720720800@www.gracechurchamherst.org
SUMMARY:Executive Cmte. Meeting
DESCRIPTION:
URL:https://www.gracechurchamherst.org/event/executive-cmte-meeting/
END:VEVENT
BEGIN:VEVENT
DTSTART;TZID=America/New_York:20240712T173000
DTEND;TZID=America/New_York:20240712T183000
DTSTAMP:20260420T191347
CREATED:20240628T150216Z
LAST-MODIFIED:20240628T150216Z
UID:24979-1720805400-1720809000@www.gracechurchamherst.org
SUMMARY:Evensong
DESCRIPTION:
URL:https://www.gracechurchamherst.org/event/evensong-140/
LOCATION:Sanctuary
END:VEVENT
BEGIN:VEVENT
DTSTART;TZID=America/New_York:20240713T100000
DTEND;TZID=America/New_York:20240713T110000
DTSTAMP:20260420T191347
CREATED:20240703T144910Z
LAST-MODIFIED:20240703T144910Z
UID:25017-1720864800-1720868400@www.gracechurchamherst.org
SUMMARY:Zoom Bible Study
DESCRIPTION:
URL:https://www.gracechurchamherst.org/event/zoom-bible-study-10/
END:VEVENT
BEGIN:VEVENT
DTSTART;TZID=America/New_York:20240713T170000
DTEND;TZID=America/New_York:20240713T180000
DTSTAMP:20260420T191347
CREATED:20240607T160116Z
LAST-MODIFIED:20240607T160116Z
UID:24922-1720890000-1720893600@www.gracechurchamherst.org
SUMMARY:AA Meeting
DESCRIPTION:
URL:https://www.gracechurchamherst.org/event/aa-meeting-718/
LOCATION:Parish Hall\, Spring Street
END:VEVENT
BEGIN:VEVENT
DTSTART;TZID=America/New_York:20240713T200000
DTEND;TZID=America/New_York:20240713T210000
DTSTAMP:20260420T191347
CREATED:20240531T154542Z
LAST-MODIFIED:20240531T154542Z
UID:24885-1720900800-1720904400@www.gracechurchamherst.org
SUMMARY:AA Meeting
DESCRIPTION:
URL:https://www.gracechurchamherst.org/event/aa-meeting-711/
LOCATION:Parish Hall\, Spring Street
END:VEVENT
END:VCALENDAR