BEGIN:VCALENDAR
VERSION:2.0
PRODID:-//Grace Episcopal Church, Amherst MA - ECPv6.15.20//NONSGML v1.0//EN
CALSCALE:GREGORIAN
METHOD:PUBLISH
X-ORIGINAL-URL:https://www.gracechurchamherst.org
X-WR-CALDESC:Events for Grace Episcopal Church, Amherst MA
REFRESH-INTERVAL;VALUE=DURATION:PT1H
X-Robots-Tag:noindex
X-PUBLISHED-TTL:PT1H
BEGIN:VTIMEZONE
TZID:America/New_York
BEGIN:DAYLIGHT
TZOFFSETFROM:-0500
TZOFFSETTO:-0400
TZNAME:EDT
DTSTART:20230312T070000
END:DAYLIGHT
BEGIN:STANDARD
TZOFFSETFROM:-0400
TZOFFSETTO:-0500
TZNAME:EST
DTSTART:20231105T060000
END:STANDARD
BEGIN:DAYLIGHT
TZOFFSETFROM:-0500
TZOFFSETTO:-0400
TZNAME:EDT
DTSTART:20240310T070000
END:DAYLIGHT
BEGIN:STANDARD
TZOFFSETFROM:-0400
TZOFFSETTO:-0500
TZNAME:EST
DTSTART:20241103T060000
END:STANDARD
BEGIN:DAYLIGHT
TZOFFSETFROM:-0500
TZOFFSETTO:-0400
TZNAME:EDT
DTSTART:20250309T070000
END:DAYLIGHT
BEGIN:STANDARD
TZOFFSETFROM:-0400
TZOFFSETTO:-0500
TZNAME:EST
DTSTART:20251102T060000
END:STANDARD
END:VTIMEZONE
BEGIN:VEVENT
DTSTART;TZID=America/New_York:20240801T143000
DTEND;TZID=America/New_York:20240801T170000
DTSTAMP:20260420T173432
CREATED:20240712T145343Z
LAST-MODIFIED:20240712T145343Z
UID:25082-1722522600-1722531600@www.gracechurchamherst.org
SUMMARY:Tea & Titles
DESCRIPTION:
URL:https://www.gracechurchamherst.org/event/tea-titles-41/
LOCATION:Connector
END:VEVENT
BEGIN:VEVENT
DTSTART;TZID=America/New_York:20240802T070000
DTEND;TZID=America/New_York:20240802T083000
DTSTAMP:20260420T173432
CREATED:20240509T152138Z
LAST-MODIFIED:20240509T152138Z
UID:24684-1722582000-1722587400@www.gracechurchamherst.org
SUMMARY:Men's Group
DESCRIPTION:
URL:https://www.gracechurchamherst.org/event/mens-group-70/
LOCATION:Parker Room
END:VEVENT
BEGIN:VEVENT
DTSTART;TZID=America/New_York:20240802T173000
DTEND;TZID=America/New_York:20240802T183000
DTSTAMP:20260420T173432
CREATED:20240628T150408Z
LAST-MODIFIED:20240628T150408Z
UID:24985-1722619800-1722623400@www.gracechurchamherst.org
SUMMARY:Evensong
DESCRIPTION:
URL:https://www.gracechurchamherst.org/event/evensong-143/
LOCATION:Sanctuary
END:VEVENT
BEGIN:VEVENT
DTSTART;TZID=America/New_York:20240803T100000
DTEND;TZID=America/New_York:20240803T110000
DTSTAMP:20260420T173432
CREATED:20240703T145030Z
LAST-MODIFIED:20240703T145030Z
UID:25023-1722679200-1722682800@www.gracechurchamherst.org
SUMMARY:Zoom Bible Study
DESCRIPTION:
URL:https://www.gracechurchamherst.org/event/zoom-bible-study-16/
END:VEVENT
BEGIN:VEVENT
DTSTART;TZID=America/New_York:20240803T170000
DTEND;TZID=America/New_York:20240803T180000
DTSTAMP:20260420T173432
CREATED:20240703T145311Z
LAST-MODIFIED:20240703T145311Z
UID:25033-1722704400-1722708000@www.gracechurchamherst.org
SUMMARY:AA Meeting
DESCRIPTION:
URL:https://www.gracechurchamherst.org/event/aa-meeting-726/
LOCATION:Parish Hall\, Spring Street
END:VEVENT
BEGIN:VEVENT
DTSTART;TZID=America/New_York:20240803T200000
DTEND;TZID=America/New_York:20240803T213000
DTSTAMP:20260420T173432
CREATED:20240712T145620Z
LAST-MODIFIED:20240712T145620Z
UID:25088-1722715200-1722720600@www.gracechurchamherst.org
SUMMARY:AA Meeting
DESCRIPTION:
URL:https://www.gracechurchamherst.org/event/aa-meeting-738/
LOCATION:Parish Hall\, Spring Street
END:VEVENT
BEGIN:VEVENT
DTSTART;TZID=America/New_York:20240804T093000
DTEND;TZID=America/New_York:20240804T103000
DTSTAMP:20260420T173432
CREATED:20240628T150752Z
LAST-MODIFIED:20240628T150752Z
UID:24997-1722763800-1722767400@www.gracechurchamherst.org
SUMMARY:Holy Eucharist
DESCRIPTION:
URL:https://www.gracechurchamherst.org/event/holy-eucharist-274/
LOCATION:Sanctuary
END:VEVENT
BEGIN:VEVENT
DTSTART;TZID=America/New_York:20240804T103000
DTEND;TZID=America/New_York:20240804T113000
DTSTAMP:20260420T173432
CREATED:20240628T151032Z
LAST-MODIFIED:20240628T151032Z
UID:25007-1722767400-1722771000@www.gracechurchamherst.org
SUMMARY:Coffee Hour
DESCRIPTION:
URL:https://www.gracechurchamherst.org/event/coffee-hour-236/
LOCATION:Connector
END:VEVENT
BEGIN:VEVENT
DTSTART;TZID=America/New_York:20240804T120000
DTEND;TZID=America/New_York:20240804T130000
DTSTAMP:20260420T173432
CREATED:20240726T142030Z
LAST-MODIFIED:20240726T142030Z
UID:25133-1722772800-1722776400@www.gracechurchamherst.org
SUMMARY:Education for Ministry Presentation
DESCRIPTION:There will be a brief presentation in the Parish Hall about Education for Ministry (EfM) at Grace Church. This would be a good time for you to ask questions and possibly to discover if EfM is right for you.  If there are six to eight people interested\, we would like to begin the seminars in September.
URL:https://www.gracechurchamherst.org/event/education-for-ministry-presentation/
LOCATION:Parish Hall\, Spring Street
END:VEVENT
BEGIN:VEVENT
DTSTART;TZID=America/New_York:20240804T120000
DTEND;TZID=America/New_York:20240804T170000
DTSTAMP:20260420T173432
CREATED:20240712T145752Z
LAST-MODIFIED:20240712T145752Z
UID:25092-1722772800-1722790800@www.gracechurchamherst.org
SUMMARY:Iconography
DESCRIPTION:
URL:https://www.gracechurchamherst.org/event/iconography-117/
LOCATION:Parish Hall\, Spring Street
END:VEVENT
BEGIN:VEVENT
DTSTART;TZID=America/New_York:20240804T193000
DTEND;TZID=America/New_York:20240804T203000
DTSTAMP:20260420T173432
CREATED:20240621T145456Z
LAST-MODIFIED:20240621T145456Z
UID:24955-1722799800-1722803400@www.gracechurchamherst.org
SUMMARY:AA Meeting
DESCRIPTION:
URL:https://www.gracechurchamherst.org/event/aa-meeting-723/
LOCATION:Parish Hall\, Spring Street
END:VEVENT
BEGIN:VEVENT
DTSTART;TZID=America/New_York:20240805T100000
DTEND;TZID=America/New_York:20240805T103000
DTSTAMP:20260420T173432
CREATED:20240719T151801Z
LAST-MODIFIED:20240719T151801Z
UID:25101-1722852000-1722853800@www.gracechurchamherst.org
SUMMARY:Staff Meeting
DESCRIPTION:
URL:https://www.gracechurchamherst.org/event/staff-meeting-114/
END:VEVENT
BEGIN:VEVENT
DTSTART;TZID=America/New_York:20240805T121500
DTEND;TZID=America/New_York:20240805T124500
DTSTAMP:20260420T173432
CREATED:20240712T144503Z
LAST-MODIFIED:20240712T144503Z
UID:25056-1722860100-1722861900@www.gracechurchamherst.org
SUMMARY:Poetry & Prayer
DESCRIPTION:
URL:https://www.gracechurchamherst.org/event/poetry-prayer-3/
END:VEVENT
BEGIN:VEVENT
DTSTART;TZID=America/New_York:20240805T190000
DTEND;TZID=America/New_York:20240805T200000
DTSTAMP:20260420T173432
CREATED:20240712T144846Z
LAST-MODIFIED:20240712T144846Z
UID:25066-1722884400-1722888000@www.gracechurchamherst.org
SUMMARY:AA Meeting
DESCRIPTION:
URL:https://www.gracechurchamherst.org/event/aa-meeting-730/
LOCATION:Parish Hall\, Spring Street
END:VEVENT
BEGIN:VEVENT
DTSTART;TZID=America/New_York:20240806T171500
DTEND;TZID=America/New_York:20240806T181500
DTSTAMP:20260420T173432
CREATED:20240712T145140Z
LAST-MODIFIED:20240712T145140Z
UID:25076-1722964500-1722968100@www.gracechurchamherst.org
SUMMARY:AA Meeting
DESCRIPTION:
URL:https://www.gracechurchamherst.org/event/aa-meeting-735/
LOCATION:Parish Hall\, Spring Street
END:VEVENT
BEGIN:VEVENT
DTSTART;TZID=America/New_York:20240806T190000
DTEND;TZID=America/New_York:20240806T200000
DTSTAMP:20260420T173432
CREATED:20240703T145636Z
LAST-MODIFIED:20240703T145636Z
UID:25041-1722970800-1722974400@www.gracechurchamherst.org
SUMMARY:Al-Anon Meeting
DESCRIPTION:
URL:https://www.gracechurchamherst.org/event/al-anon-meeting-21/
LOCATION:Parish Hall\, Spring Street
END:VEVENT
BEGIN:VEVENT
DTSTART;TZID=America/New_York:20240807T121000
DTEND;TZID=America/New_York:20240807T121000
DTSTAMP:20260420T173432
CREATED:20240719T152130Z
LAST-MODIFIED:20240719T152759Z
UID:25111-1723032600-1723032600@www.gracechurchamherst.org
SUMMARY:Holy Eucharist according to Rite I with Healing Prayer
DESCRIPTION:
URL:https://www.gracechurchamherst.org/event/holy-eucharist-according-to-rite-i-with-healing-prayer-140/
LOCATION:Sanctuary
END:VEVENT
BEGIN:VEVENT
DTSTART;TZID=America/New_York:20240809T173000
DTEND;TZID=America/New_York:20240809T183000
DTSTAMP:20260420T173432
CREATED:20240628T150446Z
LAST-MODIFIED:20240628T150446Z
UID:24987-1723224600-1723228200@www.gracechurchamherst.org
SUMMARY:Evensong
DESCRIPTION:
URL:https://www.gracechurchamherst.org/event/evensong-144/
LOCATION:Sanctuary
END:VEVENT
BEGIN:VEVENT
DTSTART;TZID=America/New_York:20240810T100000
DTEND;TZID=America/New_York:20240810T110000
DTSTAMP:20260420T173432
CREATED:20240703T145057Z
LAST-MODIFIED:20240703T145057Z
UID:25025-1723284000-1723287600@www.gracechurchamherst.org
SUMMARY:Zoom Bible Study
DESCRIPTION:
URL:https://www.gracechurchamherst.org/event/zoom-bible-study-17/
END:VEVENT
BEGIN:VEVENT
DTSTART;TZID=America/New_York:20240810T170000
DTEND;TZID=America/New_York:20240810T180000
DTSTAMP:20260420T173432
CREATED:20240703T145505Z
LAST-MODIFIED:20240703T145505Z
UID:25035-1723309200-1723312800@www.gracechurchamherst.org
SUMMARY:AA Meeting
DESCRIPTION:
URL:https://www.gracechurchamherst.org/event/aa-meeting-727/
LOCATION:Parish Hall\, Spring Street
END:VEVENT
BEGIN:VEVENT
DTSTART;TZID=America/New_York:20240810T200000
DTEND;TZID=America/New_York:20240810T213000
DTSTAMP:20260420T173432
CREATED:20240712T145654Z
LAST-MODIFIED:20240712T145654Z
UID:25090-1723320000-1723325400@www.gracechurchamherst.org
SUMMARY:AA Meeting
DESCRIPTION:
URL:https://www.gracechurchamherst.org/event/aa-meeting-739/
LOCATION:Parish Hall\, Spring Street
END:VEVENT
BEGIN:VEVENT
DTSTART;TZID=America/New_York:20240811T093000
DTEND;TZID=America/New_York:20240811T103000
DTSTAMP:20260420T173432
CREATED:20240628T150821Z
LAST-MODIFIED:20240628T150821Z
UID:24999-1723368600-1723372200@www.gracechurchamherst.org
SUMMARY:Holy Eucharist
DESCRIPTION:
URL:https://www.gracechurchamherst.org/event/holy-eucharist-275/
LOCATION:Sanctuary
END:VEVENT
BEGIN:VEVENT
DTSTART;TZID=America/New_York:20240811T103000
DTEND;TZID=America/New_York:20240811T113000
DTSTAMP:20260420T173432
CREATED:20240719T152927Z
LAST-MODIFIED:20240719T152927Z
UID:25119-1723372200-1723375800@www.gracechurchamherst.org
SUMMARY:Coffee Hour
DESCRIPTION:
URL:https://www.gracechurchamherst.org/event/coffee-hour-237/
LOCATION:Connector
END:VEVENT
BEGIN:VEVENT
DTSTART;TZID=America/New_York:20240811T110000
DTEND;TZID=America/New_York:20240811T111100
DTSTAMP:20260420T173432
CREATED:20240621T150020Z
LAST-MODIFIED:20240809T144256Z
UID:24973-1723374000-1723374660@www.gracechurchamherst.org
SUMMARY:Bell Ringing for Climate Change
DESCRIPTION:
URL:https://www.gracechurchamherst.org/event/bell-ringing-for-climate-change-17/
LOCATION:Front Lawn\, 14 Boltwood Ave.\, Amherst\, MA\, 01002\, United States
END:VEVENT
BEGIN:VEVENT
DTSTART;TZID=America/New_York:20240811T111500
DTEND;TZID=America/New_York:20240811T121500
DTSTAMP:20260420T173432
CREATED:20240801T144906Z
LAST-MODIFIED:20240801T144906Z
UID:25193-1723374900-1723378500@www.gracechurchamherst.org
SUMMARY:Climate Action@Grace
DESCRIPTION:
URL:https://www.gracechurchamherst.org/event/climate-actiongrace-17/
LOCATION:Fireplace Room in Parke House
END:VEVENT
BEGIN:VEVENT
DTSTART;TZID=America/New_York:20240811T120000
DTEND;TZID=America/New_York:20240811T170000
DTSTAMP:20260420T173432
CREATED:20240726T142212Z
LAST-MODIFIED:20240726T142212Z
UID:25135-1723377600-1723395600@www.gracechurchamherst.org
SUMMARY:Iconography
DESCRIPTION:
URL:https://www.gracechurchamherst.org/event/iconography-118/
LOCATION:Parish Hall\, Spring Street
END:VEVENT
BEGIN:VEVENT
DTSTART;TZID=America/New_York:20240811T193000
DTEND;TZID=America/New_York:20240811T203000
DTSTAMP:20260420T173432
CREATED:20240719T153223Z
LAST-MODIFIED:20240719T153223Z
UID:25125-1723404600-1723408200@www.gracechurchamherst.org
SUMMARY:AA Meeting
DESCRIPTION:
URL:https://www.gracechurchamherst.org/event/aa-meeting-740/
LOCATION:Parish Hall\, Spring Street
END:VEVENT
BEGIN:VEVENT
DTSTART;TZID=America/New_York:20240812T100000
DTEND;TZID=America/New_York:20240812T103000
DTSTAMP:20260420T173432
CREATED:20240719T151832Z
LAST-MODIFIED:20240719T151832Z
UID:25103-1723456800-1723458600@www.gracechurchamherst.org
SUMMARY:Staff Meeting
DESCRIPTION:
URL:https://www.gracechurchamherst.org/event/staff-meeting-115/
END:VEVENT
BEGIN:VEVENT
DTSTART;TZID=America/New_York:20240812T121500
DTEND;TZID=America/New_York:20240812T124500
DTSTAMP:20260420T173432
CREATED:20240712T144533Z
LAST-MODIFIED:20240712T144533Z
UID:25058-1723464900-1723466700@www.gracechurchamherst.org
SUMMARY:Poetry & Prayer
DESCRIPTION:
URL:https://www.gracechurchamherst.org/event/poetry-prayer-4/
END:VEVENT
BEGIN:VEVENT
DTSTART;TZID=America/New_York:20240812T190000
DTEND;TZID=America/New_York:20240812T200000
DTSTAMP:20260420T173432
CREATED:20240712T144914Z
LAST-MODIFIED:20240712T144914Z
UID:25068-1723489200-1723492800@www.gracechurchamherst.org
SUMMARY:AA Meeting
DESCRIPTION:
URL:https://www.gracechurchamherst.org/event/aa-meeting-731/
LOCATION:Parish Hall\, Spring Street
END:VEVENT
END:VCALENDAR