BEGIN:VCALENDAR
VERSION:2.0
PRODID:-//Grace Episcopal Church, Amherst MA - ECPv6.15.20//NONSGML v1.0//EN
CALSCALE:GREGORIAN
METHOD:PUBLISH
X-WR-CALNAME:Grace Episcopal Church, Amherst MA
X-ORIGINAL-URL:https://www.gracechurchamherst.org
X-WR-CALDESC:Events for Grace Episcopal Church, Amherst MA
REFRESH-INTERVAL;VALUE=DURATION:PT1H
X-Robots-Tag:noindex
X-PUBLISHED-TTL:PT1H
BEGIN:VTIMEZONE
TZID:America/New_York
BEGIN:DAYLIGHT
TZOFFSETFROM:-0500
TZOFFSETTO:-0400
TZNAME:EDT
DTSTART:20230312T070000
END:DAYLIGHT
BEGIN:STANDARD
TZOFFSETFROM:-0400
TZOFFSETTO:-0500
TZNAME:EST
DTSTART:20231105T060000
END:STANDARD
BEGIN:DAYLIGHT
TZOFFSETFROM:-0500
TZOFFSETTO:-0400
TZNAME:EDT
DTSTART:20240310T070000
END:DAYLIGHT
BEGIN:STANDARD
TZOFFSETFROM:-0400
TZOFFSETTO:-0500
TZNAME:EST
DTSTART:20241103T060000
END:STANDARD
BEGIN:DAYLIGHT
TZOFFSETFROM:-0500
TZOFFSETTO:-0400
TZNAME:EDT
DTSTART:20250309T070000
END:DAYLIGHT
BEGIN:STANDARD
TZOFFSETFROM:-0400
TZOFFSETTO:-0500
TZNAME:EST
DTSTART:20251102T060000
END:STANDARD
END:VTIMEZONE
BEGIN:VEVENT
DTSTART;TZID=America/New_York:20241201T080000
DTEND;TZID=America/New_York:20241201T090000
DTSTAMP:20260420T113210
CREATED:20241104T192957Z
LAST-MODIFIED:20241104T192957Z
UID:25845-1733040000-1733043600@www.gracechurchamherst.org
SUMMARY:Holy Eucharist
DESCRIPTION:
URL:https://www.gracechurchamherst.org/event/holy-eucharist-109/
LOCATION:Sanctuary
END:VEVENT
BEGIN:VEVENT
DTSTART;TZID=America/New_York:20241201T090000
DTEND;TZID=America/New_York:20241201T100000
DTSTAMP:20260420T113210
CREATED:20241114T155838Z
LAST-MODIFIED:20241114T155838Z
UID:25964-1733043600-1733047200@www.gracechurchamherst.org
SUMMARY:Coffee Hour
DESCRIPTION:
URL:https://www.gracechurchamherst.org/event/coffee-hour-94/
LOCATION:Connector
END:VEVENT
BEGIN:VEVENT
DTSTART;TZID=America/New_York:20241201T103000
DTEND;TZID=America/New_York:20241201T113000
DTSTAMP:20260420T113210
CREATED:20241119T154823Z
LAST-MODIFIED:20241119T154823Z
UID:26014-1733049000-1733052600@www.gracechurchamherst.org
SUMMARY:Holy Eucharist
DESCRIPTION:
URL:https://www.gracechurchamherst.org/event/holy-eucharist-114/
LOCATION:Sanctuary
END:VEVENT
BEGIN:VEVENT
DTSTART;TZID=America/New_York:20241201T113000
DTEND;TZID=America/New_York:20241201T123000
DTSTAMP:20260420T113210
CREATED:20241105T162804Z
LAST-MODIFIED:20241119T155144Z
UID:25857-1733052600-1733056200@www.gracechurchamherst.org
SUMMARY:Coffee Hour
DESCRIPTION:
URL:https://www.gracechurchamherst.org/event/coffee-hour-90/
LOCATION:Connector
END:VEVENT
BEGIN:VEVENT
DTSTART;TZID=America/New_York:20241201T120000
DTEND;TZID=America/New_York:20241201T170000
DTSTAMP:20260420T113210
CREATED:20241119T155257Z
LAST-MODIFIED:20241119T155257Z
UID:26023-1733054400-1733072400@www.gracechurchamherst.org
SUMMARY:Iconography
DESCRIPTION:
URL:https://www.gracechurchamherst.org/event/iconography-6/
LOCATION:Parish Hall\, Spring Street
END:VEVENT
BEGIN:VEVENT
DTSTART;TZID=America/New_York:20241201T160000
DTEND;TZID=America/New_York:20241201T180000
DTSTAMP:20260420T113210
CREATED:20241119T155507Z
LAST-MODIFIED:20241119T155507Z
UID:26029-1733068800-1733076000@www.gracechurchamherst.org
SUMMARY:Messiah Sing-A-Long
DESCRIPTION:Come join us for a sing-along of Handel’s Messiah in the Grace Church sanctuary. Sing the choruses along with the orchestra and soloists who will participate in this festive occasion. Last year\, this event filled the church and was very joyous. We will provide scores if you need one and want to sing\, or simply come and listen to all of the glorious music. Cash or check donations will benefit the Sidney F. Smith Toy Fund of the Daily Hampshire Gazette.
URL:https://www.gracechurchamherst.org/event/messiah-sing-a-long/
LOCATION:Sanctuary
END:VEVENT
BEGIN:VEVENT
DTSTART;TZID=America/New_York:20241201T193000
DTEND;TZID=America/New_York:20241201T203000
DTSTAMP:20260420T113210
CREATED:20241101T153443Z
LAST-MODIFIED:20241101T153443Z
UID:25819-1733081400-1733085000@www.gracechurchamherst.org
SUMMARY:AA Meeting
DESCRIPTION:
URL:https://www.gracechurchamherst.org/event/aa-meeting-23/
LOCATION:Parish Hall\, Spring Street
END:VEVENT
BEGIN:VEVENT
DTSTART;TZID=America/New_York:20241202T100000
DTEND;TZID=America/New_York:20241202T103000
DTSTAMP:20260420T113210
CREATED:20241108T172541Z
LAST-MODIFIED:20241108T172541Z
UID:25919-1733133600-1733135400@www.gracechurchamherst.org
SUMMARY:Staff Meeting
DESCRIPTION:
URL:https://www.gracechurchamherst.org/event/staff-meeting-37/
END:VEVENT
BEGIN:VEVENT
DTSTART;TZID=America/New_York:20241202T180000
DTEND;TZID=America/New_York:20241202T200000
DTSTAMP:20260420T113210
CREATED:20241119T155619Z
LAST-MODIFIED:20241119T155619Z
UID:26031-1733162400-1733169600@www.gracechurchamherst.org
SUMMARY:Advent Supper
DESCRIPTION:
URL:https://www.gracechurchamherst.org/event/advent-supper-5/
END:VEVENT
BEGIN:VEVENT
DTSTART;TZID=America/New_York:20241202T190000
DTEND;TZID=America/New_York:20241202T200000
DTSTAMP:20260420T113210
CREATED:20241025T145649Z
LAST-MODIFIED:20241025T145649Z
UID:25760-1733166000-1733169600@www.gracechurchamherst.org
SUMMARY:AA Meeting
DESCRIPTION:
URL:https://www.gracechurchamherst.org/event/aa-meeting-21/
LOCATION:Parish Hall\, Spring Street
END:VEVENT
BEGIN:VEVENT
DTSTART;TZID=America/New_York:20241203T171500
DTEND;TZID=America/New_York:20241203T181500
DTSTAMP:20260420T113210
CREATED:20241115T155431Z
LAST-MODIFIED:20241115T155431Z
UID:25974-1733246100-1733249700@www.gracechurchamherst.org
SUMMARY:AA Meeting
DESCRIPTION:
URL:https://www.gracechurchamherst.org/event/aa-meeting-26/
LOCATION:Parish Hall\, Spring Street
END:VEVENT
BEGIN:VEVENT
DTSTART;TZID=America/New_York:20241203T190000
DTEND;TZID=America/New_York:20241203T200000
DTSTAMP:20260420T113210
CREATED:20241122T162813Z
LAST-MODIFIED:20241122T162813Z
UID:26046-1733252400-1733256000@www.gracechurchamherst.org
SUMMARY:Al-Anon Meeting
DESCRIPTION:
URL:https://www.gracechurchamherst.org/event/al-anon-meeting-39/
LOCATION:Parish Hall\, Spring Street
END:VEVENT
BEGIN:VEVENT
DTSTART;TZID=America/New_York:20241204T121000
DTEND;TZID=America/New_York:20241204T130000
DTSTAMP:20260420T113210
CREATED:20241115T155706Z
LAST-MODIFIED:20241115T155706Z
UID:25980-1733314200-1733317200@www.gracechurchamherst.org
SUMMARY:Holy Eucharist according to Rite I with Healing Prayer
DESCRIPTION:
URL:https://www.gracechurchamherst.org/event/holy-eucharist-according-to-rite-i-with-healing-prayer-41/
LOCATION:Sanctuary
END:VEVENT
BEGIN:VEVENT
DTSTART;TZID=America/New_York:20241205T180000
DTEND;TZID=America/New_York:20241205T200000
DTSTAMP:20260420T113210
CREATED:20241122T163059Z
LAST-MODIFIED:20241122T163059Z
UID:26056-1733421600-1733428800@www.gracechurchamherst.org
SUMMARY:Advent Supper
DESCRIPTION:
URL:https://www.gracechurchamherst.org/event/advent-supper-6/
END:VEVENT
BEGIN:VEVENT
DTSTART;TZID=America/New_York:20241205T180000
DTEND;TZID=America/New_York:20241205T210000
DTSTAMP:20260420T113210
CREATED:20241114T155026Z
LAST-MODIFIED:20241114T155026Z
UID:25940-1733421600-1733432400@www.gracechurchamherst.org
SUMMARY:Choir Rehearsal
DESCRIPTION:
URL:https://www.gracechurchamherst.org/event/choir-rehearsal-40/
LOCATION:Sanctuary
END:VEVENT
BEGIN:VEVENT
DTSTART;TZID=America/New_York:20241206T070000
DTEND;TZID=America/New_York:20241206T083000
DTSTAMP:20260420T113210
CREATED:20241122T163321Z
LAST-MODIFIED:20241122T163321Z
UID:26064-1733468400-1733473800@www.gracechurchamherst.org
SUMMARY:Mens' Group
DESCRIPTION:
URL:https://www.gracechurchamherst.org/event/mens-group-79/
LOCATION:Parker Room
END:VEVENT
BEGIN:VEVENT
DTSTART;TZID=America/New_York:20241206T173000
DTEND;TZID=America/New_York:20241206T183000
DTSTAMP:20260420T113210
CREATED:20241114T155429Z
LAST-MODIFIED:20241114T155429Z
UID:25952-1733506200-1733509800@www.gracechurchamherst.org
SUMMARY:Evensong
DESCRIPTION:
URL:https://www.gracechurchamherst.org/event/evensong-6/
LOCATION:Sanctuary
END:VEVENT
BEGIN:VEVENT
DTSTART;TZID=America/New_York:20241207T090000
DTEND;TZID=America/New_York:20241207T140000
DTSTAMP:20260420T113210
CREATED:20241018T153147Z
LAST-MODIFIED:20241018T153147Z
UID:25745-1733562000-1733580000@www.gracechurchamherst.org
SUMMARY:St. Nicholas Bazaar
DESCRIPTION:
URL:https://www.gracechurchamherst.org/event/st-nicholas-bazaar-4/
LOCATION:Parish Hall\, Spring Street
END:VEVENT
BEGIN:VEVENT
DTSTART;TZID=America/New_York:20241207T100000
DTEND;TZID=America/New_York:20241207T110000
DTSTAMP:20260420T113210
CREATED:20241106T164017Z
LAST-MODIFIED:20241106T164017Z
UID:25889-1733565600-1733569200@www.gracechurchamherst.org
SUMMARY:Zoom Bible Study
DESCRIPTION:
URL:https://www.gracechurchamherst.org/event/zoom-bible-study-28/
END:VEVENT
BEGIN:VEVENT
DTSTART;TZID=America/New_York:20241207T170000
DTEND;TZID=America/New_York:20241207T180000
DTSTAMP:20260420T113210
CREATED:20241119T154455Z
LAST-MODIFIED:20241205T163100Z
UID:26004-1733590800-1733594400@www.gracechurchamherst.org
SUMMARY:AA Meeting
DESCRIPTION:
URL:https://www.gracechurchamherst.org/event/aa-meeting-35/
LOCATION:Parish Hall\, Spring Street
END:VEVENT
BEGIN:VEVENT
DTSTART;TZID=America/New_York:20241207T200000
DTEND;TZID=America/New_York:20241207T210000
DTSTAMP:20260420T113210
CREATED:20241122T163614Z
LAST-MODIFIED:20241122T163614Z
UID:26070-1733601600-1733605200@www.gracechurchamherst.org
SUMMARY:AA Meeting
DESCRIPTION:
URL:https://www.gracechurchamherst.org/event/aa-meeting-30/
LOCATION:Parish Hall\, Spring Street
END:VEVENT
BEGIN:VEVENT
DTSTART;TZID=America/New_York:20241208T080000
DTEND;TZID=America/New_York:20241208T090000
DTSTAMP:20260420T113210
CREATED:20241114T155647Z
LAST-MODIFIED:20241114T155647Z
UID:25958-1733644800-1733648400@www.gracechurchamherst.org
SUMMARY:Holy Eucharist
DESCRIPTION:
URL:https://www.gracechurchamherst.org/event/holy-eucharist-280/
LOCATION:Sanctuary
END:VEVENT
BEGIN:VEVENT
DTSTART;TZID=America/New_York:20241208T090000
DTEND;TZID=America/New_York:20241208T100000
DTSTAMP:20260420T113210
CREATED:20241108T171548Z
LAST-MODIFIED:20241122T163737Z
UID:25901-1733648400-1733652000@www.gracechurchamherst.org
SUMMARY:Coffee Hour
DESCRIPTION:
URL:https://www.gracechurchamherst.org/event/holy-eucharist-112/
LOCATION:Columbarium
END:VEVENT
BEGIN:VEVENT
DTSTART;TZID=America/New_York:20241208T091500
DTEND;TZID=America/New_York:20241208T101500
DTSTAMP:20260420T113210
CREATED:20241205T163324Z
LAST-MODIFIED:20241205T163324Z
UID:26113-1733649300-1733652900@www.gracechurchamherst.org
SUMMARY:Advent: Prepare\, Hope\, and Action
DESCRIPTION:Advent is a Christian season of preparation and anticipation that takes place in the four Sundays and weekdays leading up to Christmas.  Be with us the final three Sundays of this season as we explore the following questions for Advent: \nSunday\, December 8th: What are you preparing for? \nSunday\, December 15th: What are you hoping for? \n\nSunday: December 22nd: What are you ready to do?\nPlease consider joining us. Reach out to Tom with any questions.
URL:https://www.gracechurchamherst.org/event/advent-prepare-hope-and-action/
LOCATION:Fireplace Room in Parke House
END:VEVENT
BEGIN:VEVENT
DTSTART;TZID=America/New_York:20241208T091500
DTEND;TZID=America/New_York:20241208T101500
DTSTAMP:20260420T113210
CREATED:20241205T163947Z
LAST-MODIFIED:20241205T163947Z
UID:26119-1733649300-1733652900@www.gracechurchamherst.org
SUMMARY:Christmas Pageant Rehearsal
DESCRIPTION:Children and youth are invited to help tell the Christmas story through our annual pageant\, held Christmas Eve at 4 p.m. There are a variety of roles and ways to be involved\, whether your child is ready to sing solo or prefers blending in with the crowd! Participants do not have to make all rehearsal\, and out of town guests are welcome to join the day of the pageant! Please email Megan if you think your child(ren) will participate and with any preferences they might have about role.
URL:https://www.gracechurchamherst.org/event/christmas-pageant-rehearsal/
LOCATION:Parish Hall\, Spring Street
END:VEVENT
BEGIN:VEVENT
DTSTART;TZID=America/New_York:20241208T103000
DTEND;TZID=America/New_York:20241208T113000
DTSTAMP:20260420T113210
CREATED:20241119T154849Z
LAST-MODIFIED:20241119T154849Z
UID:26016-1733653800-1733657400@www.gracechurchamherst.org
SUMMARY:Holy Eucharist
DESCRIPTION:
URL:https://www.gracechurchamherst.org/event/holy-eucharist-119/
LOCATION:Sanctuary
END:VEVENT
BEGIN:VEVENT
DTSTART;TZID=America/New_York:20241208T113000
DTEND;TZID=America/New_York:20241208T123000
DTSTAMP:20260420T113210
CREATED:20241105T162830Z
LAST-MODIFIED:20241105T162830Z
UID:25859-1733657400-1733661000@www.gracechurchamherst.org
SUMMARY:Coffee Hour
DESCRIPTION:
URL:https://www.gracechurchamherst.org/event/coffee-hour-91/
LOCATION:Connector
END:VEVENT
BEGIN:VEVENT
DTSTART;TZID=America/New_York:20241208T114500
DTEND;TZID=America/New_York:20241208T124500
DTSTAMP:20260420T113210
CREATED:20240801T145404Z
LAST-MODIFIED:20240801T145404Z
UID:25201-1733658300-1733661900@www.gracechurchamherst.org
SUMMARY:Climate Action@Grace
DESCRIPTION:
URL:https://www.gracechurchamherst.org/event/climate-actiongrace-21/
LOCATION:Fireplace Room in Parke House
END:VEVENT
BEGIN:VEVENT
DTSTART;TZID=America/New_York:20241208T120000
DTEND;TZID=America/New_York:20241208T130000
DTSTAMP:20260420T113210
CREATED:20241205T164247Z
LAST-MODIFIED:20241205T164247Z
UID:26125-1733659200-1733662800@www.gracechurchamherst.org
SUMMARY:Nominations Committee Tea
DESCRIPTION:
URL:https://www.gracechurchamherst.org/event/nominations-committee-tea/
LOCATION:Parker Room
END:VEVENT
BEGIN:VEVENT
DTSTART;TZID=America/New_York:20241208T120000
DTEND;TZID=America/New_York:20241208T170000
DTSTAMP:20260420T113210
CREATED:20241119T155326Z
LAST-MODIFIED:20241119T155326Z
UID:26025-1733659200-1733677200@www.gracechurchamherst.org
SUMMARY:Iconography
DESCRIPTION:
URL:https://www.gracechurchamherst.org/event/iconography-26/
LOCATION:Parish Hall\, Spring Street
END:VEVENT
END:VCALENDAR