BEGIN:VCALENDAR
VERSION:2.0
PRODID:-//Grace Episcopal Church, Amherst MA - ECPv6.15.20//NONSGML v1.0//EN
CALSCALE:GREGORIAN
METHOD:PUBLISH
X-WR-CALNAME:Grace Episcopal Church, Amherst MA
X-ORIGINAL-URL:https://www.gracechurchamherst.org
X-WR-CALDESC:Events for Grace Episcopal Church, Amherst MA
REFRESH-INTERVAL;VALUE=DURATION:PT1H
X-Robots-Tag:noindex
X-PUBLISHED-TTL:PT1H
BEGIN:VTIMEZONE
TZID:America/New_York
BEGIN:DAYLIGHT
TZOFFSETFROM:-0500
TZOFFSETTO:-0400
TZNAME:EDT
DTSTART:20240310T070000
END:DAYLIGHT
BEGIN:STANDARD
TZOFFSETFROM:-0400
TZOFFSETTO:-0500
TZNAME:EST
DTSTART:20241103T060000
END:STANDARD
BEGIN:DAYLIGHT
TZOFFSETFROM:-0500
TZOFFSETTO:-0400
TZNAME:EDT
DTSTART:20250309T070000
END:DAYLIGHT
BEGIN:STANDARD
TZOFFSETFROM:-0400
TZOFFSETTO:-0500
TZNAME:EST
DTSTART:20251102T060000
END:STANDARD
BEGIN:DAYLIGHT
TZOFFSETFROM:-0500
TZOFFSETTO:-0400
TZNAME:EDT
DTSTART:20260308T070000
END:DAYLIGHT
BEGIN:STANDARD
TZOFFSETFROM:-0400
TZOFFSETTO:-0500
TZNAME:EST
DTSTART:20261101T060000
END:STANDARD
END:VTIMEZONE
BEGIN:VEVENT
DTSTART;TZID=America/New_York:20250401T170000
DTEND;TZID=America/New_York:20250401T180000
DTSTAMP:20260420T052700
CREATED:20250325T160845Z
LAST-MODIFIED:20250325T160845Z
UID:27062-1743526800-1743530400@www.gracechurchamherst.org
SUMMARY:Liturgical Comm. Meeting
DESCRIPTION:
URL:https://www.gracechurchamherst.org/event/liturgical-comm-meeting-2/
END:VEVENT
BEGIN:VEVENT
DTSTART;TZID=America/New_York:20250401T171500
DTEND;TZID=America/New_York:20250401T181500
DTSTAMP:20260420T052700
CREATED:20250325T160721Z
LAST-MODIFIED:20250325T160721Z
UID:27058-1743527700-1743531300@www.gracechurchamherst.org
SUMMARY:AA Meeting
DESCRIPTION:
URL:https://www.gracechurchamherst.org/event/aa-meeting-110/
LOCATION:Parish Hall\, Spring Street
END:VEVENT
BEGIN:VEVENT
DTSTART;TZID=America/New_York:20250401T190000
DTEND;TZID=America/New_York:20250401T200000
DTSTAMP:20260420T052700
CREATED:20250307T155548Z
LAST-MODIFIED:20250307T155548Z
UID:26906-1743534000-1743537600@www.gracechurchamherst.org
SUMMARY:Al-Anon Meeting
DESCRIPTION:
URL:https://www.gracechurchamherst.org/event/al-anon-meeting-56/
LOCATION:Parish Hall\, Spring Street
END:VEVENT
BEGIN:VEVENT
DTSTART;TZID=America/New_York:20250402T121500
DTEND;TZID=America/New_York:20250402T130000
DTSTAMP:20260420T052700
CREATED:20250324T151146Z
LAST-MODIFIED:20250324T151146Z
UID:27003-1743596100-1743598800@www.gracechurchamherst.org
SUMMARY:Holy Eucharist according to Rite I with Healing Prayer
DESCRIPTION:
URL:https://www.gracechurchamherst.org/event/holy-eucharist-according-to-rite-i-with-healing-prayer-53/
LOCATION:Sanctuary
END:VEVENT
BEGIN:VEVENT
DTSTART;TZID=America/New_York:20250403T143000
DTEND;TZID=America/New_York:20250403T170000
DTSTAMP:20260420T052700
CREATED:20250207T165317Z
LAST-MODIFIED:20250207T165317Z
UID:26741-1743690600-1743699600@www.gracechurchamherst.org
SUMMARY:Tea & Titles
DESCRIPTION:
URL:https://www.gracechurchamherst.org/event/tea-titles-6/
LOCATION:Connector
END:VEVENT
BEGIN:VEVENT
DTSTART;TZID=America/New_York:20250403T190000
DTEND;TZID=America/New_York:20250403T213000
DTSTAMP:20260420T052700
CREATED:20250326T140156Z
LAST-MODIFIED:20250326T140156Z
UID:27068-1743706800-1743715800@www.gracechurchamherst.org
SUMMARY:Choir Rehearsal
DESCRIPTION:
URL:https://www.gracechurchamherst.org/event/choir-rehearsal-53/
LOCATION:Sanctuary
END:VEVENT
BEGIN:VEVENT
DTSTART;TZID=America/New_York:20250404T173000
DTEND;TZID=America/New_York:20250404T183000
DTSTAMP:20260420T052700
CREATED:20250326T140535Z
LAST-MODIFIED:20250326T140535Z
UID:27080-1743787800-1743791400@www.gracechurchamherst.org
SUMMARY:Evensong
DESCRIPTION:
URL:https://www.gracechurchamherst.org/event/evensong-20/
LOCATION:Sanctuary
END:VEVENT
BEGIN:VEVENT
DTSTART;TZID=America/New_York:20250405T100000
DTEND;TZID=America/New_York:20250405T110000
DTSTAMP:20260420T052700
CREATED:20250321T162654Z
LAST-MODIFIED:20250321T162654Z
UID:26963-1743847200-1743850800@www.gracechurchamherst.org
SUMMARY:Zoom Bible Study
DESCRIPTION:
URL:https://www.gracechurchamherst.org/event/zoom-bible-study-41/
END:VEVENT
BEGIN:VEVENT
DTSTART;TZID=America/New_York:20250405T100000
DTEND;TZID=America/New_York:20250405T140000
DTSTAMP:20260420T052700
CREATED:20250326T140916Z
LAST-MODIFIED:20250326T141213Z
UID:27090-1743847200-1743861600@www.gracechurchamherst.org
SUMMARY:Young Adult Retreat
DESCRIPTION:Young adults ages 18-40 from across the diocese are invited to come together for a Lent retreat day involving worship and prayer\, individual reflective and creative time\, and small group conversation. Please register at https://forms.gle/SBWwZ5iq5Ac7GqJv9\, or email Megan for details.
URL:https://www.gracechurchamherst.org/event/young-adult-retreat/
END:VEVENT
BEGIN:VEVENT
DTSTART;TZID=America/New_York:20250405T170000
DTEND;TZID=America/New_York:20250405T180000
DTSTAMP:20260420T052700
CREATED:20250321T164819Z
LAST-MODIFIED:20250321T164819Z
UID:26977-1743872400-1743876000@www.gracechurchamherst.org
SUMMARY:AA Meeting
DESCRIPTION:
URL:https://www.gracechurchamherst.org/event/aa-meeting-94/
LOCATION:Parish Hall\, Spring Street
END:VEVENT
BEGIN:VEVENT
DTSTART;TZID=America/New_York:20250405T200000
DTEND;TZID=America/New_York:20250405T210000
DTSTAMP:20260420T052700
CREATED:20250321T170819Z
LAST-MODIFIED:20250321T170819Z
UID:26987-1743883200-1743886800@www.gracechurchamherst.org
SUMMARY:AA Meeting
DESCRIPTION:
URL:https://www.gracechurchamherst.org/event/aa-meeting-99/
LOCATION:Parish Hall\, Spring Street
END:VEVENT
BEGIN:VEVENT
DTSTART;TZID=America/New_York:20250406T080000
DTEND;TZID=America/New_York:20250406T090000
DTSTAMP:20260420T052700
CREATED:20250326T141315Z
LAST-MODIFIED:20250326T141315Z
UID:27094-1743926400-1743930000@www.gracechurchamherst.org
SUMMARY:Holy Eucharist
DESCRIPTION:
URL:https://www.gracechurchamherst.org/event/holy-eucharist-144/
LOCATION:Sanctuary
END:VEVENT
BEGIN:VEVENT
DTSTART;TZID=America/New_York:20250406T090000
DTEND;TZID=America/New_York:20250406T100000
DTSTAMP:20260420T052700
CREATED:20250321T171656Z
LAST-MODIFIED:20250321T171656Z
UID:26995-1743930000-1743933600@www.gracechurchamherst.org
SUMMARY:Coffee Hour
DESCRIPTION:
URL:https://www.gracechurchamherst.org/event/coffee-hour-120/
LOCATION:Connector
END:VEVENT
BEGIN:VEVENT
DTSTART;TZID=America/New_York:20250406T091500
DTEND;TZID=America/New_York:20250406T101500
DTSTAMP:20260420T052700
CREATED:20250228T155013Z
LAST-MODIFIED:20250228T155013Z
UID:26847-1743930900-1743934500@www.gracechurchamherst.org
SUMMARY:Lenten Book Series
DESCRIPTION:
URL:https://www.gracechurchamherst.org/event/lenten-book-series-21/
END:VEVENT
BEGIN:VEVENT
DTSTART;TZID=America/New_York:20250406T103000
DTEND;TZID=America/New_York:20250406T113000
DTSTAMP:20260420T052700
CREATED:20250314T145919Z
LAST-MODIFIED:20250314T145919Z
UID:26929-1743935400-1743939000@www.gracechurchamherst.org
SUMMARY:Holy Eucharist
DESCRIPTION:
URL:https://www.gracechurchamherst.org/event/holy-eucharist-141/
LOCATION:Sanctuary
END:VEVENT
BEGIN:VEVENT
DTSTART;TZID=America/New_York:20250406T113000
DTEND;TZID=America/New_York:20250406T123000
DTSTAMP:20260420T052700
CREATED:20250325T155641Z
LAST-MODIFIED:20250325T155641Z
UID:27022-1743939000-1743942600@www.gracechurchamherst.org
SUMMARY:Coffee Hour
DESCRIPTION:
URL:https://www.gracechurchamherst.org/event/coffee-hour-122/
LOCATION:Connector
END:VEVENT
BEGIN:VEVENT
DTSTART;TZID=America/New_York:20250406T120000
DTEND;TZID=America/New_York:20250406T170000
DTSTAMP:20260420T052700
CREATED:20250314T150136Z
LAST-MODIFIED:20250314T150136Z
UID:26939-1743940800-1743958800@www.gracechurchamherst.org
SUMMARY:Iconography
DESCRIPTION:
URL:https://www.gracechurchamherst.org/event/iconography-138/
LOCATION:Parish Hall\, Spring Street
END:VEVENT
BEGIN:VEVENT
DTSTART;TZID=America/New_York:20250406T193000
DTEND;TZID=America/New_York:20250406T203000
DTSTAMP:20260420T052700
CREATED:20250325T160039Z
LAST-MODIFIED:20250325T160039Z
UID:27036-1743967800-1743971400@www.gracechurchamherst.org
SUMMARY:AA Meeting
DESCRIPTION:
URL:https://www.gracechurchamherst.org/event/aa-meeting-103/
LOCATION:Parish Hall\, Spring Street
END:VEVENT
BEGIN:VEVENT
DTSTART;TZID=America/New_York:20250407T100000
DTEND;TZID=America/New_York:20250407T103000
DTSTAMP:20260420T052700
CREATED:20250325T160317Z
LAST-MODIFIED:20250325T160317Z
UID:27046-1744020000-1744021800@www.gracechurchamherst.org
SUMMARY:Staff Meeting
DESCRIPTION:
URL:https://www.gracechurchamherst.org/event/staff-meeting-51/
END:VEVENT
BEGIN:VEVENT
DTSTART;TZID=America/New_York:20250407T121500
DTEND;TZID=America/New_York:20250407T124500
DTSTAMP:20260420T052700
CREATED:20250326T141611Z
LAST-MODIFIED:20250326T141611Z
UID:27100-1744028100-1744029900@www.gracechurchamherst.org
SUMMARY:Lenten Poetry Meditations
DESCRIPTION:
URL:https://www.gracechurchamherst.org/event/lenten-poetry-meditations-4/
END:VEVENT
BEGIN:VEVENT
DTSTART;TZID=America/New_York:20250407T190000
DTEND;TZID=America/New_York:20250407T200000
DTSTAMP:20260420T052700
CREATED:20250325T160541Z
LAST-MODIFIED:20250325T160541Z
UID:27054-1744052400-1744056000@www.gracechurchamherst.org
SUMMARY:AA Meeting
DESCRIPTION:
URL:https://www.gracechurchamherst.org/event/aa-meeting-108/
LOCATION:Parish Hall\, Spring Street
END:VEVENT
BEGIN:VEVENT
DTSTART;TZID=America/New_York:20250408T093000
DTEND;TZID=America/New_York:20250408T120000
DTSTAMP:20260420T052700
CREATED:20250326T141659Z
LAST-MODIFIED:20250326T141659Z
UID:27102-1744104600-1744113600@www.gracechurchamherst.org
SUMMARY:Raising the Questions
DESCRIPTION:
URL:https://www.gracechurchamherst.org/event/raising-the-questions-30/
LOCATION:Connector
END:VEVENT
BEGIN:VEVENT
DTSTART;TZID=America/New_York:20250408T171500
DTEND;TZID=America/New_York:20250408T181500
DTSTAMP:20260420T052700
CREATED:20250325T160805Z
LAST-MODIFIED:20250325T160805Z
UID:27060-1744132500-1744136100@www.gracechurchamherst.org
SUMMARY:AA Meeting
DESCRIPTION:
URL:https://www.gracechurchamherst.org/event/aa-meeting-111/
LOCATION:Parish Hall\, Spring Street
END:VEVENT
BEGIN:VEVENT
DTSTART;TZID=America/New_York:20250408T190000
DTEND;TZID=America/New_York:20250408T200000
DTSTAMP:20260420T052700
CREATED:20250327T152431Z
LAST-MODIFIED:20250327T152431Z
UID:27104-1744138800-1744142400@www.gracechurchamherst.org
SUMMARY:Al-Anon Meeting
DESCRIPTION:
URL:https://www.gracechurchamherst.org/event/al-anon-meeting-57/
LOCATION:Parish Hall\, Spring Street
END:VEVENT
BEGIN:VEVENT
DTSTART;TZID=America/New_York:20250409T121500
DTEND;TZID=America/New_York:20250409T130000
DTSTAMP:20260420T052700
CREATED:20250324T151217Z
LAST-MODIFIED:20250324T151217Z
UID:27005-1744200900-1744203600@www.gracechurchamherst.org
SUMMARY:Holy Eucharist according to Rite I with Healing Prayer
DESCRIPTION:
URL:https://www.gracechurchamherst.org/event/holy-eucharist-according-to-rite-i-with-healing-prayer-54/
LOCATION:Sanctuary
END:VEVENT
BEGIN:VEVENT
DTSTART;TZID=America/New_York:20250410T190000
DTEND;TZID=America/New_York:20250410T213000
DTSTAMP:20260420T052700
CREATED:20250326T140229Z
LAST-MODIFIED:20250326T140229Z
UID:27070-1744311600-1744320600@www.gracechurchamherst.org
SUMMARY:Choir Rehearsal
DESCRIPTION:
URL:https://www.gracechurchamherst.org/event/choir-rehearsal-54/
LOCATION:Sanctuary
END:VEVENT
BEGIN:VEVENT
DTSTART;TZID=America/New_York:20250411T070000
DTEND;TZID=America/New_York:20250411T083000
DTSTAMP:20260420T052700
CREATED:20250327T152940Z
LAST-MODIFIED:20250327T152940Z
UID:27116-1744354800-1744360200@www.gracechurchamherst.org
SUMMARY:Men's Group
DESCRIPTION:
URL:https://www.gracechurchamherst.org/event/mens-group-5/
LOCATION:Parker Room
END:VEVENT
BEGIN:VEVENT
DTSTART;TZID=America/New_York:20250411T110000
DTEND;TZID=America/New_York:20250411T111100
DTSTAMP:20260420T052700
CREATED:20250404T145816Z
LAST-MODIFIED:20250404T145816Z
UID:27204-1744369200-1744369860@www.gracechurchamherst.org
SUMMARY:Bell Ringing for Climate Action
DESCRIPTION:
URL:https://www.gracechurchamherst.org/event/bell-ringing-for-climate-action/
LOCATION:Front Lawn\, 14 Boltwood Ave.\, Amherst\, MA\, 01002\, United States
END:VEVENT
BEGIN:VEVENT
DTSTART;TZID=America/New_York:20250411T173000
DTEND;TZID=America/New_York:20250411T183000
DTSTAMP:20260420T052700
CREATED:20250326T140558Z
LAST-MODIFIED:20250326T140558Z
UID:27082-1744392600-1744396200@www.gracechurchamherst.org
SUMMARY:Evensong
DESCRIPTION:
URL:https://www.gracechurchamherst.org/event/evensong-21/
LOCATION:Sanctuary
END:VEVENT
BEGIN:VEVENT
DTSTART;TZID=America/New_York:20250412T093000
DTEND;TZID=America/New_York:20250412T130000
DTSTAMP:20260420T052700
CREATED:20250327T153302Z
LAST-MODIFIED:20250327T153302Z
UID:27126-1744450200-1744462800@www.gracechurchamherst.org
SUMMARY:Stations of the Cross - SCHC
DESCRIPTION:
URL:https://www.gracechurchamherst.org/event/stations-of-the-cross-schc/
LOCATION:Chapel
END:VEVENT
END:VCALENDAR