BEGIN:VCALENDAR
VERSION:2.0
PRODID:-//Grace Episcopal Church, Amherst MA - ECPv6.15.20//NONSGML v1.0//EN
CALSCALE:GREGORIAN
METHOD:PUBLISH
X-WR-CALNAME:Grace Episcopal Church, Amherst MA
X-ORIGINAL-URL:https://www.gracechurchamherst.org
X-WR-CALDESC:Events for Grace Episcopal Church, Amherst MA
REFRESH-INTERVAL;VALUE=DURATION:PT1H
X-Robots-Tag:noindex
X-PUBLISHED-TTL:PT1H
BEGIN:VTIMEZONE
TZID:America/New_York
BEGIN:DAYLIGHT
TZOFFSETFROM:-0500
TZOFFSETTO:-0400
TZNAME:EDT
DTSTART:20240310T070000
END:DAYLIGHT
BEGIN:STANDARD
TZOFFSETFROM:-0400
TZOFFSETTO:-0500
TZNAME:EST
DTSTART:20241103T060000
END:STANDARD
BEGIN:DAYLIGHT
TZOFFSETFROM:-0500
TZOFFSETTO:-0400
TZNAME:EDT
DTSTART:20250309T070000
END:DAYLIGHT
BEGIN:STANDARD
TZOFFSETFROM:-0400
TZOFFSETTO:-0500
TZNAME:EST
DTSTART:20251102T060000
END:STANDARD
BEGIN:DAYLIGHT
TZOFFSETFROM:-0500
TZOFFSETTO:-0400
TZNAME:EDT
DTSTART:20260308T070000
END:DAYLIGHT
BEGIN:STANDARD
TZOFFSETFROM:-0400
TZOFFSETTO:-0500
TZNAME:EST
DTSTART:20261101T060000
END:STANDARD
END:VTIMEZONE
BEGIN:VEVENT
DTSTART;TZID=America/New_York:20250501T193000
DTEND;TZID=America/New_York:20250501T213000
DTSTAMP:20260420T034432
CREATED:20250326T140315Z
LAST-MODIFIED:20250418T144227Z
UID:27072-1746127800-1746135000@www.gracechurchamherst.org
SUMMARY:Choir Rehearsal
DESCRIPTION:
URL:https://www.gracechurchamherst.org/event/choir-rehearsal-55/
LOCATION:Parish Hall\, Spring Street
END:VEVENT
BEGIN:VEVENT
DTSTART;TZID=America/New_York:20250502T173000
DTEND;TZID=America/New_York:20250502T183000
DTSTAMP:20260420T034432
CREATED:20250326T140744Z
LAST-MODIFIED:20250326T140744Z
UID:27088-1746207000-1746210600@www.gracechurchamherst.org
SUMMARY:Evensong
DESCRIPTION:
URL:https://www.gracechurchamherst.org/event/evensong-160/
LOCATION:Sanctuary
END:VEVENT
BEGIN:VEVENT
DTSTART;TZID=America/New_York:20250503T090000
DTEND;TZID=America/New_York:20250503T120000
DTSTAMP:20260420T034432
CREATED:20250418T144430Z
LAST-MODIFIED:20250418T144430Z
UID:27273-1746262800-1746273600@www.gracechurchamherst.org
SUMMARY:Garden Ministry work day
DESCRIPTION:
URL:https://www.gracechurchamherst.org/event/garden-ministry-work-day/
LOCATION:Garth\, 14 Boltwood Ave.\, Amherst\, MA\, 01002\, United States
END:VEVENT
BEGIN:VEVENT
DTSTART;TZID=America/New_York:20250503T100000
DTEND;TZID=America/New_York:20250503T110000
DTSTAMP:20260420T034432
CREATED:20250327T153447Z
LAST-MODIFIED:20250327T153447Z
UID:27132-1746266400-1746270000@www.gracechurchamherst.org
SUMMARY:Zoom Bible Study
DESCRIPTION:
URL:https://www.gracechurchamherst.org/event/zoom-bible-study-47/
END:VEVENT
BEGIN:VEVENT
DTSTART;TZID=America/New_York:20250503T170000
DTEND;TZID=America/New_York:20250503T180000
DTSTAMP:20260420T034432
CREATED:20250404T150635Z
LAST-MODIFIED:20250404T150635Z
UID:27210-1746291600-1746295200@www.gracechurchamherst.org
SUMMARY:AA Meeting
DESCRIPTION:
URL:https://www.gracechurchamherst.org/event/aa-meeting-122/
LOCATION:Parish Hall\, Spring Street
END:VEVENT
BEGIN:VEVENT
DTSTART;TZID=America/New_York:20250503T193000
DTEND;TZID=America/New_York:20250503T213000
DTSTAMP:20260420T034432
CREATED:20250418T144759Z
LAST-MODIFIED:20250418T144759Z
UID:27275-1746300600-1746307800@www.gracechurchamherst.org
SUMMARY:Concert Arcadia Players
DESCRIPTION:“Venetian Vespers:” a reconstruction of Vespers at St Marks in Venice as celebrated in the 1640s\nSaturday May 3\, 2025 at 7:30\nGrace Church\, Amherst\n​\nBy the 1560s the music of St. Mark’s in Venice had more impact on European sacred music than any other church music institution\, a dominance it maintained well into the 17th Century. During this period\, Vespers took on even more musical importance than the Mass\, and music became the focal point of the entire service. Prayers and readings were whispered underneath the sound of the music\, so that Vespers was really more like a concert than a church service. This program features works by two of St. Mark’s most important composers of the time\, Giovanni Rovetta and Giovanni Rigatti. Their music was meant to appeal to the heart much more than to the mind\, and is astoundingly sensual and almost overwhelming in its beauty. \nTickets: https://checkout.square.site/buy/ECB6IMDK65IQEKY6ABOD53PZ
URL:https://www.gracechurchamherst.org/event/concert-arcadia-players/
LOCATION:Sanctuary
END:VEVENT
BEGIN:VEVENT
DTSTART;TZID=America/New_York:20250503T200000
DTEND;TZID=America/New_York:20250503T210000
DTSTAMP:20260420T034432
CREATED:20250418T145044Z
LAST-MODIFIED:20250418T145044Z
UID:27277-1746302400-1746306000@www.gracechurchamherst.org
SUMMARY:AA Meeting
DESCRIPTION:
URL:https://www.gracechurchamherst.org/event/aa-meeting-118/
LOCATION:Parish Hall\, Spring Street
END:VEVENT
BEGIN:VEVENT
DTSTART;TZID=America/New_York:20250504T080000
DTEND;TZID=America/New_York:20250504T090000
DTSTAMP:20260420T034432
CREATED:20250411T144215Z
LAST-MODIFIED:20250411T144215Z
UID:27234-1746345600-1746349200@www.gracechurchamherst.org
SUMMARY:Holy Eucharist
DESCRIPTION:
URL:https://www.gracechurchamherst.org/event/holy-eucharist-152/
LOCATION:Sanctuary
END:VEVENT
BEGIN:VEVENT
DTSTART;TZID=America/New_York:20250504T090000
DTEND;TZID=America/New_York:20250504T100000
DTSTAMP:20260420T034432
CREATED:20250328T143841Z
LAST-MODIFIED:20250328T143841Z
UID:27174-1746349200-1746352800@www.gracechurchamherst.org
SUMMARY:Coffee Hour
DESCRIPTION:
URL:https://www.gracechurchamherst.org/event/coffee-hour-130/
LOCATION:Connector
END:VEVENT
BEGIN:VEVENT
DTSTART;TZID=America/New_York:20250504T093500
DTEND;TZID=America/New_York:20250504T101500
DTSTAMP:20260420T034432
CREATED:20250502T150108Z
LAST-MODIFIED:20250502T150108Z
UID:27347-1746351300-1746353700@www.gracechurchamherst.org
SUMMARY:Liturgy in the Chapel
DESCRIPTION:
URL:https://www.gracechurchamherst.org/event/liturgy-in-the-chapel-9/
LOCATION:Garth\, 14 Boltwood Ave.\, Amherst\, MA\, 01002\, United States
END:VEVENT
BEGIN:VEVENT
DTSTART;TZID=America/New_York:20250504T103000
DTEND;TZID=America/New_York:20250504T113000
DTSTAMP:20260420T034432
CREATED:20250328T144247Z
LAST-MODIFIED:20250328T144247Z
UID:27184-1746354600-1746358200@www.gracechurchamherst.org
SUMMARY:Holy Eucharist
DESCRIPTION:
URL:https://www.gracechurchamherst.org/event/holy-eucharist-286/
LOCATION:Sanctuary
END:VEVENT
BEGIN:VEVENT
DTSTART;TZID=America/New_York:20250504T113000
DTEND;TZID=America/New_York:20250504T123000
DTSTAMP:20260420T034432
CREATED:20250325T155847Z
LAST-MODIFIED:20250325T155847Z
UID:27030-1746358200-1746361800@www.gracechurchamherst.org
SUMMARY:Coffee Hour
DESCRIPTION:
URL:https://www.gracechurchamherst.org/event/coffee-hour-126/
LOCATION:Connector
END:VEVENT
BEGIN:VEVENT
DTSTART;TZID=America/New_York:20250504T120000
DTEND;TZID=America/New_York:20250504T170000
DTSTAMP:20260420T034432
CREATED:20250418T145257Z
LAST-MODIFIED:20250418T145257Z
UID:27283-1746360000-1746378000@www.gracechurchamherst.org
SUMMARY:Iconography
DESCRIPTION:
URL:https://www.gracechurchamherst.org/event/iconography-37/
LOCATION:Parish Hall\, Spring Street
END:VEVENT
BEGIN:VEVENT
DTSTART;TZID=America/New_York:20250504T193000
DTEND;TZID=America/New_York:20250504T203000
DTSTAMP:20260420T034432
CREATED:20250425T143926Z
LAST-MODIFIED:20250425T143926Z
UID:27333-1746387000-1746390600@www.gracechurchamherst.org
SUMMARY:AA Meeting
DESCRIPTION:
URL:https://www.gracechurchamherst.org/event/aa-meeting-127/
LOCATION:Parish Hall\, Spring Street
END:VEVENT
BEGIN:VEVENT
DTSTART;TZID=America/New_York:20250505T100000
DTEND;TZID=America/New_York:20250505T103000
DTSTAMP:20260420T034432
CREATED:20250425T144205Z
LAST-MODIFIED:20250425T144205Z
UID:27337-1746439200-1746441000@www.gracechurchamherst.org
SUMMARY:Staff Meeting
DESCRIPTION:
URL:https://www.gracechurchamherst.org/event/staff-meeting-130/
END:VEVENT
BEGIN:VEVENT
DTSTART;TZID=America/New_York:20250505T121500
DTEND;TZID=America/New_York:20250505T124500
DTSTAMP:20260420T034432
CREATED:20250425T143228Z
LAST-MODIFIED:20250425T143228Z
UID:27317-1746447300-1746449100@www.gracechurchamherst.org
SUMMARY:“This Beautiful Bright Festival”: Easter Art Meditations Inspired by Color
DESCRIPTION:
URL:https://www.gracechurchamherst.org/event/this-beautiful-bright-festival-easter-art-meditations-inspired-by-color-2/
END:VEVENT
BEGIN:VEVENT
DTSTART;TZID=America/New_York:20250505T190000
DTEND;TZID=America/New_York:20250505T200000
DTSTAMP:20260420T034432
CREATED:20250328T144523Z
LAST-MODIFIED:20250328T144523Z
UID:27192-1746471600-1746475200@www.gracechurchamherst.org
SUMMARY:AA Meeting
DESCRIPTION:
URL:https://www.gracechurchamherst.org/event/aa-meeting-124/
LOCATION:Parish Hall\, Spring Street
END:VEVENT
BEGIN:VEVENT
DTSTART;TZID=America/New_York:20250506T171500
DTEND;TZID=America/New_York:20250506T181500
DTSTAMP:20260420T034432
CREATED:20250328T142735Z
LAST-MODIFIED:20250328T142735Z
UID:27150-1746551700-1746555300@www.gracechurchamherst.org
SUMMARY:AA Meeting
DESCRIPTION:
URL:https://www.gracechurchamherst.org/event/aa-meeting-115/
LOCATION:Parish Hall\, Spring Street
END:VEVENT
BEGIN:VEVENT
DTSTART;TZID=America/New_York:20250506T190000
DTEND;TZID=America/New_York:20250506T200000
DTSTAMP:20260420T034432
CREATED:20250327T152619Z
LAST-MODIFIED:20250327T152619Z
UID:27112-1746558000-1746561600@www.gracechurchamherst.org
SUMMARY:Al-Anon Meeting
DESCRIPTION:
URL:https://www.gracechurchamherst.org/event/al-anon-meeting-61/
LOCATION:Parish Hall\, Spring Street
END:VEVENT
BEGIN:VEVENT
DTSTART;TZID=America/New_York:20250507T121000
DTEND;TZID=America/New_York:20250507T130000
DTSTAMP:20260420T034432
CREATED:20250502T150316Z
LAST-MODIFIED:20250502T150316Z
UID:27349-1746619800-1746622800@www.gracechurchamherst.org
SUMMARY:Holy Eucharist according to Rite I with Healing Prayer
DESCRIPTION:
URL:https://www.gracechurchamherst.org/event/holy-eucharist-according-to-rite-i-with-healing-prayer-58/
LOCATION:Sanctuary
END:VEVENT
BEGIN:VEVENT
DTSTART;TZID=America/New_York:20250508T173000
DTEND;TZID=America/New_York:20250508T183000
DTSTAMP:20260420T034432
CREATED:20250326T140631Z
LAST-MODIFIED:20250326T140822Z
UID:27084-1746725400-1746729000@www.gracechurchamherst.org
SUMMARY:Evensong
DESCRIPTION:
URL:https://www.gracechurchamherst.org/event/evensong-22/
LOCATION:Sanctuary
END:VEVENT
BEGIN:VEVENT
DTSTART;TZID=America/New_York:20250508T193000
DTEND;TZID=America/New_York:20250508T213000
DTSTAMP:20260420T034432
CREATED:20250326T140343Z
LAST-MODIFIED:20250326T140343Z
UID:27074-1746732600-1746739800@www.gracechurchamherst.org
SUMMARY:Choir Rehearsal
DESCRIPTION:
URL:https://www.gracechurchamherst.org/event/choir-rehearsal-56/
LOCATION:Sanctuary
END:VEVENT
BEGIN:VEVENT
DTSTART;TZID=America/New_York:20250509T070000
DTEND;TZID=America/New_York:20250509T083000
DTSTAMP:20260420T034432
CREATED:20250327T153042Z
LAST-MODIFIED:20250327T153042Z
UID:27120-1746774000-1746779400@www.gracechurchamherst.org
SUMMARY:Men's Group
DESCRIPTION:
URL:https://www.gracechurchamherst.org/event/mens-group-7/
LOCATION:Parker Room
END:VEVENT
BEGIN:VEVENT
DTSTART;TZID=America/New_York:20250509T173000
DTEND;TZID=America/New_York:20250509T183000
DTSTAMP:20260420T034432
CREATED:20250502T150701Z
LAST-MODIFIED:20250502T150701Z
UID:27359-1746811800-1746815400@www.gracechurchamherst.org
SUMMARY:Evensong
DESCRIPTION:
URL:https://www.gracechurchamherst.org/event/evensong-24/
LOCATION:Sanctuary
END:VEVENT
BEGIN:VEVENT
DTSTART;TZID=America/New_York:20250510T100000
DTEND;TZID=America/New_York:20250510T110000
DTSTAMP:20260420T034432
CREATED:20250321T162824Z
LAST-MODIFIED:20250321T162824Z
UID:26969-1746871200-1746874800@www.gracechurchamherst.org
SUMMARY:Zoom Bible Study
DESCRIPTION:
URL:https://www.gracechurchamherst.org/event/zoom-bible-study-44/
END:VEVENT
BEGIN:VEVENT
DTSTART;TZID=America/New_York:20250510T160000
DTEND;TZID=America/New_York:20250510T170000
DTSTAMP:20260420T034432
CREATED:20250502T150955Z
LAST-MODIFIED:20250502T150955Z
UID:27367-1746892800-1746896400@www.gracechurchamherst.org
SUMMARY:A Celebration of Hildegard of Bingen
DESCRIPTION:Grace Church will host a celebration of the 12th-century abbess\, mystic\, composer\, and visionary Hildegard of Bingen at 4 p.m. on Saturday\, May 10\, 2025. This immersive event will explore Hildegard’s enduring wisdom through dramatic readings\, musical excerpts from her play Ordo Virtutum\, and visual projections of her vividly illuminated visions. The program is centered on four themes that resonate across the centuries: greening (viriditas)\, usefulness\, speaking truth to power\, and mysticism. All are welcome to this contemplative and inspiring celebration. For more information please contact Kell Julliard or visit the website http://bit.ly/4iPfvqH \n 
URL:https://www.gracechurchamherst.org/event/a-celebration-of-hildegard-of-bingen/
LOCATION:Sanctuary
END:VEVENT
BEGIN:VEVENT
DTSTART;TZID=America/New_York:20250510T170000
DTEND;TZID=America/New_York:20250510T180000
DTSTAMP:20260420T034432
CREATED:20250404T150700Z
LAST-MODIFIED:20250404T150700Z
UID:27212-1746896400-1746900000@www.gracechurchamherst.org
SUMMARY:AA Meeting
DESCRIPTION:
URL:https://www.gracechurchamherst.org/event/aa-meeting-125/
LOCATION:Parish Hall\, Spring Street
END:VEVENT
BEGIN:VEVENT
DTSTART;TZID=America/New_York:20250510T200000
DTEND;TZID=America/New_York:20250510T210000
DTSTAMP:20260420T034432
CREATED:20250418T145117Z
LAST-MODIFIED:20250418T145117Z
UID:27279-1746907200-1746910800@www.gracechurchamherst.org
SUMMARY:AA Meeting
DESCRIPTION:
URL:https://www.gracechurchamherst.org/event/aa-meeting-126/
LOCATION:Parish Hall\, Spring Street
END:VEVENT
BEGIN:VEVENT
DTSTART;TZID=America/New_York:20250511T080000
DTEND;TZID=America/New_York:20250511T090000
DTSTAMP:20260420T034432
CREATED:20250411T144243Z
LAST-MODIFIED:20250411T144243Z
UID:27236-1746950400-1746954000@www.gracechurchamherst.org
SUMMARY:Holy Eucharist
DESCRIPTION:
URL:https://www.gracechurchamherst.org/event/holy-eucharist-156/
LOCATION:Sanctuary
END:VEVENT
BEGIN:VEVENT
DTSTART;TZID=America/New_York:20250511T090000
DTEND;TZID=America/New_York:20250511T100000
DTSTAMP:20260420T034432
CREATED:20250328T143907Z
LAST-MODIFIED:20250328T143907Z
UID:27176-1746954000-1746957600@www.gracechurchamherst.org
SUMMARY:Coffee Hour
DESCRIPTION:
URL:https://www.gracechurchamherst.org/event/coffee-hour-131/
LOCATION:Connector
END:VEVENT
END:VCALENDAR