BEGIN:VCALENDAR
VERSION:2.0
PRODID:-//Grace Episcopal Church, Amherst MA - ECPv6.15.20//NONSGML v1.0//EN
CALSCALE:GREGORIAN
METHOD:PUBLISH
X-ORIGINAL-URL:https://www.gracechurchamherst.org
X-WR-CALDESC:Events for Grace Episcopal Church, Amherst MA
REFRESH-INTERVAL;VALUE=DURATION:PT1H
X-Robots-Tag:noindex
X-PUBLISHED-TTL:PT1H
BEGIN:VTIMEZONE
TZID:America/New_York
BEGIN:DAYLIGHT
TZOFFSETFROM:-0500
TZOFFSETTO:-0400
TZNAME:EDT
DTSTART:20240310T070000
END:DAYLIGHT
BEGIN:STANDARD
TZOFFSETFROM:-0400
TZOFFSETTO:-0500
TZNAME:EST
DTSTART:20241103T060000
END:STANDARD
BEGIN:DAYLIGHT
TZOFFSETFROM:-0500
TZOFFSETTO:-0400
TZNAME:EDT
DTSTART:20250309T070000
END:DAYLIGHT
BEGIN:STANDARD
TZOFFSETFROM:-0400
TZOFFSETTO:-0500
TZNAME:EST
DTSTART:20251102T060000
END:STANDARD
BEGIN:DAYLIGHT
TZOFFSETFROM:-0500
TZOFFSETTO:-0400
TZNAME:EDT
DTSTART:20260308T070000
END:DAYLIGHT
BEGIN:STANDARD
TZOFFSETFROM:-0400
TZOFFSETTO:-0500
TZNAME:EST
DTSTART:20261101T060000
END:STANDARD
END:VTIMEZONE
BEGIN:VEVENT
DTSTART;TZID=America/New_York:20250701T171500
DTEND;TZID=America/New_York:20250701T181500
DTSTAMP:20260420T003259
CREATED:20250617T161648Z
LAST-MODIFIED:20250617T161648Z
UID:27747-1751390100-1751393700@www.gracechurchamherst.org
SUMMARY:AA Meeting
DESCRIPTION:
URL:https://www.gracechurchamherst.org/event/aa-meeting-169/
LOCATION:Parish Hall\, Spring Street
END:VEVENT
BEGIN:VEVENT
DTSTART;TZID=America/New_York:20250701T190000
DTEND;TZID=America/New_York:20250701T200000
DTSTAMP:20260420T003259
CREATED:20250529T171712Z
LAST-MODIFIED:20250529T171712Z
UID:27519-1751396400-1751400000@www.gracechurchamherst.org
SUMMARY:Al-Anon Meeting
DESCRIPTION:
URL:https://www.gracechurchamherst.org/event/al-anon-meeting-67/
LOCATION:Parish Hall\, Spring Street
END:VEVENT
BEGIN:VEVENT
DTSTART;TZID=America/New_York:20250702T121000
DTEND;TZID=America/New_York:20250702T130000
DTSTAMP:20260420T003259
CREATED:20250617T151616Z
LAST-MODIFIED:20250617T151616Z
UID:27715-1751458200-1751461200@www.gracechurchamherst.org
SUMMARY:Holy Eucharist according to Rite I with Healing Prayer
DESCRIPTION:
URL:https://www.gracechurchamherst.org/event/holy-eucharist-according-to-rite-i-with-healing-prayer-66/
LOCATION:Sanctuary
END:VEVENT
BEGIN:VEVENT
DTSTART;TZID=America/New_York:20250703T100000
DTEND;TZID=America/New_York:20250703T110000
DTSTAMP:20260420T003259
CREATED:20250606T144434Z
LAST-MODIFIED:20250703T154424Z
UID:27589-1751536800-1751540400@www.gracechurchamherst.org
SUMMARY:Zoom Bible Study
DESCRIPTION:
URL:https://www.gracechurchamherst.org/event/zoom-bible-study-50/
END:VEVENT
BEGIN:VEVENT
DTSTART;VALUE=DATE:20250704
DTEND;VALUE=DATE:20250705
DTSTAMP:20260420T003259
CREATED:20250620T145828Z
LAST-MODIFIED:20250620T145828Z
UID:27753-1751587200-1751673599@www.gracechurchamherst.org
SUMMARY:Office Closed - Independence Day
DESCRIPTION:
URL:https://www.gracechurchamherst.org/event/office-closed-independence-day/
END:VEVENT
BEGIN:VEVENT
DTSTART;TZID=America/New_York:20250704T070000
DTEND;TZID=America/New_York:20250704T083000
DTSTAMP:20260420T003259
CREATED:20250616T175851Z
LAST-MODIFIED:20250616T175851Z
UID:27695-1751612400-1751617800@www.gracechurchamherst.org
SUMMARY:Men's Group
DESCRIPTION:
URL:https://www.gracechurchamherst.org/event/mens-group-10/
LOCATION:Parker Room
END:VEVENT
BEGIN:VEVENT
DTSTART;TZID=America/New_York:20250704T173000
DTEND;TZID=America/New_York:20250704T183000
DTSTAMP:20260420T003259
CREATED:20250620T145953Z
LAST-MODIFIED:20250620T145953Z
UID:27757-1751650200-1751653800@www.gracechurchamherst.org
SUMMARY:Evensong
DESCRIPTION:
URL:https://www.gracechurchamherst.org/event/evensong-32/
LOCATION:Chapel
END:VEVENT
BEGIN:VEVENT
DTSTART;TZID=America/New_York:20250705T110000
DTEND;TZID=America/New_York:20250705T120000
DTSTAMP:20260420T003259
CREATED:20250620T150407Z
LAST-MODIFIED:20250620T150407Z
UID:27767-1751713200-1751716800@www.gracechurchamherst.org
SUMMARY:Memorial - Dee Dee Niswonger
DESCRIPTION:
URL:https://www.gracechurchamherst.org/event/memorial-dee-dee-niswonger/
LOCATION:Sanctuary
END:VEVENT
BEGIN:VEVENT
DTSTART;TZID=America/New_York:20250705T170000
DTEND;TZID=America/New_York:20250705T180000
DTSTAMP:20260420T003259
CREATED:20250620T150458Z
LAST-MODIFIED:20250620T150458Z
UID:27769-1751734800-1751738400@www.gracechurchamherst.org
SUMMARY:AA Meeting
DESCRIPTION:
URL:https://www.gracechurchamherst.org/event/aa-meeting-170/
LOCATION:Parish Hall\, Spring Street
END:VEVENT
BEGIN:VEVENT
DTSTART;TZID=America/New_York:20250705T200000
DTEND;TZID=America/New_York:20250705T210000
DTSTAMP:20260420T003259
CREATED:20250617T152441Z
LAST-MODIFIED:20250617T152441Z
UID:27731-1751745600-1751749200@www.gracechurchamherst.org
SUMMARY:AA Meeting
DESCRIPTION:
URL:https://www.gracechurchamherst.org/event/aa-meeting-166/
LOCATION:Parish Hall\, Spring Street
END:VEVENT
BEGIN:VEVENT
DTSTART;TZID=America/New_York:20250706T093000
DTEND;TZID=America/New_York:20250706T103000
DTSTAMP:20260420T003259
CREATED:20250617T155636Z
LAST-MODIFIED:20250617T155636Z
UID:27739-1751794200-1751797800@www.gracechurchamherst.org
SUMMARY:Holy Eucharist
DESCRIPTION:
URL:https://www.gracechurchamherst.org/event/holy-eucharist-30/
LOCATION:Sanctuary
END:VEVENT
BEGIN:VEVENT
DTSTART;TZID=America/New_York:20250706T103000
DTEND;TZID=America/New_York:20250706T113000
DTSTAMP:20260420T003259
CREATED:20250620T150700Z
LAST-MODIFIED:20250620T150700Z
UID:27775-1751797800-1751801400@www.gracechurchamherst.org
SUMMARY:Coffee Hour
DESCRIPTION:
URL:https://www.gracechurchamherst.org/event/coffee-hour-137/
LOCATION:Connector
END:VEVENT
BEGIN:VEVENT
DTSTART;TZID=America/New_York:20250706T113000
DTEND;TZID=America/New_York:20250706T170000
DTSTAMP:20260420T003259
CREATED:20250613T144026Z
LAST-MODIFIED:20250613T144026Z
UID:27660-1751801400-1751821200@www.gracechurchamherst.org
SUMMARY:Iconography
DESCRIPTION:
URL:https://www.gracechurchamherst.org/event/iconography-43/
LOCATION:Parish Hall\, Spring Street
END:VEVENT
BEGIN:VEVENT
DTSTART;TZID=America/New_York:20250706T193000
DTEND;TZID=America/New_York:20250706T203000
DTSTAMP:20260420T003259
CREATED:20250613T144527Z
LAST-MODIFIED:20250613T144527Z
UID:27670-1751830200-1751833800@www.gracechurchamherst.org
SUMMARY:AA Meeting
DESCRIPTION:
URL:https://www.gracechurchamherst.org/event/aa-meeting-160/
LOCATION:Parish Hall\, Spring Street
END:VEVENT
BEGIN:VEVENT
DTSTART;VALUE=DATE:20250707
DTEND;VALUE=DATE:20250708
DTSTAMP:20260420T003259
CREATED:20250620T145853Z
LAST-MODIFIED:20250620T145853Z
UID:27755-1751846400-1751932799@www.gracechurchamherst.org
SUMMARY:Office Closed
DESCRIPTION:
URL:https://www.gracechurchamherst.org/event/office-closed-3/
END:VEVENT
BEGIN:VEVENT
DTSTART;TZID=America/New_York:20250707T190000
DTEND;TZID=America/New_York:20250707T200000
DTSTAMP:20260420T003259
CREATED:20250620T150817Z
LAST-MODIFIED:20250620T150817Z
UID:27779-1751914800-1751918400@www.gracechurchamherst.org
SUMMARY:AA Meeting
DESCRIPTION:
URL:https://www.gracechurchamherst.org/event/aa-meeting-174/
LOCATION:Parish Hall\, Spring Street
END:VEVENT
BEGIN:VEVENT
DTSTART;TZID=America/New_York:20250708T090000
DTEND;TZID=America/New_York:20250708T120000
DTSTAMP:20260420T003259
CREATED:20250530T153418Z
LAST-MODIFIED:20250530T153418Z
UID:27569-1751965200-1751976000@www.gracechurchamherst.org
SUMMARY:Raising the Questions
DESCRIPTION:
URL:https://www.gracechurchamherst.org/event/raising-the-questions-32/
LOCATION:Connector
END:VEVENT
BEGIN:VEVENT
DTSTART;TZID=America/New_York:20250708T171500
DTEND;TZID=America/New_York:20250708T181500
DTSTAMP:20260420T003259
CREATED:20250627T142838Z
LAST-MODIFIED:20250627T142838Z
UID:27783-1751994900-1751998500@www.gracechurchamherst.org
SUMMARY:AA Meeting
DESCRIPTION:
URL:https://www.gracechurchamherst.org/event/aa-meeting-172/
LOCATION:Parish Hall\, Spring Street
END:VEVENT
BEGIN:VEVENT
DTSTART;TZID=America/New_York:20250708T190000
DTEND;TZID=America/New_York:20250708T200000
DTSTAMP:20260420T003259
CREATED:20250529T171801Z
LAST-MODIFIED:20250529T171801Z
UID:27521-1752001200-1752004800@www.gracechurchamherst.org
SUMMARY:Al-Anon Meeting
DESCRIPTION:
URL:https://www.gracechurchamherst.org/event/al-anon-meeting-68/
LOCATION:Parish Hall\, Spring Street
END:VEVENT
BEGIN:VEVENT
DTSTART;TZID=America/New_York:20250710T100000
DTEND;TZID=America/New_York:20250710T110000
DTSTAMP:20260420T003259
CREATED:20250606T144504Z
LAST-MODIFIED:20250703T155039Z
UID:27591-1752141600-1752145200@www.gracechurchamherst.org
SUMMARY:Zoom Bible Study
DESCRIPTION:
URL:https://www.gracechurchamherst.org/event/zoom-bible-study-51/
END:VEVENT
BEGIN:VEVENT
DTSTART;TZID=America/New_York:20250710T143000
DTEND;TZID=America/New_York:20250710T170000
DTSTAMP:20260420T003259
CREATED:20250529T172021Z
LAST-MODIFIED:20250711T152343Z
UID:27527-1752157800-1752166800@www.gracechurchamherst.org
SUMMARY:Tea & Titles
DESCRIPTION:
URL:https://www.gracechurchamherst.org/event/tea-titles-9/
LOCATION:Connector
END:VEVENT
BEGIN:VEVENT
DTSTART;TZID=America/New_York:20250710T170000
DTEND;TZID=America/New_York:20250710T190000
DTSTAMP:20260420T003259
CREATED:20250606T145140Z
LAST-MODIFIED:20250606T145140Z
UID:27603-1752166800-1752174000@www.gracechurchamherst.org
SUMMARY:Executive Committee Meeting
DESCRIPTION:
URL:https://www.gracechurchamherst.org/event/executive-committee-meeting-13/
END:VEVENT
BEGIN:VEVENT
DTSTART;TZID=America/New_York:20250711T110000
DTEND;TZID=America/New_York:20250711T111100
DTSTAMP:20260420T003259
CREATED:20250703T154623Z
LAST-MODIFIED:20250703T154623Z
UID:27813-1752231600-1752232260@www.gracechurchamherst.org
SUMMARY:Bell Ringing for Climate Action
DESCRIPTION:
URL:https://www.gracechurchamherst.org/event/bell-ringing-for-climate-action-3/
LOCATION:Front Lawn\, 14 Boltwood Ave.\, Amherst\, MA\, 01002\, United States
END:VEVENT
BEGIN:VEVENT
DTSTART;TZID=America/New_York:20250711T173000
DTEND;TZID=America/New_York:20250711T183000
DTSTAMP:20260420T003259
CREATED:20250620T150021Z
LAST-MODIFIED:20250620T150021Z
UID:27759-1752255000-1752258600@www.gracechurchamherst.org
SUMMARY:Evensong
DESCRIPTION:
URL:https://www.gracechurchamherst.org/event/evensong-33/
LOCATION:Chapel
END:VEVENT
BEGIN:VEVENT
DTSTART;TZID=America/New_York:20250712T170000
DTEND;TZID=America/New_York:20250712T180000
DTSTAMP:20260420T003259
CREATED:20250616T180332Z
LAST-MODIFIED:20250616T180332Z
UID:27705-1752339600-1752343200@www.gracechurchamherst.org
SUMMARY:AA Meeting
DESCRIPTION:
URL:https://www.gracechurchamherst.org/event/aa-meeting-163/
LOCATION:Parish Hall\, Spring Street
END:VEVENT
BEGIN:VEVENT
DTSTART;TZID=America/New_York:20250712T200000
DTEND;TZID=America/New_York:20250712T210000
DTSTAMP:20260420T003259
CREATED:20250617T152528Z
LAST-MODIFIED:20250617T152528Z
UID:27733-1752350400-1752354000@www.gracechurchamherst.org
SUMMARY:AA Meeting
DESCRIPTION:
URL:https://www.gracechurchamherst.org/event/aa-meeting-167/
LOCATION:Parish Hall\, Spring Street
END:VEVENT
BEGIN:VEVENT
DTSTART;TZID=America/New_York:20250713T093000
DTEND;TZID=America/New_York:20250713T103000
DTSTAMP:20260420T003259
CREATED:20250617T155717Z
LAST-MODIFIED:20250617T155717Z
UID:27741-1752399000-1752402600@www.gracechurchamherst.org
SUMMARY:Holy Eucharist
DESCRIPTION:
URL:https://www.gracechurchamherst.org/event/holy-eucharist-31/
LOCATION:Sanctuary
END:VEVENT
BEGIN:VEVENT
DTSTART;TZID=America/New_York:20250713T103000
DTEND;TZID=America/New_York:20250713T113000
DTSTAMP:20260420T003259
CREATED:20250620T150724Z
LAST-MODIFIED:20250620T150724Z
UID:27777-1752402600-1752406200@www.gracechurchamherst.org
SUMMARY:Coffee Hour
DESCRIPTION:
URL:https://www.gracechurchamherst.org/event/coffee-hour-138/
LOCATION:Connector
END:VEVENT
BEGIN:VEVENT
DTSTART;TZID=America/New_York:20250713T104500
DTEND;TZID=America/New_York:20250713T113000
DTSTAMP:20260420T003259
CREATED:20250205T150823Z
LAST-MODIFIED:20250703T155143Z
UID:26695-1752403500-1752406200@www.gracechurchamherst.org
SUMMARY:Climate Action@Grace Meeting
DESCRIPTION:
URL:https://www.gracechurchamherst.org/event/climate-actiongrace-meeting-7/
LOCATION:Parker Room
END:VEVENT
BEGIN:VEVENT
DTSTART;TZID=America/New_York:20250713T113000
DTEND;TZID=America/New_York:20250713T170000
DTSTAMP:20260420T003259
CREATED:20250613T144111Z
LAST-MODIFIED:20250613T144111Z
UID:27662-1752406200-1752426000@www.gracechurchamherst.org
SUMMARY:Iconography
DESCRIPTION:
URL:https://www.gracechurchamherst.org/event/iconography-140/
LOCATION:Parish Hall\, Spring Street
END:VEVENT
END:VCALENDAR