BEGIN:VCALENDAR
VERSION:2.0
PRODID:-//Grace Episcopal Church, Amherst MA - ECPv6.15.20//NONSGML v1.0//EN
CALSCALE:GREGORIAN
METHOD:PUBLISH
X-ORIGINAL-URL:https://www.gracechurchamherst.org
X-WR-CALDESC:Events for Grace Episcopal Church, Amherst MA
REFRESH-INTERVAL;VALUE=DURATION:PT1H
X-Robots-Tag:noindex
X-PUBLISHED-TTL:PT1H
BEGIN:VTIMEZONE
TZID:America/New_York
BEGIN:DAYLIGHT
TZOFFSETFROM:-0500
TZOFFSETTO:-0400
TZNAME:EDT
DTSTART:20240310T070000
END:DAYLIGHT
BEGIN:STANDARD
TZOFFSETFROM:-0400
TZOFFSETTO:-0500
TZNAME:EST
DTSTART:20241103T060000
END:STANDARD
BEGIN:DAYLIGHT
TZOFFSETFROM:-0500
TZOFFSETTO:-0400
TZNAME:EDT
DTSTART:20250309T070000
END:DAYLIGHT
BEGIN:STANDARD
TZOFFSETFROM:-0400
TZOFFSETTO:-0500
TZNAME:EST
DTSTART:20251102T060000
END:STANDARD
BEGIN:DAYLIGHT
TZOFFSETFROM:-0500
TZOFFSETTO:-0400
TZNAME:EDT
DTSTART:20260308T070000
END:DAYLIGHT
BEGIN:STANDARD
TZOFFSETFROM:-0400
TZOFFSETTO:-0500
TZNAME:EST
DTSTART:20261101T060000
END:STANDARD
END:VTIMEZONE
BEGIN:VEVENT
DTSTART;TZID=America/New_York:20250801T070000
DTEND;TZID=America/New_York:20250801T083000
DTSTAMP:20260419T224304
CREATED:20250616T180021Z
LAST-MODIFIED:20250616T180021Z
UID:27699-1754031600-1754037000@www.gracechurchamherst.org
SUMMARY:Men's Group
DESCRIPTION:
URL:https://www.gracechurchamherst.org/event/mens-group-12/
LOCATION:Parker Room
END:VEVENT
BEGIN:VEVENT
DTSTART;TZID=America/New_York:20250801T173000
DTEND;TZID=America/New_York:20250801T183000
DTSTAMP:20260419T224304
CREATED:20250620T150137Z
LAST-MODIFIED:20250620T150137Z
UID:27765-1754069400-1754073000@www.gracechurchamherst.org
SUMMARY:Evensong
DESCRIPTION:
URL:https://www.gracechurchamherst.org/event/evensong-162/
LOCATION:Chapel
END:VEVENT
BEGIN:VEVENT
DTSTART;TZID=America/New_York:20250802T170000
DTEND;TZID=America/New_York:20250802T180000
DTSTAMP:20260419T224304
CREATED:20250718T141515Z
LAST-MODIFIED:20250718T141515Z
UID:27879-1754154000-1754157600@www.gracechurchamherst.org
SUMMARY:AA Meeting
DESCRIPTION:
URL:https://www.gracechurchamherst.org/event/aa-meeting-183/
LOCATION:Parish Hall\, Spring Street
END:VEVENT
BEGIN:VEVENT
DTSTART;TZID=America/New_York:20250802T200000
DTEND;TZID=America/New_York:20250802T210000
DTSTAMP:20260419T224304
CREATED:20250718T141831Z
LAST-MODIFIED:20250718T141831Z
UID:27887-1754164800-1754168400@www.gracechurchamherst.org
SUMMARY:AA Meeting
DESCRIPTION:
URL:https://www.gracechurchamherst.org/event/aa-meeting-189/
LOCATION:Parish Hall\, Spring Street
END:VEVENT
BEGIN:VEVENT
DTSTART;TZID=America/New_York:20250803T093000
DTEND;TZID=America/New_York:20250803T103000
DTSTAMP:20260419T224304
CREATED:20250711T152731Z
LAST-MODIFIED:20250711T152731Z
UID:27845-1754213400-1754217000@www.gracechurchamherst.org
SUMMARY:Holy Eucharist
DESCRIPTION:
URL:https://www.gracechurchamherst.org/event/holy-eucharist-34/
LOCATION:Sanctuary
END:VEVENT
BEGIN:VEVENT
DTSTART;TZID=America/New_York:20250803T103000
DTEND;TZID=America/New_York:20250803T113000
DTSTAMP:20260419T224304
CREATED:20250711T153119Z
LAST-MODIFIED:20250711T153119Z
UID:27853-1754217000-1754220600@www.gracechurchamherst.org
SUMMARY:Coffee Hour
DESCRIPTION:
URL:https://www.gracechurchamherst.org/event/coffee-hour-16/
LOCATION:Connector
END:VEVENT
BEGIN:VEVENT
DTSTART;TZID=America/New_York:20250803T113000
DTEND;TZID=America/New_York:20250803T170000
DTSTAMP:20260419T224304
CREATED:20250725T140816Z
LAST-MODIFIED:20250725T140816Z
UID:27914-1754220600-1754240400@www.gracechurchamherst.org
SUMMARY:Iconography
DESCRIPTION:
URL:https://www.gracechurchamherst.org/event/iconography-9/
LOCATION:Parish Hall\, Spring Street
END:VEVENT
BEGIN:VEVENT
DTSTART;TZID=America/New_York:20250803T193000
DTEND;TZID=America/New_York:20250803T203000
DTSTAMP:20260419T224304
CREATED:20250627T143930Z
LAST-MODIFIED:20250627T143930Z
UID:27801-1754249400-1754253000@www.gracechurchamherst.org
SUMMARY:AA Meeting
DESCRIPTION:
URL:https://www.gracechurchamherst.org/event/aa-meeting-801/
LOCATION:Parish Hall\, Spring Street
END:VEVENT
BEGIN:VEVENT
DTSTART;TZID=America/New_York:20250804T100000
DTEND;TZID=America/New_York:20250804T103000
DTSTAMP:20260419T224304
CREATED:20250718T142140Z
LAST-MODIFIED:20250718T142140Z
UID:27893-1754301600-1754303400@www.gracechurchamherst.org
SUMMARY:Staff Meeting
DESCRIPTION:
URL:https://www.gracechurchamherst.org/event/staff-meeting-57/
END:VEVENT
BEGIN:VEVENT
DTSTART;TZID=America/New_York:20250804T190000
DTEND;TZID=America/New_York:20250804T200000
DTSTAMP:20260419T224304
CREATED:20250725T141342Z
LAST-MODIFIED:20250725T141342Z
UID:27924-1754334000-1754337600@www.gracechurchamherst.org
SUMMARY:AA Meeting
DESCRIPTION:
URL:https://www.gracechurchamherst.org/event/aa-meeting-192/
LOCATION:Parish Hall\, Spring Street
END:VEVENT
BEGIN:VEVENT
DTSTART;TZID=America/New_York:20250805T171500
DTEND;TZID=America/New_York:20250805T181500
DTSTAMP:20260419T224304
CREATED:20250627T143301Z
LAST-MODIFIED:20250725T141217Z
UID:27791-1754414100-1754417700@www.gracechurchamherst.org
SUMMARY:AA Meeting
DESCRIPTION:
URL:https://www.gracechurchamherst.org/event/aa-meeting-180/
LOCATION:Parish Hall\, Spring Street
END:VEVENT
BEGIN:VEVENT
DTSTART;TZID=America/New_York:20250805T190000
DTEND;TZID=America/New_York:20250805T200000
DTSTAMP:20260419T224304
CREATED:20250725T135030Z
LAST-MODIFIED:20250725T135030Z
UID:27904-1754420400-1754424000@www.gracechurchamherst.org
SUMMARY:Al-Anon Meeting
DESCRIPTION:
URL:https://www.gracechurchamherst.org/event/al-anon-meeting-70/
LOCATION:Parish Hall\, Spring Street
END:VEVENT
BEGIN:VEVENT
DTSTART;TZID=America/New_York:20250807T100000
DTEND;TZID=America/New_York:20250807T110000
DTSTAMP:20260419T224304
CREATED:20250711T152032Z
LAST-MODIFIED:20250711T152032Z
UID:27832-1754560800-1754564400@www.gracechurchamherst.org
SUMMARY:Zoom Bible Study
DESCRIPTION:
URL:https://www.gracechurchamherst.org/event/zoom-bible-study-54/
END:VEVENT
BEGIN:VEVENT
DTSTART;TZID=America/New_York:20250807T143000
DTEND;TZID=America/New_York:20250807T170000
DTSTAMP:20260419T224304
CREATED:20250529T172056Z
LAST-MODIFIED:20250529T172056Z
UID:27529-1754577000-1754586000@www.gracechurchamherst.org
SUMMARY:Tea & Titles
DESCRIPTION:
URL:https://www.gracechurchamherst.org/event/tea-titles-50/
LOCATION:Connector
END:VEVENT
BEGIN:VEVENT
DTSTART;TZID=America/New_York:20250808T173000
DTEND;TZID=America/New_York:20250808T183000
DTSTAMP:20260419T224304
CREATED:20250725T141643Z
LAST-MODIFIED:20250725T141702Z
UID:27930-1754674200-1754677800@www.gracechurchamherst.org
SUMMARY:Evensong
DESCRIPTION:
URL:https://www.gracechurchamherst.org/event/evensong-35/
LOCATION:Sanctuary
END:VEVENT
BEGIN:VEVENT
DTSTART;TZID=America/New_York:20250809T170000
DTEND;TZID=America/New_York:20250809T180000
DTSTAMP:20260419T224304
CREATED:20250718T141601Z
LAST-MODIFIED:20250718T141601Z
UID:27881-1754758800-1754762400@www.gracechurchamherst.org
SUMMARY:AA Meeting
DESCRIPTION:
URL:https://www.gracechurchamherst.org/event/aa-meeting-184/
LOCATION:Parish Hall\, Spring Street
END:VEVENT
BEGIN:VEVENT
DTSTART;TZID=America/New_York:20250809T200000
DTEND;TZID=America/New_York:20250809T210000
DTSTAMP:20260419T224304
CREATED:20250718T141911Z
LAST-MODIFIED:20250718T141911Z
UID:27889-1754769600-1754773200@www.gracechurchamherst.org
SUMMARY:AA Meeting
DESCRIPTION:
URL:https://www.gracechurchamherst.org/event/aa-meeting-190/
LOCATION:Parish Hall\, Spring Street
END:VEVENT
BEGIN:VEVENT
DTSTART;TZID=America/New_York:20250810T093000
DTEND;TZID=America/New_York:20250810T103000
DTSTAMP:20260419T224304
CREATED:20250711T152818Z
LAST-MODIFIED:20250711T152818Z
UID:27847-1754818200-1754821800@www.gracechurchamherst.org
SUMMARY:Holy Eucharist
DESCRIPTION:
URL:https://www.gracechurchamherst.org/event/holy-eucharist-35/
LOCATION:Sanctuary
END:VEVENT
BEGIN:VEVENT
DTSTART;TZID=America/New_York:20250810T103000
DTEND;TZID=America/New_York:20250810T113000
DTSTAMP:20260419T224304
CREATED:20250725T141903Z
LAST-MODIFIED:20250725T141903Z
UID:27934-1754821800-1754825400@www.gracechurchamherst.org
SUMMARY:Coffee Hour
DESCRIPTION:
URL:https://www.gracechurchamherst.org/event/coffee-hour-17/
LOCATION:Connector
END:VEVENT
BEGIN:VEVENT
DTSTART;TZID=America/New_York:20250810T104500
DTEND;TZID=America/New_York:20250810T114500
DTSTAMP:20260419T224304
CREATED:20250801T141851Z
LAST-MODIFIED:20250801T141851Z
UID:28007-1754822700-1754826300@www.gracechurchamherst.org
SUMMARY:Climate Action @ Grace Meeting
DESCRIPTION:
URL:https://www.gracechurchamherst.org/event/climate-action-grace-meeting/
LOCATION:Parker Room
END:VEVENT
BEGIN:VEVENT
DTSTART;TZID=America/New_York:20250810T113000
DTEND;TZID=America/New_York:20250810T170000
DTSTAMP:20260419T224304
CREATED:20250725T140855Z
LAST-MODIFIED:20250725T140855Z
UID:27916-1754825400-1754845200@www.gracechurchamherst.org
SUMMARY:Iconography
DESCRIPTION:
URL:https://www.gracechurchamherst.org/event/iconography-10/
LOCATION:Parish Hall\, Spring Street
END:VEVENT
BEGIN:VEVENT
DTSTART;TZID=America/New_York:20250810T193000
DTEND;TZID=America/New_York:20250810T203000
DTSTAMP:20260419T224304
CREATED:20250808T145810Z
LAST-MODIFIED:20250808T145810Z
UID:28051-1754854200-1754857800@www.gracechurchamherst.org
SUMMARY:AA Meeting
DESCRIPTION:
URL:https://www.gracechurchamherst.org/event/aa-meeting-197/
LOCATION:Parish Hall\, Spring Street
END:VEVENT
BEGIN:VEVENT
DTSTART;TZID=America/New_York:20250811T100000
DTEND;TZID=America/New_York:20250811T103000
DTSTAMP:20260419T224304
CREATED:20250801T142651Z
LAST-MODIFIED:20250801T142651Z
UID:28019-1754906400-1754908200@www.gracechurchamherst.org
SUMMARY:Staff Meeting
DESCRIPTION:
URL:https://www.gracechurchamherst.org/event/staff-meeting-2/
END:VEVENT
BEGIN:VEVENT
DTSTART;TZID=America/New_York:20250811T110000
DTEND;TZID=America/New_York:20250811T111100
DTSTAMP:20260419T224304
CREATED:20250703T154719Z
LAST-MODIFIED:20250703T154719Z
UID:27815-1754910000-1754910660@www.gracechurchamherst.org
SUMMARY:Bell Ringing for Climate Action
DESCRIPTION:
URL:https://www.gracechurchamherst.org/event/bell-ringing-for-climate-action-4/
LOCATION:Front Lawn\, 14 Boltwood Ave.\, Amherst\, MA\, 01002\, United States
END:VEVENT
BEGIN:VEVENT
DTSTART;TZID=America/New_York:20250811T190000
DTEND;TZID=America/New_York:20250811T200000
DTSTAMP:20260419T224304
CREATED:20250725T141424Z
LAST-MODIFIED:20250725T141424Z
UID:27926-1754938800-1754942400@www.gracechurchamherst.org
SUMMARY:AA Meeting
DESCRIPTION:
URL:https://www.gracechurchamherst.org/event/aa-meeting-194/
LOCATION:Parish Hall\, Spring Street
END:VEVENT
BEGIN:VEVENT
DTSTART;TZID=America/New_York:20250811T190000
DTEND;TZID=America/New_York:20250811T210000
DTSTAMP:20260419T224304
CREATED:20250530T152637Z
LAST-MODIFIED:20250530T152637Z
UID:27557-1754938800-1754946000@www.gracechurchamherst.org
SUMMARY:Joy of Living Group
DESCRIPTION:
URL:https://www.gracechurchamherst.org/event/joy-of-living-group-44/
LOCATION:Connector
END:VEVENT
BEGIN:VEVENT
DTSTART;TZID=America/New_York:20250812T090000
DTEND;TZID=America/New_York:20250812T113000
DTSTAMP:20260419T224304
CREATED:20250801T143158Z
LAST-MODIFIED:20250801T143158Z
UID:28029-1754989200-1754998200@www.gracechurchamherst.org
SUMMARY:Raising the Questions
DESCRIPTION:
URL:https://www.gracechurchamherst.org/event/raising-the-questions-31/
LOCATION:Connector
END:VEVENT
BEGIN:VEVENT
DTSTART;TZID=America/New_York:20250812T171500
DTEND;TZID=America/New_York:20250812T181500
DTSTAMP:20260419T224304
CREATED:20250627T143356Z
LAST-MODIFIED:20250627T143356Z
UID:27793-1755018900-1755022500@www.gracechurchamherst.org
SUMMARY:AA Meeting
DESCRIPTION:
URL:https://www.gracechurchamherst.org/event/aa-meeting-181/
LOCATION:Parish Hall\, Spring Street
END:VEVENT
BEGIN:VEVENT
DTSTART;TZID=America/New_York:20250812T190000
DTEND;TZID=America/New_York:20250812T200000
DTSTAMP:20260419T224304
CREATED:20250725T135112Z
LAST-MODIFIED:20250725T135112Z
UID:27906-1755025200-1755028800@www.gracechurchamherst.org
SUMMARY:Al-Anon Meeting
DESCRIPTION:
URL:https://www.gracechurchamherst.org/event/al-anon-meeting-71/
LOCATION:Parish Hall\, Spring Street
END:VEVENT
BEGIN:VEVENT
DTSTART;TZID=America/New_York:20250813T170000
DTEND;TZID=America/New_York:20250813T180000
DTSTAMP:20260419T224304
CREATED:20250808T150150Z
LAST-MODIFIED:20250808T150150Z
UID:28063-1755104400-1755108000@www.gracechurchamherst.org
SUMMARY:Pastoral Care Comm. Meeting
DESCRIPTION:
URL:https://www.gracechurchamherst.org/event/pastoral-care-comm-meeting-5/
LOCATION:Connector
END:VEVENT
END:VCALENDAR