BEGIN:VCALENDAR
VERSION:2.0
PRODID:-//Grace Episcopal Church, Amherst MA - ECPv6.15.20//NONSGML v1.0//EN
CALSCALE:GREGORIAN
METHOD:PUBLISH
X-ORIGINAL-URL:https://www.gracechurchamherst.org
X-WR-CALDESC:Events for Grace Episcopal Church, Amherst MA
REFRESH-INTERVAL;VALUE=DURATION:PT1H
X-Robots-Tag:noindex
X-PUBLISHED-TTL:PT1H
BEGIN:VTIMEZONE
TZID:America/New_York
BEGIN:DAYLIGHT
TZOFFSETFROM:-0500
TZOFFSETTO:-0400
TZNAME:EDT
DTSTART:20240310T070000
END:DAYLIGHT
BEGIN:STANDARD
TZOFFSETFROM:-0400
TZOFFSETTO:-0500
TZNAME:EST
DTSTART:20241103T060000
END:STANDARD
BEGIN:DAYLIGHT
TZOFFSETFROM:-0500
TZOFFSETTO:-0400
TZNAME:EDT
DTSTART:20250309T070000
END:DAYLIGHT
BEGIN:STANDARD
TZOFFSETFROM:-0400
TZOFFSETTO:-0500
TZNAME:EST
DTSTART:20251102T060000
END:STANDARD
BEGIN:DAYLIGHT
TZOFFSETFROM:-0500
TZOFFSETTO:-0400
TZNAME:EDT
DTSTART:20260308T070000
END:DAYLIGHT
BEGIN:STANDARD
TZOFFSETFROM:-0400
TZOFFSETTO:-0500
TZNAME:EST
DTSTART:20261101T060000
END:STANDARD
END:VTIMEZONE
BEGIN:VEVENT
DTSTART;VALUE=DATE:20250901
DTEND;VALUE=DATE:20250902
DTSTAMP:20260419T205749
CREATED:20250822T161023Z
LAST-MODIFIED:20250822T161023Z
UID:28131-1756684800-1756771199@www.gracechurchamherst.org
SUMMARY:OFFICE CLOSED
DESCRIPTION:Labor Day
URL:https://www.gracechurchamherst.org/event/office-closed-4/
END:VEVENT
BEGIN:VEVENT
DTSTART;TZID=America/New_York:20250901T193000
DTEND;TZID=America/New_York:20250901T200000
DTSTAMP:20260419T205749
CREATED:20250815T144453Z
LAST-MODIFIED:20250815T144453Z
UID:28114-1756755000-1756756800@www.gracechurchamherst.org
SUMMARY:AA Meeting
DESCRIPTION:
URL:https://www.gracechurchamherst.org/event/aa-meeting-209/
LOCATION:Parish Hall\, Spring Street
END:VEVENT
BEGIN:VEVENT
DTSTART;TZID=America/New_York:20250902T171500
DTEND;TZID=America/New_York:20250902T181500
DTSTAMP:20260419T205749
CREATED:20250808T150752Z
LAST-MODIFIED:20250808T150752Z
UID:28077-1756833300-1756836900@www.gracechurchamherst.org
SUMMARY:AA Meeting
DESCRIPTION:
URL:https://www.gracechurchamherst.org/event/aa-meeting-207/
LOCATION:Parish Hall\, Spring Street
END:VEVENT
BEGIN:VEVENT
DTSTART;TZID=America/New_York:20250902T190000
DTEND;TZID=America/New_York:20250902T200000
DTSTAMP:20260419T205749
CREATED:20250725T140612Z
LAST-MODIFIED:20250725T140612Z
UID:27912-1756839600-1756843200@www.gracechurchamherst.org
SUMMARY:Al-Anon Meeting
DESCRIPTION:
URL:https://www.gracechurchamherst.org/event/al-anon-meeting-74/
LOCATION:Parish Hall\, Spring Street
END:VEVENT
BEGIN:VEVENT
DTSTART;TZID=America/New_York:20250903T121000
DTEND;TZID=America/New_York:20250903T130000
DTSTAMP:20260419T205749
CREATED:20250822T161214Z
LAST-MODIFIED:20250822T161214Z
UID:28133-1756901400-1756904400@www.gracechurchamherst.org
SUMMARY:Holy Eucharist according to Rite I with Healing Prayer
DESCRIPTION:
URL:https://www.gracechurchamherst.org/event/holy-eucharist-according-to-rite-i-with-healing-prayer-2/
LOCATION:Sanctuary
END:VEVENT
BEGIN:VEVENT
DTSTART;TZID=America/New_York:20250904T100000
DTEND;TZID=America/New_York:20250904T110000
DTSTAMP:20260419T205749
CREATED:20250829T154746Z
LAST-MODIFIED:20250829T154746Z
UID:28170-1756980000-1756983600@www.gracechurchamherst.org
SUMMARY:Zoom Bible Study
DESCRIPTION:
URL:https://www.gracechurchamherst.org/event/zoom-bible-study-58/
END:VEVENT
BEGIN:VEVENT
DTSTART;TZID=America/New_York:20250904T143000
DTEND;TZID=America/New_York:20250904T170000
DTSTAMP:20260419T205749
CREATED:20250529T172125Z
LAST-MODIFIED:20250815T144627Z
UID:27531-1756996200-1757005200@www.gracechurchamherst.org
SUMMARY:Tea & Titles
DESCRIPTION:
URL:https://www.gracechurchamherst.org/event/tea-titles-51/
LOCATION:Connector
END:VEVENT
BEGIN:VEVENT
DTSTART;TZID=America/New_York:20250904T193000
DTEND;TZID=America/New_York:20250904T213000
DTSTAMP:20260419T205749
CREATED:20250822T161751Z
LAST-MODIFIED:20250822T161751Z
UID:28144-1757014200-1757021400@www.gracechurchamherst.org
SUMMARY:Choir Rehearsal
DESCRIPTION:
URL:https://www.gracechurchamherst.org/event/choir-rehearsal-61/
LOCATION:Sanctuary
END:VEVENT
BEGIN:VEVENT
DTSTART;TZID=America/New_York:20250905T173000
DTEND;TZID=America/New_York:20250905T183000
DTSTAMP:20260419T205749
CREATED:20250822T162143Z
LAST-MODIFIED:20250822T162143Z
UID:28152-1757093400-1757097000@www.gracechurchamherst.org
SUMMARY:Evensong
DESCRIPTION:
URL:https://www.gracechurchamherst.org/event/evensong-39/
LOCATION:Sanctuary
END:VEVENT
BEGIN:VEVENT
DTSTART;TZID=America/New_York:20250906T170000
DTEND;TZID=America/New_York:20250906T180000
DTSTAMP:20260419T205749
CREATED:20250815T144752Z
LAST-MODIFIED:20250815T144752Z
UID:28122-1757178000-1757181600@www.gracechurchamherst.org
SUMMARY:AA Meeting
DESCRIPTION:
URL:https://www.gracechurchamherst.org/event/aa-meeting-213/
LOCATION:Parish Hall\, Spring Street
END:VEVENT
BEGIN:VEVENT
DTSTART;TZID=America/New_York:20250906T200000
DTEND;TZID=America/New_York:20250906T210000
DTSTAMP:20260419T205749
CREATED:20250822T162430Z
LAST-MODIFIED:20250822T162430Z
UID:28158-1757188800-1757192400@www.gracechurchamherst.org
SUMMARY:AA Meeting
DESCRIPTION:
URL:https://www.gracechurchamherst.org/event/aa-meeting-205/
LOCATION:Parish Hall\, Spring Street
END:VEVENT
BEGIN:VEVENT
DTSTART;TZID=America/New_York:20250907T080000
DTEND;TZID=America/New_York:20250907T090000
DTSTAMP:20260419T205749
CREATED:20250815T143735Z
LAST-MODIFIED:20250815T143735Z
UID:28094-1757232000-1757235600@www.gracechurchamherst.org
SUMMARY:Holy Eucharist
DESCRIPTION:
URL:https://www.gracechurchamherst.org/event/holy-eucharist-39/
LOCATION:Sanctuary
END:VEVENT
BEGIN:VEVENT
DTSTART;TZID=America/New_York:20250907T090000
DTEND;TZID=America/New_York:20250907T100000
DTSTAMP:20260419T205749
CREATED:20250808T150415Z
LAST-MODIFIED:20250808T150415Z
UID:28071-1757235600-1757239200@www.gracechurchamherst.org
SUMMARY:Coffee Hour
DESCRIPTION:
URL:https://www.gracechurchamherst.org/event/coffee-hour-139/
LOCATION:Connector
END:VEVENT
BEGIN:VEVENT
DTSTART;TZID=America/New_York:20250907T091500
DTEND;TZID=America/New_York:20250907T101500
DTSTAMP:20260419T205749
CREATED:20250829T155452Z
LAST-MODIFIED:20250829T155452Z
UID:28180-1757236500-1757240100@www.gracechurchamherst.org
SUMMARY:Youth Choir Rehearsal
DESCRIPTION:
URL:https://www.gracechurchamherst.org/event/youth-choir-rehearsal/
LOCATION:Parish Hall\, Spring Street
END:VEVENT
BEGIN:VEVENT
DTSTART;TZID=America/New_York:20250907T103000
DTEND;TZID=America/New_York:20250907T113000
DTSTAMP:20260419T205749
CREATED:20250815T143801Z
LAST-MODIFIED:20250815T143801Z
UID:28096-1757241000-1757244600@www.gracechurchamherst.org
SUMMARY:Holy Eucharist
DESCRIPTION:
URL:https://www.gracechurchamherst.org/event/holy-eucharist-162/
LOCATION:Sanctuary
END:VEVENT
BEGIN:VEVENT
DTSTART;TZID=America/New_York:20250907T113000
DTEND;TZID=America/New_York:20250907T123000
DTSTAMP:20260419T205749
CREATED:20250829T160054Z
LAST-MODIFIED:20250829T160054Z
UID:28190-1757244600-1757248200@www.gracechurchamherst.org
SUMMARY:Coffee Hour
DESCRIPTION:
URL:https://www.gracechurchamherst.org/event/coffee-hour-21/
LOCATION:Connector
END:VEVENT
BEGIN:VEVENT
DTSTART;TZID=America/New_York:20250907T121500
DTEND;TZID=America/New_York:20250907T131500
DTSTAMP:20260419T205749
CREATED:20250801T142017Z
LAST-MODIFIED:20250829T160527Z
UID:28009-1757247300-1757250900@www.gracechurchamherst.org
SUMMARY:Climate Action @ Grace Speaker
DESCRIPTION:Marianne Connor will lead us in a discussion relevant to so many of us:  A Conversation about Aging from a Regenerative Perspective\, Parish Hall\, 12:15-1:15.  Marianne has years of experience connecting spirituality and practical systems for day-to-day living\, including for later life stages.
URL:https://www.gracechurchamherst.org/event/climate-action-grace-meeting-2/
LOCATION:Parish Hall\, Spring Street
END:VEVENT
BEGIN:VEVENT
DTSTART;TZID=America/New_York:20250907T193000
DTEND;TZID=America/New_York:20250907T203000
DTSTAMP:20260419T205749
CREATED:20250808T150010Z
LAST-MODIFIED:20250808T150010Z
UID:28059-1757273400-1757277000@www.gracechurchamherst.org
SUMMARY:AA Meeting
DESCRIPTION:
URL:https://www.gracechurchamherst.org/event/aa-meeting-201/
LOCATION:Parish Hall\, Spring Street
END:VEVENT
BEGIN:VEVENT
DTSTART;TZID=America/New_York:20250908T100000
DTEND;TZID=America/New_York:20250908T103000
DTSTAMP:20260419T205749
CREATED:20250801T142905Z
LAST-MODIFIED:20250801T142905Z
UID:28025-1757325600-1757327400@www.gracechurchamherst.org
SUMMARY:Staff Meeting
DESCRIPTION:
URL:https://www.gracechurchamherst.org/event/staff-meeting-136/
END:VEVENT
BEGIN:VEVENT
DTSTART;TZID=America/New_York:20250908T190000
DTEND;TZID=America/New_York:20250908T200000
DTSTAMP:20260419T205749
CREATED:20250815T144032Z
LAST-MODIFIED:20250815T144032Z
UID:28104-1757358000-1757361600@www.gracechurchamherst.org
SUMMARY:Joy of Living Group
DESCRIPTION:
URL:https://www.gracechurchamherst.org/event/joy-of-living-group-46/
LOCATION:Connector
END:VEVENT
BEGIN:VEVENT
DTSTART;TZID=America/New_York:20250908T190000
DTEND;TZID=America/New_York:20250908T200000
DTSTAMP:20260419T205749
CREATED:20250815T144519Z
LAST-MODIFIED:20250815T144519Z
UID:28116-1757358000-1757361600@www.gracechurchamherst.org
SUMMARY:AA Meeting
DESCRIPTION:
URL:https://www.gracechurchamherst.org/event/aa-meeting-210/
LOCATION:Parish Hall\, Spring Street
END:VEVENT
BEGIN:VEVENT
DTSTART;TZID=America/New_York:20250909T090000
DTEND;TZID=America/New_York:20250909T113000
DTSTAMP:20260419T205749
CREATED:20250801T143249Z
LAST-MODIFIED:20250801T143249Z
UID:28031-1757408400-1757417400@www.gracechurchamherst.org
SUMMARY:Raising the Questions
DESCRIPTION:
URL:https://www.gracechurchamherst.org/event/raising-the-questions-33/
LOCATION:Connector
END:VEVENT
BEGIN:VEVENT
DTSTART;TZID=America/New_York:20250909T171500
DTEND;TZID=America/New_York:20250909T181500
DTSTAMP:20260419T205749
CREATED:20250822T162641Z
LAST-MODIFIED:20250822T162641Z
UID:28162-1757438100-1757441700@www.gracechurchamherst.org
SUMMARY:AA Meeting
DESCRIPTION:
URL:https://www.gracechurchamherst.org/event/aa-meeting-216/
LOCATION:Parish Hall\, Spring Street
END:VEVENT
BEGIN:VEVENT
DTSTART;TZID=America/New_York:20250909T190000
DTEND;TZID=America/New_York:20250909T200000
DTSTAMP:20260419T205749
CREATED:20250829T160805Z
LAST-MODIFIED:20250829T160805Z
UID:28200-1757444400-1757448000@www.gracechurchamherst.org
SUMMARY:Al-Anon Meeting
DESCRIPTION:
URL:https://www.gracechurchamherst.org/event/al-anon-meeting-75/
LOCATION:Parish Hall\, Spring Street
END:VEVENT
BEGIN:VEVENT
DTSTART;TZID=America/New_York:20250910T121000
DTEND;TZID=America/New_York:20250910T130000
DTSTAMP:20260419T205749
CREATED:20250822T161300Z
LAST-MODIFIED:20250822T161300Z
UID:28135-1757506200-1757509200@www.gracechurchamherst.org
SUMMARY:Holy Eucharist according to Rite I with Healing Prayer
DESCRIPTION:
URL:https://www.gracechurchamherst.org/event/holy-eucharist-according-to-rite-i-with-healing-prayer-67/
LOCATION:Sanctuary
END:VEVENT
BEGIN:VEVENT
DTSTART;TZID=America/New_York:20250911T110000
DTEND;TZID=America/New_York:20250911T111100
DTSTAMP:20260419T205749
CREATED:20250703T154807Z
LAST-MODIFIED:20250703T154807Z
UID:27817-1757588400-1757589060@www.gracechurchamherst.org
SUMMARY:Bell Ringing for Climate Action
DESCRIPTION:
URL:https://www.gracechurchamherst.org/event/bell-ringing-for-climate-action-5/
LOCATION:Front Lawn\, 14 Boltwood Ave.\, Amherst\, MA\, 01002\, United States
END:VEVENT
BEGIN:VEVENT
DTSTART;TZID=America/New_York:20250911T170000
DTEND;TZID=America/New_York:20250911T190000
DTSTAMP:20260419T205749
CREATED:20250829T161054Z
LAST-MODIFIED:20250829T161054Z
UID:28204-1757610000-1757617200@www.gracechurchamherst.org
SUMMARY:Executive Committee Meeting
DESCRIPTION:
URL:https://www.gracechurchamherst.org/event/executive-committee-meeting-14/
END:VEVENT
BEGIN:VEVENT
DTSTART;TZID=America/New_York:20250911T193000
DTEND;TZID=America/New_York:20250911T213000
DTSTAMP:20260419T205749
CREATED:20250822T161834Z
LAST-MODIFIED:20250822T161834Z
UID:28146-1757619000-1757626200@www.gracechurchamherst.org
SUMMARY:Choir Rehearsal
DESCRIPTION:
URL:https://www.gracechurchamherst.org/event/choir-rehearsal-62/
LOCATION:Sanctuary
END:VEVENT
BEGIN:VEVENT
DTSTART;TZID=America/New_York:20250912T070000
DTEND;TZID=America/New_York:20250912T083000
DTSTAMP:20260419T205749
CREATED:20250801T143833Z
LAST-MODIFIED:20250801T143833Z
UID:28041-1757660400-1757665800@www.gracechurchamherst.org
SUMMARY:Men's Group
DESCRIPTION:
URL:https://www.gracechurchamherst.org/event/mens-group-15/
LOCATION:Parker Room
END:VEVENT
BEGIN:VEVENT
DTSTART;TZID=America/New_York:20250912T173000
DTEND;TZID=America/New_York:20250912T183000
DTSTAMP:20260419T205749
CREATED:20250822T162236Z
LAST-MODIFIED:20250822T162236Z
UID:28154-1757698200-1757701800@www.gracechurchamherst.org
SUMMARY:Evensong
DESCRIPTION:
URL:https://www.gracechurchamherst.org/event/evensong-40/
LOCATION:Sanctuary
END:VEVENT
END:VCALENDAR