BEGIN:VCALENDAR
VERSION:2.0
PRODID:-//Grace Episcopal Church, Amherst MA - ECPv6.15.20//NONSGML v1.0//EN
CALSCALE:GREGORIAN
METHOD:PUBLISH
X-WR-CALNAME:Grace Episcopal Church, Amherst MA
X-ORIGINAL-URL:https://www.gracechurchamherst.org
X-WR-CALDESC:Events for Grace Episcopal Church, Amherst MA
REFRESH-INTERVAL;VALUE=DURATION:PT1H
X-Robots-Tag:noindex
X-PUBLISHED-TTL:PT1H
BEGIN:VTIMEZONE
TZID:America/New_York
BEGIN:DAYLIGHT
TZOFFSETFROM:-0500
TZOFFSETTO:-0400
TZNAME:EDT
DTSTART:20240310T070000
END:DAYLIGHT
BEGIN:STANDARD
TZOFFSETFROM:-0400
TZOFFSETTO:-0500
TZNAME:EST
DTSTART:20241103T060000
END:STANDARD
BEGIN:DAYLIGHT
TZOFFSETFROM:-0500
TZOFFSETTO:-0400
TZNAME:EDT
DTSTART:20250309T070000
END:DAYLIGHT
BEGIN:STANDARD
TZOFFSETFROM:-0400
TZOFFSETTO:-0500
TZNAME:EST
DTSTART:20251102T060000
END:STANDARD
BEGIN:DAYLIGHT
TZOFFSETFROM:-0500
TZOFFSETTO:-0400
TZNAME:EDT
DTSTART:20260308T070000
END:DAYLIGHT
BEGIN:STANDARD
TZOFFSETFROM:-0400
TZOFFSETTO:-0500
TZNAME:EST
DTSTART:20261101T060000
END:STANDARD
END:VTIMEZONE
BEGIN:VEVENT
DTSTART;TZID=America/New_York:20251001T121000
DTEND;TZID=America/New_York:20251001T130000
DTSTAMP:20260419T192001
CREATED:20250822T161554Z
LAST-MODIFIED:20250822T161554Z
UID:28142-1759320600-1759323600@www.gracechurchamherst.org
SUMMARY:Holy Eucharist according to Rite I with Healing Prayer
DESCRIPTION:
URL:https://www.gracechurchamherst.org/event/holy-eucharist-according-to-rite-i-with-healing-prayer-70/
LOCATION:Sanctuary
END:VEVENT
BEGIN:VEVENT
DTSTART;TZID=America/New_York:20251002T093000
DTEND;TZID=America/New_York:20251002T113000
DTSTAMP:20260419T192001
CREATED:20250924T160744Z
LAST-MODIFIED:20250924T160744Z
UID:28358-1759397400-1759404600@www.gracechurchamherst.org
SUMMARY:Life-Story Writing
DESCRIPTION:
URL:https://www.gracechurchamherst.org/event/life-story-writing-3/
LOCATION:Connector
END:VEVENT
BEGIN:VEVENT
DTSTART;TZID=America/New_York:20251002T193000
DTEND;TZID=America/New_York:20251002T213000
DTSTAMP:20260419T192001
CREATED:20250924T161119Z
LAST-MODIFIED:20250924T161119Z
UID:28366-1759433400-1759440600@www.gracechurchamherst.org
SUMMARY:Choir Rehearsal
DESCRIPTION:
URL:https://www.gracechurchamherst.org/event/choir-rehearsal-2/
LOCATION:Sanctuary
END:VEVENT
BEGIN:VEVENT
DTSTART;TZID=America/New_York:20251003T173000
DTEND;TZID=America/New_York:20251003T183000
DTSTAMP:20260419T192001
CREATED:20250923T144206Z
LAST-MODIFIED:20250923T144206Z
UID:28331-1759512600-1759516200@www.gracechurchamherst.org
SUMMARY:Evensong
DESCRIPTION:
URL:https://www.gracechurchamherst.org/event/evensong-42/
LOCATION:Sanctuary
END:VEVENT
BEGIN:VEVENT
DTSTART;TZID=America/New_York:20251004T090000
DTEND;TZID=America/New_York:20251004T110000
DTSTAMP:20260419T192001
CREATED:20250924T161627Z
LAST-MODIFIED:20250924T161627Z
UID:28376-1759568400-1759575600@www.gracechurchamherst.org
SUMMARY:Garden Clean-up
DESCRIPTION:
URL:https://www.gracechurchamherst.org/event/garden-clean-up-2/
LOCATION:Garth\, 14 Boltwood Ave.\, Amherst\, MA\, 01002\, United States
END:VEVENT
BEGIN:VEVENT
DTSTART;TZID=America/New_York:20251004T100000
DTEND;TZID=America/New_York:20251004T110000
DTSTAMP:20260419T192001
CREATED:20250829T155149Z
LAST-MODIFIED:20250829T155149Z
UID:28178-1759572000-1759575600@www.gracechurchamherst.org
SUMMARY:Zoom Bible Study
DESCRIPTION:
URL:https://www.gracechurchamherst.org/event/zoom-bible-study-62/
END:VEVENT
BEGIN:VEVENT
DTSTART;TZID=America/New_York:20251004T170000
DTEND;TZID=America/New_York:20251004T180000
DTSTAMP:20260419T192001
CREATED:20250905T150157Z
LAST-MODIFIED:20250905T150157Z
UID:28218-1759597200-1759600800@www.gracechurchamherst.org
SUMMARY:AA Meeting
DESCRIPTION:
URL:https://www.gracechurchamherst.org/event/aa-meeting-220/
LOCATION:Parish Hall\, Spring Street
END:VEVENT
BEGIN:VEVENT
DTSTART;TZID=America/New_York:20251004T200000
DTEND;TZID=America/New_York:20251004T210000
DTSTAMP:20260419T192001
CREATED:20250912T152751Z
LAST-MODIFIED:20250912T152751Z
UID:28253-1759608000-1759611600@www.gracechurchamherst.org
SUMMARY:AA Meeting
DESCRIPTION:
URL:https://www.gracechurchamherst.org/event/aa-meeting-226/
LOCATION:Parish Hall\, Spring Street
END:VEVENT
BEGIN:VEVENT
DTSTART;TZID=America/New_York:20251005T080000
DTEND;TZID=America/New_York:20251005T090000
DTSTAMP:20260419T192001
CREATED:20250912T153029Z
LAST-MODIFIED:20250912T153029Z
UID:28259-1759651200-1759654800@www.gracechurchamherst.org
SUMMARY:Holy Eucharist
DESCRIPTION:
URL:https://www.gracechurchamherst.org/event/holy-eucharist-2/
LOCATION:Sanctuary
END:VEVENT
BEGIN:VEVENT
DTSTART;TZID=America/New_York:20251005T090000
DTEND;TZID=America/New_York:20251005T100000
DTSTAMP:20260419T192001
CREATED:20250905T150600Z
LAST-MODIFIED:20250905T150600Z
UID:28228-1759654800-1759658400@www.gracechurchamherst.org
SUMMARY:Coffee Hour
DESCRIPTION:
URL:https://www.gracechurchamherst.org/event/coffee-hour-143/
LOCATION:Connector
END:VEVENT
BEGIN:VEVENT
DTSTART;TZID=America/New_York:20251005T091500
DTEND;TZID=America/New_York:20251005T101500
DTSTAMP:20260419T192001
CREATED:20250829T155950Z
LAST-MODIFIED:20250829T155950Z
UID:28188-1759655700-1759659300@www.gracechurchamherst.org
SUMMARY:Youth Choir Rehearsal
DESCRIPTION:
URL:https://www.gracechurchamherst.org/event/youth-choir-rehearsal-5/
LOCATION:Parish Hall\, Spring Street
END:VEVENT
BEGIN:VEVENT
DTSTART;TZID=America/New_York:20251005T103000
DTEND;TZID=America/New_York:20251005T113000
DTSTAMP:20260419T192001
CREATED:20250912T153259Z
LAST-MODIFIED:20250912T153259Z
UID:28265-1759660200-1759663800@www.gracechurchamherst.org
SUMMARY:Holy Eucharist
DESCRIPTION:
URL:https://www.gracechurchamherst.org/event/holy-eucharist-41/
LOCATION:Sanctuary
END:VEVENT
BEGIN:VEVENT
DTSTART;TZID=America/New_York:20251005T113000
DTEND;TZID=America/New_York:20251005T123000
DTSTAMP:20260419T192001
CREATED:20250925T184208Z
LAST-MODIFIED:20250925T184208Z
UID:28378-1759663800-1759667400@www.gracechurchamherst.org
SUMMARY:Coffee Hour
DESCRIPTION:
URL:https://www.gracechurchamherst.org/event/coffee-hour-3/
LOCATION:Connector
END:VEVENT
BEGIN:VEVENT
DTSTART;TZID=America/New_York:20251005T120000
DTEND;TZID=America/New_York:20251005T170000
DTSTAMP:20260419T192001
CREATED:20250925T185848Z
LAST-MODIFIED:20250925T185848Z
UID:28399-1759665600-1759683600@www.gracechurchamherst.org
SUMMARY:Iconography
DESCRIPTION:
URL:https://www.gracechurchamherst.org/event/iconography-12/
LOCATION:Parish Hall\, Spring Street
END:VEVENT
BEGIN:VEVENT
DTSTART;TZID=America/New_York:20251005T121500
DTEND;TZID=America/New_York:20251005T130000
DTSTAMP:20260419T192001
CREATED:20250925T184836Z
LAST-MODIFIED:20250925T184836Z
UID:28390-1759666500-1759669200@www.gracechurchamherst.org
SUMMARY:Blessing of the Garth/Creation Season Celebration
DESCRIPTION:
URL:https://www.gracechurchamherst.org/event/blessing-of-the-garth-creation-season-celebration/
LOCATION:Garth\, 14 Boltwood Ave.\, Amherst\, MA\, 01002\, United States
END:VEVENT
BEGIN:VEVENT
DTSTART;TZID=America/New_York:20251005T150000
DTEND;TZID=America/New_York:20251005T170000
DTSTAMP:20260419T192001
CREATED:20250925T185455Z
LAST-MODIFIED:20250925T185455Z
UID:28394-1759676400-1759683600@www.gracechurchamherst.org
SUMMARY:Concert: Illumine Vocal Ensemble
DESCRIPTION:
URL:https://www.gracechurchamherst.org/event/concert-illumine-vocal-ensemble/
LOCATION:Sanctuary
END:VEVENT
BEGIN:VEVENT
DTSTART;TZID=America/New_York:20251005T160000
DTEND;TZID=America/New_York:20251005T170000
DTSTAMP:20260419T192001
CREATED:20250925T185740Z
LAST-MODIFIED:20250925T185740Z
UID:28397-1759680000-1759683600@www.gracechurchamherst.org
SUMMARY:Blessing of Animals
DESCRIPTION:Bring beloved pets (or stuffed animals) to the Common\, across from our front lawn\, at 4 p.m. on October 5th for a blessing!
URL:https://www.gracechurchamherst.org/event/blessing-of-animals-2/
LOCATION:Front Lawn\, 14 Boltwood Ave.\, Amherst\, MA\, 01002\, United States
END:VEVENT
BEGIN:VEVENT
DTSTART;TZID=America/New_York:20251005T193000
DTEND;TZID=America/New_York:20251005T203000
DTSTAMP:20260419T192001
CREATED:20250919T165310Z
LAST-MODIFIED:20250919T165310Z
UID:28302-1759692600-1759696200@www.gracechurchamherst.org
SUMMARY:AA Meeting
DESCRIPTION:
URL:https://www.gracechurchamherst.org/event/aa-meeting-230/
LOCATION:Parish Hall\, Spring Street
END:VEVENT
BEGIN:VEVENT
DTSTART;TZID=America/New_York:20251006T100000
DTEND;TZID=America/New_York:20251006T103000
DTSTAMP:20260419T192001
CREATED:20250919T164509Z
LAST-MODIFIED:20250919T164509Z
UID:28290-1759744800-1759746600@www.gracechurchamherst.org
SUMMARY:Staff Meeting
DESCRIPTION:
URL:https://www.gracechurchamherst.org/event/staff-meeting-60/
END:VEVENT
BEGIN:VEVENT
DTSTART;TZID=America/New_York:20251006T190000
DTEND;TZID=America/New_York:20251006T200000
DTSTAMP:20260419T192001
CREATED:20250919T165805Z
LAST-MODIFIED:20250919T165805Z
UID:28312-1759777200-1759780800@www.gracechurchamherst.org
SUMMARY:AA Meeting
DESCRIPTION:
URL:https://www.gracechurchamherst.org/event/aa-meeting-235/
LOCATION:Parish Hall\, Spring Street
END:VEVENT
BEGIN:VEVENT
DTSTART;TZID=America/New_York:20251007T171500
DTEND;TZID=America/New_York:20251007T181500
DTSTAMP:20260419T192001
CREATED:20250924T160347Z
LAST-MODIFIED:20250924T160347Z
UID:28350-1759857300-1759860900@www.gracechurchamherst.org
SUMMARY:AA Meeting
DESCRIPTION:
URL:https://www.gracechurchamherst.org/event/aa-meeting-240/
LOCATION:Parish Hall\, Spring Street
END:VEVENT
BEGIN:VEVENT
DTSTART;TZID=America/New_York:20251007T190000
DTEND;TZID=America/New_York:20251007T200000
DTSTAMP:20260419T192001
CREATED:20250919T170241Z
LAST-MODIFIED:20250919T170241Z
UID:28320-1759863600-1759867200@www.gracechurchamherst.org
SUMMARY:Al-Anon Meeting
DESCRIPTION:
URL:https://www.gracechurchamherst.org/event/al-anon-meeting-78/
LOCATION:Parish Hall\, Spring Street
END:VEVENT
BEGIN:VEVENT
DTSTART;TZID=America/New_York:20251008T121000
DTEND;TZID=America/New_York:20251008T130000
DTSTAMP:20260419T192001
CREATED:20250925T190128Z
LAST-MODIFIED:20250925T190128Z
UID:28403-1759925400-1759928400@www.gracechurchamherst.org
SUMMARY:Holy Eucharist according to Rite I with Healing Prayer
DESCRIPTION:
URL:https://www.gracechurchamherst.org/event/holy-eucharist-according-to-rite-i-with-healing-prayer-3/
LOCATION:Sanctuary
END:VEVENT
BEGIN:VEVENT
DTSTART;TZID=America/New_York:20251009T193000
DTEND;TZID=America/New_York:20251009T213000
DTSTAMP:20260419T192001
CREATED:20250924T161201Z
LAST-MODIFIED:20250924T161201Z
UID:28368-1760038200-1760045400@www.gracechurchamherst.org
SUMMARY:Choir Rehearsal
DESCRIPTION:
URL:https://www.gracechurchamherst.org/event/choir-rehearsal-4/
LOCATION:Sanctuary
END:VEVENT
BEGIN:VEVENT
DTSTART;TZID=America/New_York:20251010T070000
DTEND;TZID=America/New_York:20251010T083000
DTSTAMP:20260419T192001
CREATED:20250924T161518Z
LAST-MODIFIED:20250926T145133Z
UID:28374-1760079600-1760085000@www.gracechurchamherst.org
SUMMARY:Mens' Group
DESCRIPTION:
URL:https://www.gracechurchamherst.org/event/mens-group-17/
LOCATION:Parker Room
END:VEVENT
BEGIN:VEVENT
DTSTART;TZID=America/New_York:20251010T173000
DTEND;TZID=America/New_York:20251010T183000
DTSTAMP:20260419T192001
CREATED:20250923T144255Z
LAST-MODIFIED:20250923T144255Z
UID:28333-1760117400-1760121000@www.gracechurchamherst.org
SUMMARY:Evensong
DESCRIPTION:
URL:https://www.gracechurchamherst.org/event/evensong-43/
LOCATION:Sanctuary
END:VEVENT
BEGIN:VEVENT
DTSTART;TZID=America/New_York:20251011T100000
DTEND;TZID=America/New_York:20251011T110000
DTSTAMP:20260419T192001
CREATED:20251003T144621Z
LAST-MODIFIED:20251003T144621Z
UID:28469-1760176800-1760180400@www.gracechurchamherst.org
SUMMARY:Zoom Bible Study
DESCRIPTION:
URL:https://www.gracechurchamherst.org/event/zoom-bible-study-63/
END:VEVENT
BEGIN:VEVENT
DTSTART;TZID=America/New_York:20251011T110000
DTEND;TZID=America/New_York:20251011T111100
DTSTAMP:20260419T192001
CREATED:20250703T154859Z
LAST-MODIFIED:20250703T154859Z
UID:27819-1760180400-1760181060@www.gracechurchamherst.org
SUMMARY:Bell Ringing for Climate Action
DESCRIPTION:
URL:https://www.gracechurchamherst.org/event/bell-ringing-for-climate-action-6/
LOCATION:Front Lawn\, 14 Boltwood Ave.\, Amherst\, MA\, 01002\, United States
END:VEVENT
BEGIN:VEVENT
DTSTART;TZID=America/New_York:20251011T170000
DTEND;TZID=America/New_York:20251011T180000
DTSTAMP:20260419T192001
CREATED:20250905T150241Z
LAST-MODIFIED:20250905T150241Z
UID:28220-1760202000-1760205600@www.gracechurchamherst.org
SUMMARY:AA Meeting
DESCRIPTION:
URL:https://www.gracechurchamherst.org/event/aa-meeting-222/
LOCATION:Parish Hall\, Spring Street
END:VEVENT
BEGIN:VEVENT
DTSTART;TZID=America/New_York:20251011T200000
DTEND;TZID=America/New_York:20251011T210000
DTSTAMP:20260419T192001
CREATED:20250912T152835Z
LAST-MODIFIED:20250912T152835Z
UID:28255-1760212800-1760216400@www.gracechurchamherst.org
SUMMARY:AA Meeting
DESCRIPTION:
URL:https://www.gracechurchamherst.org/event/aa-meeting-227/
LOCATION:Parish Hall\, Spring Street
END:VEVENT
END:VCALENDAR