BEGIN:VCALENDAR
VERSION:2.0
PRODID:-//Grace Episcopal Church, Amherst MA - ECPv6.15.20//NONSGML v1.0//EN
CALSCALE:GREGORIAN
METHOD:PUBLISH
X-ORIGINAL-URL:https://www.gracechurchamherst.org
X-WR-CALDESC:Events for Grace Episcopal Church, Amherst MA
REFRESH-INTERVAL;VALUE=DURATION:PT1H
X-Robots-Tag:noindex
X-PUBLISHED-TTL:PT1H
BEGIN:VTIMEZONE
TZID:America/New_York
BEGIN:DAYLIGHT
TZOFFSETFROM:-0500
TZOFFSETTO:-0400
TZNAME:EDT
DTSTART:20250309T070000
END:DAYLIGHT
BEGIN:STANDARD
TZOFFSETFROM:-0400
TZOFFSETTO:-0500
TZNAME:EST
DTSTART:20251102T060000
END:STANDARD
BEGIN:DAYLIGHT
TZOFFSETFROM:-0500
TZOFFSETTO:-0400
TZNAME:EDT
DTSTART:20260308T070000
END:DAYLIGHT
BEGIN:STANDARD
TZOFFSETFROM:-0400
TZOFFSETTO:-0500
TZNAME:EST
DTSTART:20261101T060000
END:STANDARD
BEGIN:DAYLIGHT
TZOFFSETFROM:-0500
TZOFFSETTO:-0400
TZNAME:EDT
DTSTART:20270314T070000
END:DAYLIGHT
BEGIN:STANDARD
TZOFFSETFROM:-0400
TZOFFSETTO:-0500
TZNAME:EST
DTSTART:20271107T060000
END:STANDARD
END:VTIMEZONE
BEGIN:VEVENT
DTSTART;VALUE=DATE:20260101
DTEND;VALUE=DATE:20260102
DTSTAMP:20260419T141553
CREATED:20251218T184311Z
LAST-MODIFIED:20251218T184311Z
UID:29354-1767225600-1767311999@www.gracechurchamherst.org
SUMMARY:Office Closed
DESCRIPTION:
URL:https://www.gracechurchamherst.org/event/office-closed-33/
END:VEVENT
BEGIN:VEVENT
DTSTART;VALUE=DATE:20260102
DTEND;VALUE=DATE:20260103
DTSTAMP:20260419T141553
CREATED:20251218T184329Z
LAST-MODIFIED:20251218T184329Z
UID:29356-1767312000-1767398399@www.gracechurchamherst.org
SUMMARY:Office Closed
DESCRIPTION:
URL:https://www.gracechurchamherst.org/event/office-closed-34/
END:VEVENT
BEGIN:VEVENT
DTSTART;TZID=America/New_York:20260102T070000
DTEND;TZID=America/New_York:20260102T083000
DTSTAMP:20260419T141553
CREATED:20251125T165102Z
LAST-MODIFIED:20251125T165102Z
UID:28964-1767337200-1767342600@www.gracechurchamherst.org
SUMMARY:Men's Group
DESCRIPTION:
URL:https://www.gracechurchamherst.org/event/mens-group-21/
LOCATION:Parker Room
END:VEVENT
BEGIN:VEVENT
DTSTART;TZID=America/New_York:20260102T173000
DTEND;TZID=America/New_York:20260102T183000
DTSTAMP:20260419T141553
CREATED:20251204T193932Z
LAST-MODIFIED:20251204T193932Z
UID:29062-1767375000-1767378600@www.gracechurchamherst.org
SUMMARY:Evensong
DESCRIPTION:
URL:https://www.gracechurchamherst.org/event/evensong-55/
LOCATION:Sanctuary
END:VEVENT
BEGIN:VEVENT
DTSTART;TZID=America/New_York:20260103T170000
DTEND;TZID=America/New_York:20260103T180000
DTSTAMP:20260419T141553
CREATED:20251204T194244Z
LAST-MODIFIED:20251204T194244Z
UID:29072-1767459600-1767463200@www.gracechurchamherst.org
SUMMARY:AA Meeting
DESCRIPTION:
URL:https://www.gracechurchamherst.org/event/aa-meeting-296/
LOCATION:Parish Hall\, Spring Street
END:VEVENT
BEGIN:VEVENT
DTSTART;TZID=America/New_York:20260103T200000
DTEND;TZID=America/New_York:20260103T210000
DTSTAMP:20260419T141553
CREATED:20251204T194508Z
LAST-MODIFIED:20251204T194508Z
UID:29080-1767470400-1767474000@www.gracechurchamherst.org
SUMMARY:AA Meeting
DESCRIPTION:
URL:https://www.gracechurchamherst.org/event/aa-meeting-304/
LOCATION:Parish Hall\, Spring Street
END:VEVENT
BEGIN:VEVENT
DTSTART;TZID=America/New_York:20260104T080000
DTEND;TZID=America/New_York:20260104T090000
DTSTAMP:20260419T141553
CREATED:20251118T152846Z
LAST-MODIFIED:20251118T152846Z
UID:28801-1767513600-1767517200@www.gracechurchamherst.org
SUMMARY:Holy Eucharist
DESCRIPTION:
URL:https://www.gracechurchamherst.org/event/holy-eucharist-168/
LOCATION:Sanctuary
END:VEVENT
BEGIN:VEVENT
DTSTART;TZID=America/New_York:20260104T090000
DTEND;TZID=America/New_York:20260104T100000
DTSTAMP:20260419T141553
CREATED:20251205T170250Z
LAST-MODIFIED:20251205T170250Z
UID:29100-1767517200-1767520800@www.gracechurchamherst.org
SUMMARY:Coffee Hour
DESCRIPTION:
URL:https://www.gracechurchamherst.org/event/coffee-hour-41/
LOCATION:Connector
END:VEVENT
BEGIN:VEVENT
DTSTART;TZID=America/New_York:20260104T091500
DTEND;TZID=America/New_York:20260104T101500
DTSTAMP:20260419T141553
CREATED:20251205T170759Z
LAST-MODIFIED:20251205T170759Z
UID:29110-1767518100-1767521700@www.gracechurchamherst.org
SUMMARY:Youth Choir Rehearsal
DESCRIPTION:
URL:https://www.gracechurchamherst.org/event/youth-choir-rehearsal-14/
LOCATION:Parish Hall\, Spring Street
END:VEVENT
BEGIN:VEVENT
DTSTART;TZID=America/New_York:20260104T103000
DTEND;TZID=America/New_York:20260104T113000
DTSTAMP:20260419T141553
CREATED:20251121T175720Z
LAST-MODIFIED:20251121T175720Z
UID:28892-1767522600-1767526200@www.gracechurchamherst.org
SUMMARY:Holy Eucharist
DESCRIPTION:
URL:https://www.gracechurchamherst.org/event/holy-eucharist-171/
LOCATION:Sanctuary
END:VEVENT
BEGIN:VEVENT
DTSTART;TZID=America/New_York:20260104T113000
DTEND;TZID=America/New_York:20260104T123000
DTSTAMP:20260419T141553
CREATED:20251201T194100Z
LAST-MODIFIED:20251201T194100Z
UID:29018-1767526200-1767529800@www.gracechurchamherst.org
SUMMARY:Coffee Hour
DESCRIPTION:
URL:https://www.gracechurchamherst.org/event/coffee-hour-149/
LOCATION:Connector
END:VEVENT
BEGIN:VEVENT
DTSTART;TZID=America/New_York:20260104T120000
DTEND;TZID=America/New_York:20260104T170000
DTSTAMP:20260419T141553
CREATED:20251205T171127Z
LAST-MODIFIED:20251205T171127Z
UID:29118-1767528000-1767546000@www.gracechurchamherst.org
SUMMARY:Iconography
DESCRIPTION:
URL:https://www.gracechurchamherst.org/event/iconography-2/
LOCATION:Parish Hall\, Spring Street
END:VEVENT
BEGIN:VEVENT
DTSTART;TZID=America/New_York:20260104T193000
DTEND;TZID=America/New_York:20260104T203000
DTSTAMP:20260419T141553
CREATED:20251205T171338Z
LAST-MODIFIED:20251205T171338Z
UID:29126-1767555000-1767558600@www.gracechurchamherst.org
SUMMARY:AA Meeting
DESCRIPTION:
URL:https://www.gracechurchamherst.org/event/aa-meeting-803/
LOCATION:Parish Hall\, Spring Street
END:VEVENT
BEGIN:VEVENT
DTSTART;TZID=America/New_York:20260105T100000
DTEND;TZID=America/New_York:20260105T103000
DTSTAMP:20260419T141553
CREATED:20251204T193547Z
LAST-MODIFIED:20251204T193547Z
UID:29052-1767607200-1767609000@www.gracechurchamherst.org
SUMMARY:Staff Meeting
DESCRIPTION:
URL:https://www.gracechurchamherst.org/event/staff-meeting-14/
END:VEVENT
BEGIN:VEVENT
DTSTART;TZID=America/New_York:20260105T190000
DTEND;TZID=America/New_York:20260105T200000
DTSTAMP:20260419T141553
CREATED:20251203T165359Z
LAST-MODIFIED:20251203T165359Z
UID:29029-1767639600-1767643200@www.gracechurchamherst.org
SUMMARY:AA Meeting
DESCRIPTION:
URL:https://www.gracechurchamherst.org/event/aa-meeting-292/
LOCATION:Parish Hall\, Spring Street
END:VEVENT
BEGIN:VEVENT
DTSTART;TZID=America/New_York:20260106T171500
DTEND;TZID=America/New_York:20260106T181500
DTSTAMP:20260419T141553
CREATED:20251205T171949Z
LAST-MODIFIED:20251205T171949Z
UID:29132-1767719700-1767723300@www.gracechurchamherst.org
SUMMARY:AA Meeting
DESCRIPTION:
URL:https://www.gracechurchamherst.org/event/aa-meeting-806/
LOCATION:Parish Hall\, Spring Street
END:VEVENT
BEGIN:VEVENT
DTSTART;TZID=America/New_York:20260106T190000
DTEND;TZID=America/New_York:20260106T200000
DTSTAMP:20260419T141553
CREATED:20251125T164615Z
LAST-MODIFIED:20251125T164615Z
UID:28956-1767726000-1767729600@www.gracechurchamherst.org
SUMMARY:Al-Anon Meeting
DESCRIPTION:
URL:https://www.gracechurchamherst.org/event/al-anon-meeting-91/
LOCATION:Parish Hall\, Spring Street
END:VEVENT
BEGIN:VEVENT
DTSTART;TZID=America/New_York:20260107T121000
DTEND;TZID=America/New_York:20260107T130000
DTSTAMP:20260419T141553
CREATED:20251205T165308Z
LAST-MODIFIED:20251205T165308Z
UID:29090-1767787800-1767790800@www.gracechurchamherst.org
SUMMARY:Holy Eucharist according to Rite I with Healing Prayer
DESCRIPTION:
URL:https://www.gracechurchamherst.org/event/holy-eucharist-according-to-rite-i-with-healing-prayer-15/
LOCATION:Sanctuary
END:VEVENT
BEGIN:VEVENT
DTSTART;TZID=America/New_York:20260108T143000
DTEND;TZID=America/New_York:20260108T170000
DTSTAMP:20260419T141553
CREATED:20251124T191153Z
LAST-MODIFIED:20251223T211633Z
UID:28932-1767882600-1767891600@www.gracechurchamherst.org
SUMMARY:Tea & Titles
DESCRIPTION:
URL:https://www.gracechurchamherst.org/event/tea-titles-14/
LOCATION:Connector
END:VEVENT
BEGIN:VEVENT
DTSTART;TZID=America/New_York:20260108T193000
DTEND;TZID=America/New_York:20260108T210000
DTSTAMP:20260419T141553
CREATED:20251205T172134Z
LAST-MODIFIED:20251205T172134Z
UID:29136-1767900600-1767906000@www.gracechurchamherst.org
SUMMARY:Choir Rehearsal
DESCRIPTION:
URL:https://www.gracechurchamherst.org/event/choir-rehearsal-12/
LOCATION:Sanctuary
END:VEVENT
BEGIN:VEVENT
DTSTART;TZID=America/New_York:20260109T173000
DTEND;TZID=America/New_York:20260109T183000
DTSTAMP:20260419T141553
CREATED:20251204T194006Z
LAST-MODIFIED:20251204T194006Z
UID:29064-1767979800-1767983400@www.gracechurchamherst.org
SUMMARY:Evensong
DESCRIPTION:
URL:https://www.gracechurchamherst.org/event/evensong-56/
LOCATION:Sanctuary
END:VEVENT
BEGIN:VEVENT
DTSTART;TZID=America/New_York:20260110T100000
DTEND;TZID=America/New_York:20260110T110000
DTSTAMP:20260419T141553
CREATED:20251212T195446Z
LAST-MODIFIED:20251212T195446Z
UID:29195-1768039200-1768042800@www.gracechurchamherst.org
SUMMARY:Zoom Bible Study
DESCRIPTION:
URL:https://www.gracechurchamherst.org/event/zoom-bible-study-70/
END:VEVENT
BEGIN:VEVENT
DTSTART;TZID=America/New_York:20260110T170000
DTEND;TZID=America/New_York:20260110T180000
DTSTAMP:20260419T141553
CREATED:20251204T194320Z
LAST-MODIFIED:20251204T194320Z
UID:29074-1768064400-1768068000@www.gracechurchamherst.org
SUMMARY:AA Meeting
DESCRIPTION:
URL:https://www.gracechurchamherst.org/event/aa-meeting-297/
LOCATION:Parish Hall\, Spring Street
END:VEVENT
BEGIN:VEVENT
DTSTART;TZID=America/New_York:20260110T200000
DTEND;TZID=America/New_York:20260110T210000
DTSTAMP:20260419T141553
CREATED:20251204T194540Z
LAST-MODIFIED:20251204T194540Z
UID:29082-1768075200-1768078800@www.gracechurchamherst.org
SUMMARY:AA Meeting
DESCRIPTION:
URL:https://www.gracechurchamherst.org/event/aa-meeting-802/
LOCATION:Parish Hall\, Spring Street
END:VEVENT
BEGIN:VEVENT
DTSTART;TZID=America/New_York:20260111T080000
DTEND;TZID=America/New_York:20260111T090000
DTSTAMP:20260419T141553
CREATED:20251218T184553Z
LAST-MODIFIED:20251218T184553Z
UID:29358-1768118400-1768122000@www.gracechurchamherst.org
SUMMARY:Holy Eucharist
DESCRIPTION:
URL:https://www.gracechurchamherst.org/event/holy-eucharist-52/
LOCATION:Sanctuary
END:VEVENT
BEGIN:VEVENT
DTSTART;TZID=America/New_York:20260111T090000
DTEND;TZID=America/New_York:20260111T100000
DTSTAMP:20260419T141553
CREATED:20251205T170317Z
LAST-MODIFIED:20251205T170317Z
UID:29102-1768122000-1768125600@www.gracechurchamherst.org
SUMMARY:Coffee Hour
DESCRIPTION:
URL:https://www.gracechurchamherst.org/event/coffee-hour-43/
LOCATION:Connector
END:VEVENT
BEGIN:VEVENT
DTSTART;TZID=America/New_York:20260111T091500
DTEND;TZID=America/New_York:20260111T101500
DTSTAMP:20260419T141553
CREATED:20251205T170833Z
LAST-MODIFIED:20251205T170833Z
UID:29112-1768122900-1768126500@www.gracechurchamherst.org
SUMMARY:Youth Choir Rehearsal
DESCRIPTION:
URL:https://www.gracechurchamherst.org/event/youth-choir-rehearsal-15/
LOCATION:Parish Hall\, Spring Street
END:VEVENT
BEGIN:VEVENT
DTSTART;TZID=America/New_York:20260111T103000
DTEND;TZID=America/New_York:20260111T113000
DTSTAMP:20260419T141553
CREATED:20251121T175751Z
LAST-MODIFIED:20251121T175751Z
UID:28894-1768127400-1768131000@www.gracechurchamherst.org
SUMMARY:Holy Eucharist
DESCRIPTION:
URL:https://www.gracechurchamherst.org/event/holy-eucharist-172/
LOCATION:Sanctuary
END:VEVENT
BEGIN:VEVENT
DTSTART;TZID=America/New_York:20260111T113000
DTEND;TZID=America/New_York:20260111T123000
DTSTAMP:20260419T141553
CREATED:20251218T184708Z
LAST-MODIFIED:20251218T184708Z
UID:29362-1768131000-1768134600@www.gracechurchamherst.org
SUMMARY:Coffee Hour
DESCRIPTION:
URL:https://www.gracechurchamherst.org/event/coffee-hour-4/
LOCATION:Connector
END:VEVENT
BEGIN:VEVENT
DTSTART;TZID=America/New_York:20260111T120000
DTEND;TZID=America/New_York:20260111T170000
DTSTAMP:20260419T141553
CREATED:20251205T171148Z
LAST-MODIFIED:20251205T171148Z
UID:29120-1768132800-1768150800@www.gracechurchamherst.org
SUMMARY:Iconography
DESCRIPTION:
URL:https://www.gracechurchamherst.org/event/iconography-50/
LOCATION:Parish Hall\, Spring Street
END:VEVENT
END:VCALENDAR