BEGIN:VCALENDAR
VERSION:2.0
PRODID:-//Grace Episcopal Church, Amherst MA - ECPv6.15.20//NONSGML v1.0//EN
CALSCALE:GREGORIAN
METHOD:PUBLISH
X-WR-CALNAME:Grace Episcopal Church, Amherst MA
X-ORIGINAL-URL:https://www.gracechurchamherst.org
X-WR-CALDESC:Events for Grace Episcopal Church, Amherst MA
REFRESH-INTERVAL;VALUE=DURATION:PT1H
X-Robots-Tag:noindex
X-PUBLISHED-TTL:PT1H
BEGIN:VTIMEZONE
TZID:America/New_York
BEGIN:DAYLIGHT
TZOFFSETFROM:-0500
TZOFFSETTO:-0400
TZNAME:EDT
DTSTART:20250309T070000
END:DAYLIGHT
BEGIN:STANDARD
TZOFFSETFROM:-0400
TZOFFSETTO:-0500
TZNAME:EST
DTSTART:20251102T060000
END:STANDARD
BEGIN:DAYLIGHT
TZOFFSETFROM:-0500
TZOFFSETTO:-0400
TZNAME:EDT
DTSTART:20260308T070000
END:DAYLIGHT
BEGIN:STANDARD
TZOFFSETFROM:-0400
TZOFFSETTO:-0500
TZNAME:EST
DTSTART:20261101T060000
END:STANDARD
BEGIN:DAYLIGHT
TZOFFSETFROM:-0500
TZOFFSETTO:-0400
TZNAME:EDT
DTSTART:20270314T070000
END:DAYLIGHT
BEGIN:STANDARD
TZOFFSETFROM:-0400
TZOFFSETTO:-0500
TZNAME:EST
DTSTART:20271107T060000
END:STANDARD
END:VTIMEZONE
BEGIN:VEVENT
DTSTART;TZID=America/New_York:20260201T093000
DTEND;TZID=America/New_York:20260201T103000
DTSTAMP:20260419T123022
CREATED:20260123T175023Z
LAST-MODIFIED:20260123T175023Z
UID:29551-1769938200-1769941800@www.gracechurchamherst.org
SUMMARY:Holy Eucharist
DESCRIPTION:
URL:https://www.gracechurchamherst.org/event/holy-eucharist-57/
LOCATION:Sanctuary
END:VEVENT
BEGIN:VEVENT
DTSTART;TZID=America/New_York:20260201T110000
DTEND;TZID=America/New_York:20260201T150000
DTSTAMP:20260419T123022
CREATED:20260123T175206Z
LAST-MODIFIED:20260123T175206Z
UID:29553-1769943600-1769958000@www.gracechurchamherst.org
SUMMARY:Annual Meeting
DESCRIPTION:
URL:https://www.gracechurchamherst.org/event/annual-meeting/
LOCATION:Parish Hall\, Spring Street
END:VEVENT
BEGIN:VEVENT
DTSTART;TZID=America/New_York:20260201T120000
DTEND;TZID=America/New_York:20260201T170000
DTSTAMP:20260419T123022
CREATED:20260123T174920Z
LAST-MODIFIED:20260123T174920Z
UID:29549-1769947200-1769965200@www.gracechurchamherst.org
SUMMARY:Icon Exhibit
DESCRIPTION:
URL:https://www.gracechurchamherst.org/event/icon-exhibit-2/
LOCATION:Chapel
END:VEVENT
BEGIN:VEVENT
DTSTART;TZID=America/New_York:20260201T193000
DTEND;TZID=America/New_York:20260201T203000
DTSTAMP:20260419T123022
CREATED:20260109T145427Z
LAST-MODIFIED:20260109T145427Z
UID:29487-1769974200-1769977800@www.gracechurchamherst.org
SUMMARY:AA Meeting
DESCRIPTION:
URL:https://www.gracechurchamherst.org/event/aa-meeting-310/
LOCATION:Parish Hall\, Spring Street
END:VEVENT
BEGIN:VEVENT
DTSTART;TZID=America/New_York:20260202T100000
DTEND;TZID=America/New_York:20260202T103000
DTSTAMP:20260419T123022
CREATED:20251204T193714Z
LAST-MODIFIED:20251204T193714Z
UID:29058-1770026400-1770028200@www.gracechurchamherst.org
SUMMARY:Staff Meeting
DESCRIPTION:
URL:https://www.gracechurchamherst.org/event/staff-meeting-140/
END:VEVENT
BEGIN:VEVENT
DTSTART;TZID=America/New_York:20260202T190000
DTEND;TZID=America/New_York:20260202T200000
DTSTAMP:20260419T123022
CREATED:20260130T155732Z
LAST-MODIFIED:20260130T155732Z
UID:29561-1770058800-1770062400@www.gracechurchamherst.org
SUMMARY:AA Meeting
DESCRIPTION:
URL:https://www.gracechurchamherst.org/event/aa-meeting-316/
LOCATION:Parish Hall\, Spring Street
END:VEVENT
BEGIN:VEVENT
DTSTART;TZID=America/New_York:20260203T171500
DTEND;TZID=America/New_York:20260203T181500
DTSTAMP:20260419T123022
CREATED:20251230T185305Z
LAST-MODIFIED:20251230T185305Z
UID:29443-1770138900-1770142500@www.gracechurchamherst.org
SUMMARY:AA Meeting
DESCRIPTION:
URL:https://www.gracechurchamherst.org/event/aa-meeting-306/
LOCATION:Parish Hall\, Spring Street
END:VEVENT
BEGIN:VEVENT
DTSTART;TZID=America/New_York:20260203T190000
DTEND;TZID=America/New_York:20260203T200000
DTSTAMP:20260419T123022
CREATED:20251230T185657Z
LAST-MODIFIED:20251230T185657Z
UID:29455-1770145200-1770148800@www.gracechurchamherst.org
SUMMARY:Al-Anon Meeting
DESCRIPTION:
URL:https://www.gracechurchamherst.org/event/al-anon-meeting-95/
LOCATION:Parish Hall\, Spring Street
END:VEVENT
BEGIN:VEVENT
DTSTART;TZID=America/New_York:20260204T121000
DTEND;TZID=America/New_York:20260204T130000
DTSTAMP:20260419T123022
CREATED:20251205T165615Z
LAST-MODIFIED:20251205T165615Z
UID:29098-1770207000-1770210000@www.gracechurchamherst.org
SUMMARY:Holy Eucharist according to Rite I with Healing Prayer
DESCRIPTION:
URL:https://www.gracechurchamherst.org/event/holy-eucharist-according-to-rite-i-with-healing-prayer-72/
LOCATION:Sanctuary
END:VEVENT
BEGIN:VEVENT
DTSTART;TZID=America/New_York:20260205T193000
DTEND;TZID=America/New_York:20260205T210000
DTSTAMP:20260419T123022
CREATED:20251222T185354Z
LAST-MODIFIED:20251222T185354Z
UID:29391-1770319800-1770325200@www.gracechurchamherst.org
SUMMARY:Choir Rehearsal
DESCRIPTION:
URL:https://www.gracechurchamherst.org/event/choir-rehearsal-116/
LOCATION:Sanctuary
END:VEVENT
BEGIN:VEVENT
DTSTART;TZID=America/New_York:20260206T090000
DTEND;TZID=America/New_York:20260206T100000
DTSTAMP:20260419T123022
CREATED:20260130T160109Z
LAST-MODIFIED:20260130T160109Z
UID:29573-1770368400-1770372000@www.gracechurchamherst.org
SUMMARY:Garden Ministry Meeting
DESCRIPTION:
URL:https://www.gracechurchamherst.org/event/garden-ministry-meeting-8/
LOCATION:Connector
END:VEVENT
BEGIN:VEVENT
DTSTART;TZID=America/New_York:20260206T173000
DTEND;TZID=America/New_York:20260206T183000
DTSTAMP:20260419T123022
CREATED:20260123T174522Z
LAST-MODIFIED:20260123T174522Z
UID:29541-1770399000-1770402600@www.gracechurchamherst.org
SUMMARY:Evensong
DESCRIPTION:
URL:https://www.gracechurchamherst.org/event/evensong-59/
LOCATION:Sanctuary
END:VEVENT
BEGIN:VEVENT
DTSTART;TZID=America/New_York:20260207T100000
DTEND;TZID=America/New_York:20260207T110000
DTSTAMP:20260419T123022
CREATED:20251212T195621Z
LAST-MODIFIED:20251212T195621Z
UID:29203-1770458400-1770462000@www.gracechurchamherst.org
SUMMARY:Zoom Bible Study
DESCRIPTION:
URL:https://www.gracechurchamherst.org/event/zoom-bible-study-74/
END:VEVENT
BEGIN:VEVENT
DTSTART;TZID=America/New_York:20260207T120000
DTEND;TZID=America/New_York:20260207T170000
DTSTAMP:20260419T123022
CREATED:20260130T160256Z
LAST-MODIFIED:20260130T160256Z
UID:29577-1770465600-1770483600@www.gracechurchamherst.org
SUMMARY:Haiti Ministry Soup Extravaganza
DESCRIPTION:The Haiti Soup Supper Annual Extravaganza is next Saturday\, February 7!  Over 26 delicious soups\, chowders\, and chilis have been donated by parishioners as well as by generous local partners. A meal will consist of a quart of soup\, homemade bread\, and cookies that will be enough for two.  All proceeds benefit the St. Matthew’s School in Haiti. Order soup today at the annual meeting or online at https://shorturl.at/96Ndc.
URL:https://www.gracechurchamherst.org/event/haiti-ministry-soup-extravaganza/
END:VEVENT
BEGIN:VEVENT
DTSTART;TZID=America/New_York:20260207T170000
DTEND;TZID=America/New_York:20260207T180000
DTSTAMP:20260419T123022
CREATED:20260130T160454Z
LAST-MODIFIED:20260130T160454Z
UID:29579-1770483600-1770487200@www.gracechurchamherst.org
SUMMARY:AA Meeting
DESCRIPTION:
URL:https://www.gracechurchamherst.org/event/aa-meeting-322/
LOCATION:Parish Hall\, Spring Street
END:VEVENT
BEGIN:VEVENT
DTSTART;TZID=America/New_York:20260207T200000
DTEND;TZID=America/New_York:20260207T210000
DTSTAMP:20260419T123022
CREATED:20260130T160637Z
LAST-MODIFIED:20260130T160637Z
UID:29585-1770494400-1770498000@www.gracechurchamherst.org
SUMMARY:AA Meeting
DESCRIPTION:
URL:https://www.gracechurchamherst.org/event/aa-meeting-325/
LOCATION:Parish Hall\, Spring Street
END:VEVENT
BEGIN:VEVENT
DTSTART;TZID=America/New_York:20260208T080000
DTEND;TZID=America/New_York:20260208T090000
DTSTAMP:20260419T123022
CREATED:20260130T160802Z
LAST-MODIFIED:20260130T160802Z
UID:29589-1770537600-1770541200@www.gracechurchamherst.org
SUMMARY:Holy Eucharist
DESCRIPTION:
URL:https://www.gracechurchamherst.org/event/holy-eucharist-58/
LOCATION:Sanctuary
END:VEVENT
BEGIN:VEVENT
DTSTART;TZID=America/New_York:20260208T090000
DTEND;TZID=America/New_York:20260208T220000
DTSTAMP:20260419T123022
CREATED:20260202T200759Z
LAST-MODIFIED:20260202T200759Z
UID:29608-1770541200-1770588000@www.gracechurchamherst.org
SUMMARY:Coffee Hour
DESCRIPTION:
URL:https://www.gracechurchamherst.org/event/coffee-hour-47/
LOCATION:Connector
END:VEVENT
BEGIN:VEVENT
DTSTART;TZID=America/New_York:20260208T091500
DTEND;TZID=America/New_York:20260208T101500
DTSTAMP:20260419T123022
CREATED:20260202T200234Z
LAST-MODIFIED:20260202T200234Z
UID:29596-1770542100-1770545700@www.gracechurchamherst.org
SUMMARY:Youth Choir Rehearsal
DESCRIPTION:
URL:https://www.gracechurchamherst.org/event/youth-choir-rehearsal-18/
LOCATION:Parke House on Spring Street
END:VEVENT
BEGIN:VEVENT
DTSTART;TZID=America/New_York:20260208T103000
DTEND;TZID=America/New_York:20260208T113000
DTSTAMP:20260419T123022
CREATED:20260202T201034Z
LAST-MODIFIED:20260202T201034Z
UID:29618-1770546600-1770550200@www.gracechurchamherst.org
SUMMARY:Holy Eucharist
DESCRIPTION:
URL:https://www.gracechurchamherst.org/event/holy-eucharist-59/
LOCATION:Sanctuary
END:VEVENT
BEGIN:VEVENT
DTSTART;TZID=America/New_York:20260208T113000
DTEND;TZID=America/New_York:20260208T123000
DTSTAMP:20260419T123022
CREATED:20260109T145214Z
LAST-MODIFIED:20260109T145214Z
UID:29479-1770550200-1770553800@www.gracechurchamherst.org
SUMMARY:Coffee Hour
DESCRIPTION:
URL:https://www.gracechurchamherst.org/event/coffee-hour-46/
LOCATION:Columbarium
END:VEVENT
BEGIN:VEVENT
DTSTART;TZID=America/New_York:20260208T120000
DTEND;TZID=America/New_York:20260208T170000
DTSTAMP:20260419T123022
CREATED:20260202T201459Z
LAST-MODIFIED:20260202T201459Z
UID:29632-1770552000-1770570000@www.gracechurchamherst.org
SUMMARY:Iconography
DESCRIPTION:
URL:https://www.gracechurchamherst.org/event/iconography-3/
LOCATION:Parish Hall\, Spring Street
END:VEVENT
BEGIN:VEVENT
DTSTART;TZID=America/New_York:20260208T121500
DTEND;TZID=America/New_York:20260208T131500
DTSTAMP:20260419T123022
CREATED:20260202T201259Z
LAST-MODIFIED:20260202T201259Z
UID:29626-1770552900-1770556500@www.gracechurchamherst.org
SUMMARY:Climate Action@Grace
DESCRIPTION:
URL:https://www.gracechurchamherst.org/event/climate-actiongrace/
LOCATION:Fireplace Room in Parke House
END:VEVENT
BEGIN:VEVENT
DTSTART;TZID=America/New_York:20260208T193000
DTEND;TZID=America/New_York:20260208T203000
DTSTAMP:20260419T123022
CREATED:20260109T145500Z
LAST-MODIFIED:20260109T145500Z
UID:29489-1770579000-1770582600@www.gracechurchamherst.org
SUMMARY:AA Meeting
DESCRIPTION:
URL:https://www.gracechurchamherst.org/event/aa-meeting-311/
LOCATION:Parish Hall\, Spring Street
END:VEVENT
BEGIN:VEVENT
DTSTART;TZID=America/New_York:20260209T100000
DTEND;TZID=America/New_York:20260209T103000
DTSTAMP:20260419T123022
CREATED:20260202T201611Z
LAST-MODIFIED:20260202T201611Z
UID:29636-1770631200-1770633000@www.gracechurchamherst.org
SUMMARY:Staff Meeting
DESCRIPTION:
URL:https://www.gracechurchamherst.org/event/staff-meeting-11/
END:VEVENT
BEGIN:VEVENT
DTSTART;TZID=America/New_York:20260209T190000
DTEND;TZID=America/New_York:20260209T200000
DTSTAMP:20260419T123022
CREATED:20260130T155804Z
LAST-MODIFIED:20260130T155804Z
UID:29563-1770663600-1770667200@www.gracechurchamherst.org
SUMMARY:AA Meeting
DESCRIPTION:
URL:https://www.gracechurchamherst.org/event/aa-meeting-317/
LOCATION:Parish Hall\, Spring Street
END:VEVENT
BEGIN:VEVENT
DTSTART;TZID=America/New_York:20260209T190000
DTEND;TZID=America/New_York:20260209T210000
DTSTAMP:20260419T123022
CREATED:20260109T145649Z
LAST-MODIFIED:20260109T145649Z
UID:29493-1770663600-1770670800@www.gracechurchamherst.org
SUMMARY:Joy of Living Group
DESCRIPTION:
URL:https://www.gracechurchamherst.org/event/joy-of-living-group-56/
LOCATION:Connector
END:VEVENT
BEGIN:VEVENT
DTSTART;TZID=America/New_York:20260210T093000
DTEND;TZID=America/New_York:20260210T113000
DTSTAMP:20260419T123022
CREATED:20251223T212034Z
LAST-MODIFIED:20251223T212034Z
UID:29410-1770715800-1770723000@www.gracechurchamherst.org
SUMMARY:Raising the Questions
DESCRIPTION:
URL:https://www.gracechurchamherst.org/event/raising-the-questions-3/
LOCATION:Connector
END:VEVENT
BEGIN:VEVENT
DTSTART;TZID=America/New_York:20260210T170000
DTEND;TZID=America/New_York:20260210T180000
DTSTAMP:20260419T123022
CREATED:20260209T164518Z
LAST-MODIFIED:20260209T164518Z
UID:29686-1770742800-1770746400@www.gracechurchamherst.org
SUMMARY:Liturgical Comm. Meeting
DESCRIPTION:
URL:https://www.gracechurchamherst.org/event/liturgical-comm-meeting-4/
END:VEVENT
BEGIN:VEVENT
DTSTART;TZID=America/New_York:20260210T171500
DTEND;TZID=America/New_York:20260210T181500
DTSTAMP:20260419T123022
CREATED:20251230T185343Z
LAST-MODIFIED:20251230T185343Z
UID:29445-1770743700-1770747300@www.gracechurchamherst.org
SUMMARY:AA Meeting
DESCRIPTION:
URL:https://www.gracechurchamherst.org/event/aa-meeting-307/
LOCATION:Parish Hall\, Spring Street
END:VEVENT
END:VCALENDAR